BEGIN:VCALENDAR
VERSION:2.0
PRODID:-//The Classics Library - ECPv6.15.20//NONSGML v1.0//EN
CALSCALE:GREGORIAN
METHOD:PUBLISH
X-WR-CALNAME:The Classics Library
X-ORIGINAL-URL:https://www.theclassicslibrary.com
X-WR-CALDESC:Events for The Classics Library
REFRESH-INTERVAL;VALUE=DURATION:PT1H
X-Robots-Tag:noindex
X-PUBLISHED-TTL:PT1H
BEGIN:VTIMEZONE
TZID:Europe/London
BEGIN:DAYLIGHT
TZOFFSETFROM:+0000
TZOFFSETTO:+0100
TZNAME:BST
DTSTART:20150329T010000
END:DAYLIGHT
BEGIN:STANDARD
TZOFFSETFROM:+0100
TZOFFSETTO:+0000
TZNAME:GMT
DTSTART:20151025T010000
END:STANDARD
BEGIN:DAYLIGHT
TZOFFSETFROM:+0000
TZOFFSETTO:+0100
TZNAME:BST
DTSTART:20160327T010000
END:DAYLIGHT
BEGIN:STANDARD
TZOFFSETFROM:+0100
TZOFFSETTO:+0000
TZNAME:GMT
DTSTART:20161030T010000
END:STANDARD
BEGIN:DAYLIGHT
TZOFFSETFROM:+0000
TZOFFSETTO:+0100
TZNAME:BST
DTSTART:20170326T010000
END:DAYLIGHT
BEGIN:STANDARD
TZOFFSETFROM:+0100
TZOFFSETTO:+0000
TZNAME:GMT
DTSTART:20171029T010000
END:STANDARD
END:VTIMEZONE
BEGIN:VEVENT
DTSTART;VALUE=DATE:20160601
DTEND;VALUE=DATE:20160603
DTSTAMP:20260422T042525
CREATED:20160503T113225Z
LAST-MODIFIED:20160503T113225Z
UID:40628-1464822000-1464908399@www.theclassicslibrary.com
SUMMARY:Year 11/12 Classics and English day at University of Oxford - please note change of date - 2nd of June 2016
DESCRIPTION:CLASSICS AND ENGLISH DAY\nUNIVERSITY OF OXFORD – THURSDAY 2 JUNE 2016\n\n\n\nFrom Rome to Panem: epic\, satire and the city\n\nThe Faculty of Classics\, together with Oriel College and Regent’s Park College\, are proud to offer UK Year 11 and Year 12 students an introduction to studying Classics and English at university. The day will include a taster seminar\, lunch in the main dining hall\, two college tours with current students\, and in-depth information on the Oxford admissions process. The day is entirely free of charge. \nCities rise and fall; they are the highest expression of a civilisation’s cultural achievements and they plumb the depths of corruption and degradation. Aeneas flees from the burning city of Troy to fulfil his destiny to found Rome but that can only be achieved through the deaths of young men and women and the destruction of individual hopes. Satan builds the city of Pandaemonium to destroy humanity but gazes with hate-filled longing on the salvation represented by the heavenly city. Disaffected satirists despise and exploit the hunger of citizens for bread and circuses from ancient Rome to the Capitol of Panem. They hate the corruption they see but know that they are part of it. Beauty and power\, corruption and filth are equally exciting.  This taster day will give you the opportunity to explore literature ancient and modern\, familiar and unfamiliar and decide whether winning the glittering prize of the city is ever worth the sacrifices required. \n \nPlease complete the booking form below by 12pm\, 13 May 2016. We are expecting this to be a popular event\, so bookings will be accepted on a first come-first served basis. If you have any questions about the day\, please contact Mai Musie at mai.musie@classics.ox.ac.uk. \n\nPROVISIONAL PROGRAMME\nOriel College (OX1 4EW): \n10.00 — Arrival at Oriel College \n10.30 – 11.15 Classics and English Admissions talk\, with Dr Kathryn Murphy and Ms Mai Musié \n11.30 – 12.00 Tour of Oriel with current undergraduates \nRegent’s Park College (OX1 2LB): \n12.15 – 13.15 Lunch (provided free of charge) \n13.30 – 14.30 Academic seminars: ‘From Rome to Panem: satire\, epic and the city’ led by Dr Peta Fowler\, Dr Lynne Robson\, Dr Llewelyn Morgan \n14.30 – 15.00 Tea break \n15.00 – 15.30 The Archive of Performance of Greek and Roman Drama at Oxford\, Professor Fiona Macintosh \n15.30 — 16.00 Feedback/evaluation and departure \nFor booking details: http://www.oriel.ox.ac.uk/content/classics-and-english-day \n 
URL:https://www.theclassicslibrary.com/event/year-1112-classics-and-english-day-at-university-of-oxford-please-note-change-of-date-2nd-of-june-2016/
LOCATION:University of Oxford\, Oxford\, United Kingdom
CATEGORIES:events
ATTACH;FMTTYPE=image/jpeg:https://www.theclassicslibrary.com/wp-content/uploads/2011/12/small_oxford.jpg
ORGANIZER;CN="Mai Musie":MAILTO:mai.musie@classics.ox.ac.uk
END:VEVENT
END:VCALENDAR