BEGIN:VCALENDAR
VERSION:2.0
PRODID:-//The Classics Library - ECPv6.15.20//NONSGML v1.0//EN
CALSCALE:GREGORIAN
METHOD:PUBLISH
X-ORIGINAL-URL:https://www.theclassicslibrary.com
X-WR-CALDESC:Events for The Classics Library
REFRESH-INTERVAL;VALUE=DURATION:PT1H
X-Robots-Tag:noindex
X-PUBLISHED-TTL:PT1H
BEGIN:VTIMEZONE
TZID:Europe/London
BEGIN:DAYLIGHT
TZOFFSETFROM:+0000
TZOFFSETTO:+0100
TZNAME:BST
DTSTART:20150329T010000
END:DAYLIGHT
BEGIN:STANDARD
TZOFFSETFROM:+0100
TZOFFSETTO:+0000
TZNAME:GMT
DTSTART:20151025T010000
END:STANDARD
BEGIN:DAYLIGHT
TZOFFSETFROM:+0000
TZOFFSETTO:+0100
TZNAME:BST
DTSTART:20160327T010000
END:DAYLIGHT
BEGIN:STANDARD
TZOFFSETFROM:+0100
TZOFFSETTO:+0000
TZNAME:GMT
DTSTART:20161030T010000
END:STANDARD
BEGIN:DAYLIGHT
TZOFFSETFROM:+0000
TZOFFSETTO:+0100
TZNAME:BST
DTSTART:20170326T010000
END:DAYLIGHT
BEGIN:STANDARD
TZOFFSETFROM:+0100
TZOFFSETTO:+0000
TZNAME:GMT
DTSTART:20171029T010000
END:STANDARD
END:VTIMEZONE
BEGIN:VEVENT
DTSTART;TZID=Europe/London:20160609T160000
DTEND;TZID=Europe/London:20160609T164000
DTSTAMP:20260422T024641
CREATED:20160430T115147Z
LAST-MODIFIED:20160430T115147Z
UID:40236-1465488000-1465490400@www.theclassicslibrary.com
SUMMARY:Toil and Trouble: Magic in Roman Britain - community talk
DESCRIPTION:Thursday 9th June. 5 – 5.40pm followed by drinks \nToil and Trouble: Magic in Roman Britain – a community talk at the Iris Classics Centre at Cheney School \nAdam Parker\, excitable Roman archaeologist\, is the Assistant Curator of Archaeology at the Yorkshire Museum and a part-time PhD Student with the Open University\, investigating the archaeology of magic in Roman Britain. His presentation will introduce how people protected themselves from bad luck\, demons and the ever present Evil Eye by using magical objects\, lucky jewellery\, spells\, chants\, and sexual imagery in the first to fourth centuries AD. \nThe talk is suitable for ages 13+ to adult. \nTo book\, please email info@irisproject.org.uk \n 
URL:https://www.theclassicslibrary.com/event/toil-and-trouble-magic-in-roman-britain-community-talk/
LOCATION:East Oxford Community Classics Centre\, Cheney Lane\, Headington\, Oxford\, OX3 7QH\, United Kingdom
CATEGORIES:events
ATTACH;FMTTYPE=image/jpeg:https://www.theclassicslibrary.com/wp-content/uploads/2016/04/iris-big.jpg
ORGANIZER;CN="Lorna Robinson":MAILTO:info@irisproject.org.uk
END:VEVENT
BEGIN:VEVENT
DTSTART;TZID=Europe/London:20160609T194500
DTEND;TZID=Europe/London:20160609T210000
DTSTAMP:20260422T024641
CREATED:20151029T134820Z
LAST-MODIFIED:20151029T134820Z
UID:11931-1465501500-1465506000@www.theclassicslibrary.com
SUMMARY:‘Was Judaea Rome’s Northern Ireland?’
DESCRIPTION:A Classical Association in Northern Ireland talk \nDr John Curran (QUB) \nThursday 9th June 2016\, 6.45 p.m. (followed by summer drinks) \nThe Old Staff Common Room\, Queen’s University\, Belfast
URL:https://www.theclassicslibrary.com/event/was-judaea-romes-northern-ireland/
LOCATION:Queen’s University\, Belfast\, BT7 1NN\, United Kingdom
CATEGORIES:events
ATTACH;FMTTYPE=image/jpeg:https://www.theclassicslibrary.com/wp-content/uploads/2015/10/index.jpg
END:VEVENT
END:VCALENDAR