BEGIN:VCALENDAR
VERSION:2.0
PRODID:-//The Classics Library - ECPv6.15.20//NONSGML v1.0//EN
CALSCALE:GREGORIAN
METHOD:PUBLISH
X-WR-CALNAME:The Classics Library
X-ORIGINAL-URL:https://www.theclassicslibrary.com
X-WR-CALDESC:Events for The Classics Library
REFRESH-INTERVAL;VALUE=DURATION:PT1H
X-Robots-Tag:noindex
X-PUBLISHED-TTL:PT1H
BEGIN:VTIMEZONE
TZID:Europe/London
BEGIN:DAYLIGHT
TZOFFSETFROM:+0000
TZOFFSETTO:+0100
TZNAME:BST
DTSTART:20150329T010000
END:DAYLIGHT
BEGIN:STANDARD
TZOFFSETFROM:+0100
TZOFFSETTO:+0000
TZNAME:GMT
DTSTART:20151025T010000
END:STANDARD
BEGIN:DAYLIGHT
TZOFFSETFROM:+0000
TZOFFSETTO:+0100
TZNAME:BST
DTSTART:20160327T010000
END:DAYLIGHT
BEGIN:STANDARD
TZOFFSETFROM:+0100
TZOFFSETTO:+0000
TZNAME:GMT
DTSTART:20161030T010000
END:STANDARD
BEGIN:DAYLIGHT
TZOFFSETFROM:+0000
TZOFFSETTO:+0100
TZNAME:BST
DTSTART:20170326T010000
END:DAYLIGHT
BEGIN:STANDARD
TZOFFSETFROM:+0100
TZOFFSETTO:+0000
TZNAME:GMT
DTSTART:20171029T010000
END:STANDARD
END:VTIMEZONE
BEGIN:VEVENT
DTSTART;TZID=Europe/London:20160613T193000
DTEND;TZID=Europe/London:20160613T223000
DTSTAMP:20260422T024322
CREATED:20160308T133433Z
LAST-MODIFIED:20160308T133433Z
UID:12575-1465846200-1465857000@www.theclassicslibrary.com
SUMMARY:'End of the Roman empire: a mirror for our times?' A lecture by Tom Holland
DESCRIPTION:“As we all know from the Roman Empire\,” said the Dutch Prime Minister late last year\, “big empires go down if the borders are not well-protected.” As Western Europe faces the largest influx of people across its borders since Otto the Great’s defeat of the Magyars in 955\, Tom Holland asks what light\, if any\, the so-called Age of Migrations can shed on today’s crisis. Are there parallels? What are the differences? \nThis is a special event to raise funds for Classics for All’s grant programme for state schools. \nThis is Classics for All’s annual fundraising lecture event\, and we encourage you to give an extra donation above the standard ticket\, which will go towards our ‘grant pot’ for state schools in 2016.  We have suggested amounts here\, but you may also wish to visit our website where you can make a donation. Perhaps you would like to join our ranks of ‘Centurion’ supporters giving £100 per year by direct debit. \nDoors will open at 6.30pm and the talk will start at 7.00pm. \nA teacher and pupils from our Capital Classics project will then say a few words and please join us afterwards for a reception with wine and canapés. \nWhen Monday\, 13 June 2016 from 18:30 to 21:30 (BST)\nWhere Royal Society’s Wellcome Trust Lecture Hall – Carlton House Terrace\, London SW1Y 5AG\, United Kingdom – View Map \nTO BOOK YOUR TICKETS CLICK HERE!
URL:https://www.theclassicslibrary.com/event/end-of-the-roman-empire-a-mirror-for-our-times-a-lecture-by-tom-holland/
LOCATION:Wellcome Trust Lecture Hall\, Carlton House Terrace\, London\, SW1Y 5AG\, United Kingdom
CATEGORIES:events
ATTACH;FMTTYPE=image/jpeg:https://www.theclassicslibrary.com/wp-content/uploads/2012/07/classics-for-all.jpg
END:VEVENT
END:VCALENDAR