BEGIN:VCALENDAR
VERSION:2.0
PRODID:-//The Classics Library - ECPv6.15.20//NONSGML v1.0//EN
CALSCALE:GREGORIAN
METHOD:PUBLISH
X-ORIGINAL-URL:https://www.theclassicslibrary.com
X-WR-CALDESC:Events for The Classics Library
REFRESH-INTERVAL;VALUE=DURATION:PT1H
X-Robots-Tag:noindex
X-PUBLISHED-TTL:PT1H
BEGIN:VTIMEZONE
TZID:Europe/London
BEGIN:DAYLIGHT
TZOFFSETFROM:+0000
TZOFFSETTO:+0100
TZNAME:BST
DTSTART:20150329T010000
END:DAYLIGHT
BEGIN:STANDARD
TZOFFSETFROM:+0100
TZOFFSETTO:+0000
TZNAME:GMT
DTSTART:20151025T010000
END:STANDARD
BEGIN:DAYLIGHT
TZOFFSETFROM:+0000
TZOFFSETTO:+0100
TZNAME:BST
DTSTART:20160327T010000
END:DAYLIGHT
BEGIN:STANDARD
TZOFFSETFROM:+0100
TZOFFSETTO:+0000
TZNAME:GMT
DTSTART:20161030T010000
END:STANDARD
BEGIN:DAYLIGHT
TZOFFSETFROM:+0000
TZOFFSETTO:+0100
TZNAME:BST
DTSTART:20170326T010000
END:DAYLIGHT
BEGIN:STANDARD
TZOFFSETFROM:+0100
TZOFFSETTO:+0000
TZNAME:GMT
DTSTART:20171029T010000
END:STANDARD
END:VTIMEZONE
BEGIN:VEVENT
DTSTART;VALUE=DATE:20160618
DTEND;VALUE=DATE:20160620
DTSTAMP:20260422T013909
CREATED:20160113T125418Z
LAST-MODIFIED:20160113T125418Z
UID:12244-1466211600-1466297999@www.theclassicslibrary.com
SUMMARY:Minimus at the British Museum
DESCRIPTION:On Saturday June 18th\, there’s a Minimus Day at the British Museum. It’s for accompanied children from Year 4 upwards. Activities include seeing the Vindolanda tablets\, meeting a Roman re-enactment group and working with author Barbara Bell and illustrator Helen Forte. \nThere will be two separate sessions\, at 10 and at 2.15\, with participants arriving half an hour before to register. We recommend the morning session for schools\, clubs and families from the London area\, and the afternoon session for those travelling from further afield. It costs £10 per person. \nFor more information\, or to make a booking\, email pam@nethaus.co.uk
URL:https://www.theclassicslibrary.com/event/minimus-at-the-british-museum/
LOCATION:British Museum\, Great Russell Street\, London\, WC1B 3DG\, United Kingdom
CATEGORIES:events
ATTACH;FMTTYPE=image/jpeg:https://www.theclassicslibrary.com/wp-content/uploads/2016/01/minimus-day-2.jpg
END:VEVENT
BEGIN:VEVENT
DTSTART;VALUE=DATE:20160618
DTEND;VALUE=DATE:20160620
DTSTAMP:20260422T013909
CREATED:20160224T171819Z
LAST-MODIFIED:20160224T171819Z
UID:12501-1466211600-1466297999@www.theclassicslibrary.com
SUMMARY:Free Taster Day in Latin and Classics\, Cambridge University
DESCRIPTION:Never tried learning Latin?\n\n\n\n\n\n18 June 2016 – 10:00am\n\n\n\nCome to our Free Latin Taster Day to get a full day’s introduction to this famous language. more… \nFree Taster Day in Latin and Classics\nThe aim of this ‘taster day’ is to give prospective applicants for a Classics Degree at the University of Cambridge the opportunity to experience teaching in a University environment and to decide whether learning Latin is something that they would enjoy. The day includes small-group Latin lessons and a lecture on a Classical Theme. This year’s Taster Day will be on Saturday 18 June 2016. See below for a programme of last year’s event to get a taste of what is on offer. \nThe day is open to anyone who has never studied Latin at School or 6th Form College. \nThe day is FREE. At the moment we are placing no limit on numbers. If a limit has to be imposed\, we shall accept students in the order in which they book. \nVenue: Faculty of Classics\, Sidgwick Avenue\, Cambridge\, CB3 9DA. Light refreshments will be provided. For lunch\, the nearest shop is about seven minutes walk away; but students are welcome (and encouraged) to bring a packed lunch. \nClick here to book your place.\nLatin Taster Day 2015 Programme \n10.15–10.45:   Registration and coffee (Room G.21) \n10.45–11.40:   Learning Latin I (Rooms 1.16\, 2.03\, 2.04\, 2.08) \n11.45–12.00:   Break (Room G.21) \n12.00–12.45:   Lecture:  Latin in the field: excavating a Roman town in Central Italy\n(Dr Alessandro Launaro\, Room G.19) \n12.45–1.45:     Lunch \n1.45–2.45:       Learning Latin II (Rooms 1.16\, 2.03\, 2.04\, 2.08) \n2.45–3.00:       Break \n3.00–3.45:       Lecture: How Latin became French. And Italian\, Spanish\, Romanian …\n(Dr Nick Zair\, Room G.19)
URL:https://www.theclassicslibrary.com/event/free-taster-day-in-latin-and-classics-cambridge-university/
LOCATION:Cambridge University\, Cambridge\, United Kingdom
CATEGORIES:events
ATTACH;FMTTYPE=image/png:https://www.theclassicslibrary.com/wp-content/uploads/2013/08/Cambridge_Logo.png
END:VEVENT
END:VCALENDAR