BEGIN:VCALENDAR
VERSION:2.0
PRODID:-//The Classics Library - ECPv6.15.20//NONSGML v1.0//EN
CALSCALE:GREGORIAN
METHOD:PUBLISH
X-WR-CALNAME:The Classics Library
X-ORIGINAL-URL:https://www.theclassicslibrary.com
X-WR-CALDESC:Events for The Classics Library
REFRESH-INTERVAL;VALUE=DURATION:PT1H
X-Robots-Tag:noindex
X-PUBLISHED-TTL:PT1H
BEGIN:VTIMEZONE
TZID:Europe/London
BEGIN:DAYLIGHT
TZOFFSETFROM:+0000
TZOFFSETTO:+0100
TZNAME:BST
DTSTART:20150329T010000
END:DAYLIGHT
BEGIN:STANDARD
TZOFFSETFROM:+0100
TZOFFSETTO:+0000
TZNAME:GMT
DTSTART:20151025T010000
END:STANDARD
BEGIN:DAYLIGHT
TZOFFSETFROM:+0000
TZOFFSETTO:+0100
TZNAME:BST
DTSTART:20160327T010000
END:DAYLIGHT
BEGIN:STANDARD
TZOFFSETFROM:+0100
TZOFFSETTO:+0000
TZNAME:GMT
DTSTART:20161030T010000
END:STANDARD
BEGIN:DAYLIGHT
TZOFFSETFROM:+0000
TZOFFSETTO:+0100
TZNAME:BST
DTSTART:20170326T010000
END:DAYLIGHT
BEGIN:STANDARD
TZOFFSETFROM:+0100
TZOFFSETTO:+0000
TZNAME:GMT
DTSTART:20171029T010000
END:STANDARD
END:VTIMEZONE
BEGIN:VEVENT
DTSTART;VALUE=DATE:20160627
DTEND;VALUE=DATE:20160629
DTSTAMP:20260421T224535
CREATED:20160424T105945Z
LAST-MODIFIED:20160424T105945Z
UID:36639-1467068400-1467154799@www.theclassicslibrary.com
SUMMARY:OCR GCSE/A Level Classics: Teaching and Learning Conference: Classics in the classroom
DESCRIPTION:The Faculty of Classics at Oxford will be hosting the OCR GCSE and A Level Classics: Teaching and Learning Conference: Classics in the classroom on Tuesday 28th of June 2016. \nAimed at/Audience \n\nNew teachers of OCR\nCurrent teachers of OCR\nAll teachers of OCR\nTeachers of any exam board/specification\nTeachers considering OCR\n\nDescription/Aims \nThis fantastic one day CPD event will introduce and enable discussion of innovative and creative approaches to delivering Classical subjects (Classical Civilisation\, Ancient History\, Latin and Classical Greek)\, with a focus on accessibility and widening the appeal of Classics. \nThe conference will include a keynote lecture ‘Widening access to Classics through Classical Civilisation and Ancient History: the ‘FORTGRIT’ project’ from Dr Arlene Holmes-Henderson. Outlining current and future efforts to promote the study of non-linguistic Classics in UK schools\, this talk will feature a number of case study schools which have introduced Classical Civilisation and Ancient History to their curriculum. In addition to sharing the feedback from learners and teachers\, this talk will make suggestions about the role of non-linguistic Classics in the future landscape of UK Classics education. \nThe day will also offer a choice of workshop sessions\, running parallel throughout the day. Each of these sessions will concentrate on a specific topic\, allowing you to book onto those most relevant to your teaching requirements\, and will focus on innovative\, engaging teaching and learning techniques with a real focus on classroom practice. When placing your booking\, please select the three sessions you would like to attend: \nHobbits\, Heroes and Homer: using film to teach epic poetry Caroline Bristow \nIt can be difficult to convey the excitement and drama of Homer’s Iliad and Odyssey to a 21st century classroom: many students view ancient epic as a dry\, outdated part of an examination syllabus which is to be endured and not enjoyed. Today’s students do\, however\, understand the role played by film in capturing audiences’ imaginations and creating heroic\, iconic figures.  By studying popular films\, arguably the true modern successor to epic\, students’ understanding of Homer’s narrative decisions and style can be enhanced in an accessible and enjoyable way. In this session Caroline Bristow will discuss and illustrate how this often underused and undervalued medium can be used to engage students in their studies of epic poetry; demonstrating that far from a mere end of term treat\, movies can be an effective and academically challenging teaching tool. \nNew approaches to Greek Luke Marquez \nThe bustling revellers of the Dionysia would have listened enraptured as a lone actor delivered yet another impassioned speech; Greek tragedy was a visceral and experiential art\, so why when we study it are we spending so much time with our heads in books?  Keeping Greek Tragedy interesting and relevant to today’s students can be quite a challenge. Using some of the techniques employed by drama practitioners\, we can breathe life into the text. Engaging students in an embodied exploration of the text provides opportunity for discussion\, debate and analysis of the underlying themes. In this session Luke Marquez will offer practical exercises for exploring Greek tragedy as performance\, using techniques from contemporary theatre practices and his own teaching experience. He will discuss the importance of engaging students in the play’s dramatic potential\, making it accessible to a wide range of learners and also enabling students to better understand the text’s original purpose and impact. \nThe Latin Programme – New approaches to Latin Zanna Wing-Davey \nSince 2008\, The Latin Programme has provided innovative\, interactive hands-on learning to London’s children\, significantly improving their literacy results.  The Latin Programme challenges the traditional pedagogy of Classical languages by using songs\, games\, raps and storytelling to bring Latin to life. In this engaging and active session Zanna Wing-Davey\, Teacher and Executive Director will share some of the techniques used by The Latin Programme and work with participants on how to put them into practice in Latin lessons. \nLearning from objects Clare Cory \nLearning from objects is an exciting and invaluable approach to learning about the past. Objects connect us to people\, places and events in a unique\, inspiring and engaging way.  They fire the imagination\, stimulate curiosity and encourage us to ask questions and learn in innovative ways. Whilst a school trip to Rome or Pompeii might be an excellent experience\, often overlooked is the wealth of visual and material evidence available to schools and students here in the UK.  Often teachers do not realise what is available\, or lack confidence in accessing these resources and creating effective learning opportunities using them. In this session Clare Cory will introduce approaches to learning from objects to use with students. She will explain what museums and galleries can offer teachers and how to get the most from them. \nLanguage learning across languages Dr Philomen Probert \nWhen we learn languages we often find some things harder than others. For example\, the distinction between masculine and feminine nouns in French is difficult for English speakers\, but basic French word order is a bit easier. The use of the English word ‘the’ is very difficult for Russian speakers\, but a bit easier for French speakers. (English spelling is difficult for everybody…) For these reasons\, different points need emphasis when we teach different languages to different groups of people. Yet ways of talking about languages have also influenced one another across languages and cultures. In western Europe this historically meant that for a long time Latin grammars provided a template for grammars of modern European languages. The recent history of language teaching and learning has involved considerable efforts to describe languages on their own terms\, rather than squeezing one language into a grammatical model designed for another. This talk will argue that\, although this has been an excellent and much-needed development\, it is worth exploring the template-based ways in which languages have historically been considered. This will encourage reflection on language teaching today\, and how it differs from that of the past\, and also perhaps highlight how historical practices may after all have something to add to our understanding of language learning. \nFurther details of the workshop sessions and speakers will be released in advance of the event both on the CPD Hub and through notifications sent to those who have already booked their place.  \nBook now to secure your place! \nhttps://www.cpdhub.ocr.org.uk/DesktopDefault.aspx?e=eeefkacmhhpiblncfgpfbpepiopjembfcnjanabfpkdgbhbkjm \nFee/Other \nPlease note\, content may be subject to change.  \nThis course is £65.00 and includes a set of essential course materials. Refreshments and a light lunch will be provided at the course.
URL:https://www.theclassicslibrary.com/event/ocr-gcsea-level-classics-teaching-and-learning-conference-classics-in-the-classroom/
LOCATION:University of Oxford\, Oxford\, United Kingdom
ATTACH;FMTTYPE=image/jpeg:https://www.theclassicslibrary.com/wp-content/uploads/2016/04/ocr.jpg
END:VEVENT
BEGIN:VEVENT
DTSTART;VALUE=DATE:20160628
DTEND;VALUE=DATE:20160630
DTSTAMP:20260421T224535
CREATED:20160515T101948Z
LAST-MODIFIED:20160515T101948Z
UID:40700-1467154800-1467241199@www.theclassicslibrary.com
SUMMARY:University of Cambridge Study Day for Sixth Form Classicists
DESCRIPTION:Dear Classicists\, \nThe final programme for our Cambridge study day for those preparing for Yr13/U6 next year is now available below. As well as a range of lectures for the students\, based on the school syllabus\, there are also special sessions for teachers on Teaching Latin Prose Set Texts\, and the Future of Classical Civilisation. The event is free to attend and there are a limited number of hardship travel bursaries available. Individual and group bookings are welcome. \nTo find out more and to book your place\, please visit http://www.greeksromansus.classics.cam.ac.uk/events/get-ahead-with-your-a-levels \nBest Wishes\,\nMax \nAn Introduction to Studying the Ancient World in Yr13/U6 \nWednesday\, 29 June 2016 \n10.00 – 10.30: Registration \nParticipants are welcome to come to any lecture or tour that interests them. However\, the sessions will be of particular relevance to those studying the subjects listed beneath the titles of the options. \n10.30 – 11.20: Session 1:  \nOption 1: Virgil’s Aeneid\nIngo Gildenhard (King’s)\nFor Classical Civilization students studying “Roman Epic”\, “Virgil and the World of the Hero”\, “Roman Epic”\nFor Latin students studying Virgil\, Aeneid 6 \nOption 2: The Poems of Catullus\nDavid Butterfield (Queens’)\nFor Latin students studying Catullus \nOption 3: Greek Art and Architecture\nRobin Osborne (King’s)\nFor Classical Civilization students studying Greek Art and Architecture and any other who are interested \n11.30 – 12.20: Session 2: \nOption 1: Pliny’s Letters\nChris Whitton (Emmanuel)\nFor Latin students studying Pliny \nOption 2: Tacitus and Tiberius\nStephen Oakley (Emmanuel)\nFor Classical Civilization students studying “Tiberius and Claudius” or “Roman History: The Use and Abuse of Power”\nFor Latin students studying Tacitus\, Annals 4 \nOption 3: Women in Athens and Rome\nRosanna Omitowoju (King’s)\nFor Classical Civilization students studying “Women in Athens and Rome” and any other who are interested in gender issues \n12.20 – 14.00: Packed Lunch & College Tours\, inclusive of ‘Applying to Cambridge’ Q & A (optional). The Museum of Classical Archaeology* on the Sidgwick Site will also be open for individual visits to the casts. \n14.00 – 14.50: Session 3: \nOption 1: Tragedy at Athens\nRenaud Gagné (Pembroke)\nFor Classical Civilization students studying “Greek Tragedy”\nFor Greek students studying Sophocles\, Antigone \nOption 2: Ancient Comedy\nTim Whitmarsh (St. John’s)\nFor Classical Civilization students studying “Comic Drama in the Ancient World”\nFor Greek students studying Aristophanes\, Frogs \nOption 3: Augustus: The Architecture of Power\nAlessandro Launaro (Gonville & Caius)\nFor Classical Civilization students studying “Augustus and the Foundation of the Principate” or “Roman History: The Use and Abuse of Power”\nFor Latin students studying Virgil\, Aeneid 6 \nOption 4: A Taster of Ancient Greek \nOption for Teachers: Teaching Latin Prose Set Texts\nKatharine Radice (Stephen Perse Foundation) \n15.00 – 15.50: Session 4: \nOption 1: Socrates and Athens\, with reference to Plato’s Phaedo\nMyrto Hatzimichali (Homerton)\nFor Classical Civilization Students studying “Socrates and Athens”\nFor Greek students studying Plato\, Phaedo \nOption 2: Remembering the Persian Wars\nFranco Basso (Faculty of Classics)\nFor Classical Civilization students studying “The Persian Wars” or “Greek History: Conflict and Culture”\nFor Greek students studying Herodotus 6 \nOption 3: A Guided Tour of the Museum of Classical Archaeology* \nOption for Teachers: The Future of Classical Civilisation\nCaroline Bristow (OCR) \n* The Museum of Classical Archaeology is home to more than 450 casts of ancient Greek and Roman sculpture. But why do we have a collection of copies or ‘fakes’? Join us at 3pm for a guided tour of the casts and their history\, ancient and modern.
URL:https://www.theclassicslibrary.com/event/university-of-cambridge-study-day-for-sixth-form-classicists/
LOCATION:Cambridge University\, Cambridge\, United Kingdom
CATEGORIES:events
ATTACH;FMTTYPE=image/jpeg:https://www.theclassicslibrary.com/wp-content/uploads/2014/10/classical-archaeology-cambridge.jpg
ORGANIZER;CN="Max Kramer":MAILTO:mjk53@cam.ac.uk
END:VEVENT
END:VCALENDAR