BEGIN:VCALENDAR
VERSION:2.0
PRODID:-//The Classics Library - ECPv6.15.20//NONSGML v1.0//EN
CALSCALE:GREGORIAN
METHOD:PUBLISH
X-ORIGINAL-URL:https://www.theclassicslibrary.com
X-WR-CALDESC:Events for The Classics Library
REFRESH-INTERVAL;VALUE=DURATION:PT1H
X-Robots-Tag:noindex
X-PUBLISHED-TTL:PT1H
BEGIN:VTIMEZONE
TZID:Europe/London
BEGIN:DAYLIGHT
TZOFFSETFROM:+0000
TZOFFSETTO:+0100
TZNAME:BST
DTSTART:20150329T010000
END:DAYLIGHT
BEGIN:STANDARD
TZOFFSETFROM:+0100
TZOFFSETTO:+0000
TZNAME:GMT
DTSTART:20151025T010000
END:STANDARD
BEGIN:DAYLIGHT
TZOFFSETFROM:+0000
TZOFFSETTO:+0100
TZNAME:BST
DTSTART:20160327T010000
END:DAYLIGHT
BEGIN:STANDARD
TZOFFSETFROM:+0100
TZOFFSETTO:+0000
TZNAME:GMT
DTSTART:20161030T010000
END:STANDARD
BEGIN:DAYLIGHT
TZOFFSETFROM:+0000
TZOFFSETTO:+0100
TZNAME:BST
DTSTART:20170326T010000
END:DAYLIGHT
BEGIN:STANDARD
TZOFFSETFROM:+0100
TZOFFSETTO:+0000
TZNAME:GMT
DTSTART:20171029T010000
END:STANDARD
END:VTIMEZONE
BEGIN:VEVENT
DTSTART;VALUE=DATE:20160629
DTEND;VALUE=DATE:20160701
DTSTAMP:20260421T223602
CREATED:20160224T172643Z
LAST-MODIFIED:20160224T172643Z
UID:12505-1467162000-1467248399@www.theclassicslibrary.com
SUMMARY:An Introduction to Studying the Ancient World in Yr 13\, Cambridge University
DESCRIPTION:Get ahead with your A-Levels\n\n\n\n\n\n29 June 2016 – 10:00am\n\n\n\nAn Introduction to Studying the Ancient World in Yr 13/Upper 6th for students of Class. Civ.\, Greek\, and Latin. more… \nA study day aimed at those who have just finished AS-Levels and are beginning work on A2-Level Classical Civilization\, Greek\, or Latin. The day will consist of lectures\, given by experts who teach and study at the University of Cambridge\, which will introduce you to the A2 topics and the A2 set texts (and in particular their historical and cultural context) that you will be studying. There will also be an opportunity to take a guided tour of our famous collection of casts of ancient sculpture\, to visit one of the Cambridge Colleges\, to find out more about making a successful application to University\, and – for those who have not yet studied one of the ancient languages – to participate in a taster session in Latin or Greek. See below for last year’s programme\, to get a taste of what is on offer. \nStay over in Cambridge on Wednesday night to attend the University Open Days the next day. \nClick here to book your place.\nProgramme for 2015 \n10.00 – 10.30: Refreshments and Registration \nParticipants are welcome to come to any lecture or tour that interests them. However\, the sessions will be of particular relevance to those studying the subjects listed beneath the titles of the options. \n  \n10.30 – 11.20: Session 1:  \nOption 1: Virgil’s Aeneid:Down to Hell and Back to the Future\nIngo Gildenhard (King’s)\nFor Classical Civilization students studying “Roman Epic”\, “Virgil and the World of the Hero”\, “Roman Epic”\nFor Latin students studying Virgil\, Aeneid 6 \nOption 2: The Poems of Catullus\nStephen Oakley (Emmanuel)\nFor Latin students studying Catullus \nOption 3 (NEW – by popular demand!): The Romans in Britain\nEleri Cousins\nFor Classical Civilization students studying “Roman Britain: Life in the Outpost of Empire” \n11.30 – 12.20: Session 2:  \nOption 1: All the world’s a stage … The art of life in Pliny’s Letters\nChris Whitton (Emmanuel)\nFor Latin students studying Pliny \nOption 2: On Coming After: The Problem of Succession in Imperial Rome\nIngo Gildenhard (King’s)\nFor Classical Civilization students studying “Tiberius and Claudius” or “Roman History: The Use and Abuse of Power”\nFor Latin students studying Tacitus\, Annals 4 \nOption 3: Tour of the Museum of Classical Archaeology (*)\nFor Classical Civilization students studying “Classical Art” and any others who are interested. \n  \n12.20 – 14.00: Packed Lunch & ‘Applying to Cambridge’ Q & A (optional)\nDuring Lunch the Museum will also be open for individual visits to the casts and to the current exhibition: “The Labours of Herakles”: worlds collide in this exhibition by artist Marion Maguire as the ancient hero takes his labours to colonial New Zealand \n  \n14.00 – 14.50: Session 3: \nOption 1: Tragedy at Athens\nRosanna Omitowoju (King’s)\nFor Classical Civilization students studying “Greek Tragedy”\nFor Greek students studying Sophocles\, Antigone \nOption 2: Understanding Ancient Comedy\nRichard Hunter (Trinity)\nFor Classical Civilization students studying “Comic Drama in the Ancient World”\nFor Greek students studying Aristophanes\, Frogs \nOption 3: Augustus\, the first Emperor?\nAlessandro Launaro (Gonville & Caius)\nFor Classical Civilization students studying “Augustus and the Foundation of the Principate” or “Roman History: The Use and Abuse of Power”\nFor Latin students studying Virgil\, Aeneid 6 \n  \n15.00 – 15.50: Session 4: \nOption 1: Socrates and the City\nPaul Millett (Downing)\nFor Classical Civilization Students studying “Socrates and Athens”\nFor Greek students studying Plato\, Phaedo \nOption 2: Remembering the Persian Wars\nFranco Basso (Faculty of Classics)\nFor Classical Civilization students studying “The Persian Wars” or “Greek History: Conflict and Culture”\nFor Greek students studying Herodotus 6 \nOption 3: A Taster of Ancient Greek \nOption 4: Tour of the Museum of Classical Archaeology (*)\nFor Classical Civilization students studying “Classical Art” and any others who are interested. \n  \n(*) The Museum of Classical Archaeology is home to more than 450 casts of ancient Greek and Roman sculpture. But why do we have a collection of copies or ‘fakes’? Join us for a guided tour of the casts and their history\, ancient and modern.
URL:https://www.theclassicslibrary.com/event/an-introduction-to-studying-the-ancient-world-in-yr-13-cambridge-university/
LOCATION:Cambridge University\, Cambridge\, United Kingdom
CATEGORIES:events
ATTACH;FMTTYPE=image/png:https://www.theclassicslibrary.com/wp-content/uploads/2013/08/Cambridge_Logo.png
END:VEVENT
BEGIN:VEVENT
DTSTART;VALUE=DATE:20160629
DTEND;VALUE=DATE:20160702
DTSTAMP:20260421T223602
CREATED:20160430T113817Z
LAST-MODIFIED:20160430T113817Z
UID:40233-1467241200-1467413999@www.theclassicslibrary.com
SUMMARY:Classical Greek Re-enactment shows at Cheney School - 30th June and 1st July
DESCRIPTION:On 30th June and 1st July the Classics Centre is holding two days of Odyssey-themed events\, workshops\, activities and re-enactment shows! The days are organised to coincide with the Year Six Transfer Days\, so incoming students can experience the stories of the Odyssey while attending Cheney School for the first time! \nRe-enactment organisation Comitatus will be with us once more to run a series of classical Greek shows which will also touch upon aspects of Homer’s stories. Alongside the shows there will be themed stalls and activities. \nThe following community re-enactment shows are available to be booked: \nThursday 30th June\, 2 – 3pm – community show including activity stalls \nFriday 1st July\, 2 – 3pm – community show including activity stalls \nTo help cover some of our costs\, we are asking for an entry charge of £1 per person on the door. \nPlease book by emailing info@irisproject.org.uk stating how many places you would like. School groups are very welcome. \nPlease visit www.eoccc.org.uk for further information \n 
URL:https://www.theclassicslibrary.com/event/classical-greek-re-enactment-shows-at-cheney-school-30th-june-and-1st-july/
LOCATION:East Oxford Community Classics Centre\, Cheney Lane\, Headington\, Oxford\, OX3 7QH\, United Kingdom
CATEGORIES:events
ATTACH;FMTTYPE=image/jpeg:https://www.theclassicslibrary.com/wp-content/uploads/2016/04/iris-big.jpg
ORGANIZER;CN="Lorna Robinson":MAILTO:info@irisproject.org.uk
END:VEVENT
BEGIN:VEVENT
DTSTART;VALUE=DATE:20160630
DTEND;VALUE=DATE:20160702
DTSTAMP:20260421T223602
CREATED:20160224T173051Z
LAST-MODIFIED:20160224T173051Z
UID:12508-1467248400-1467334799@www.theclassicslibrary.com
SUMMARY:Classics at Cambridge University: Open Day
DESCRIPTION:Is Cambridge Classics for you?\n\n\n\n\n\n30 June 2016 – 10:00am\n\n\n\nFor students considering applying to Cambridge\,  the best thing to do is see it first-hand. more… \nTo find out more about applying to Cambridge and studying Classics at University come to one of the Cambridge University open days\, this year on the 30 June and 1 July 2016. The days draw more than 8\,000 students. \nAlongside the University events\, the Classics Faculty puts on a specific talk about studying Classics at Cambridge\, a session for the parents of potential Classics students\, a sample lecture which helps you find out what it’s like to study Classics here\, and a stall where potential students can get personalised information and advice from Classics lecturers and students. \nThis year we will be holding our Introduction to the Ancient World at A-Level study day the day before (Wednesday 29 June\, see below for more details and for the separate booking system) so please consider coming a day early and staying over in Cambridge. Some of the Colleges may be able to help with accommodation if you contact them. \nFor more information and to book your place click here.
URL:https://www.theclassicslibrary.com/event/classics-at-cambridge-university-open-day/
LOCATION:Cambridge University\, Cambridge\, United Kingdom
CATEGORIES:events
ATTACH;FMTTYPE=image/png:https://www.theclassicslibrary.com/wp-content/uploads/2013/08/Cambridge_Logo.png
END:VEVENT
END:VCALENDAR