BEGIN:VCALENDAR
VERSION:2.0
PRODID:-//The Classics Library - ECPv6.15.20//NONSGML v1.0//EN
CALSCALE:GREGORIAN
METHOD:PUBLISH
X-WR-CALNAME:The Classics Library
X-ORIGINAL-URL:https://www.theclassicslibrary.com
X-WR-CALDESC:Events for The Classics Library
REFRESH-INTERVAL;VALUE=DURATION:PT1H
X-Robots-Tag:noindex
X-PUBLISHED-TTL:PT1H
BEGIN:VTIMEZONE
TZID:Europe/London
BEGIN:DAYLIGHT
TZOFFSETFROM:+0000
TZOFFSETTO:+0100
TZNAME:BST
DTSTART:20150329T010000
END:DAYLIGHT
BEGIN:STANDARD
TZOFFSETFROM:+0100
TZOFFSETTO:+0000
TZNAME:GMT
DTSTART:20151025T010000
END:STANDARD
BEGIN:DAYLIGHT
TZOFFSETFROM:+0000
TZOFFSETTO:+0100
TZNAME:BST
DTSTART:20160327T010000
END:DAYLIGHT
BEGIN:STANDARD
TZOFFSETFROM:+0100
TZOFFSETTO:+0000
TZNAME:GMT
DTSTART:20161030T010000
END:STANDARD
BEGIN:DAYLIGHT
TZOFFSETFROM:+0000
TZOFFSETTO:+0100
TZNAME:BST
DTSTART:20170326T010000
END:DAYLIGHT
BEGIN:STANDARD
TZOFFSETFROM:+0100
TZOFFSETTO:+0000
TZNAME:GMT
DTSTART:20171029T010000
END:STANDARD
END:VTIMEZONE
BEGIN:VEVENT
DTSTART;VALUE=DATE:20160706
DTEND;VALUE=DATE:20160708
DTSTAMP:20260421T223349
CREATED:20160315T134026Z
LAST-MODIFIED:20160315T134026Z
UID:12655-1467766800-1467853199@www.theclassicslibrary.com
SUMMARY:FREE School Teachers’ Colloquium: Family & Gender in the Classical Curriculum (Royal Holloway)
DESCRIPTION:Wednesday 6th July 2016\, 9.30am onwards \nThis free colloquium is designed for all those who teach aspects of classical culture\, whether as a specialist or second subject\, at any stage of their career. \nWe aim to offer a friendly forum for teachers to share good practice and different approaches to subjects\, which are popular and key to the syllabus\, as well as to network with colleagues from across the country. \nEach workshop will encourage participants’ informal discussion. No prior work is required. Places are free of charge\, and we shall provide refreshments during the day. \nRegister now to reserve your place\, or ask us any queries by contacting Sue Turnbull: sue.turnbull AT royalholloway.ac.uk \nPROGRAMME \n9.30am – Registration and coffee\n10-11 am – Understanding the family and gender from material culture\, Dr. Zena Kamash\n11-11.30 am – Coffee break\n11.30-12.30 pm – The World’s Wife by Carol Ann Duffy: towards a feminist interpretation of classical myth – Ruth Macdonald & Dr. Efi Spentzou\n12.30-1.30pm – Lunch\n1.30-2.30 pm Pliny’s Wife – Professor Richard Alston\n2.30-3 pm – Coffee break\n3-4 pm – Similarity & Difference: teaching ancient Greek ideas about family and gender – Dr. Richard Hawley \nMore details about the day and each of the talks can be found in PDF form at https://www.royalholloway.ac.uk/classics/documents/pdf/classicsteachercolloquium2016pdf.pdf
URL:https://www.theclassicslibrary.com/event/free-school-teachers-colloquium-family-gender-in-the-classical-curriculum-royal-holloway/
LOCATION:Royal Holloway\, University of London\, Egham Hill\, Egham\, Surrey\, TW20 0EX\, United Kingdom
CATEGORIES:events
ATTACH;FMTTYPE=image/png:https://www.theclassicslibrary.com/wp-content/uploads/2014/04/royalhollowaylogo.png
END:VEVENT
BEGIN:VEVENT
DTSTART;TZID=Europe/London:20160706T144500
DTEND;TZID=Europe/London:20160706T160000
DTSTAMP:20260421T223349
CREATED:20160430T114646Z
LAST-MODIFIED:20160430T114646Z
UID:40234-1467816300-1467820800@www.theclassicslibrary.com
SUMMARY:Creative Writing and Classical Myths Workshop for ages 9 - 11 with Emily Hauser
DESCRIPTION:Wednesday 6th July\, 3.45 – 5pm at the Iris Classics Centre at Cheney School \nWe are delighted to announce a Creative Writing workshop for Year 5s and 6s with Emily Hauser\, author of the novel “For the Most Beautiful”. The legend of the Trojan War – peopled with gods and heroes – is re-interpreted and re-imagined in this debut novel\, told from the perspective of the women caught up in this epic tale. Emily’s workshop will explore how she used these ancient stories in her writing\, and enable pupils to experiment with ancient stories in new settings and from different angles. \nThe workshop is suitable for ages 9 to 11. \nTo book\, please email info@irisproject.org.uk \n 
URL:https://www.theclassicslibrary.com/event/creative-writing-and-classical-myths-workshop-for-ages-9-11-with-emily-hauser/
LOCATION:East Oxford Community Classics Centre\, Cheney Lane\, Headington\, Oxford\, OX3 7QH\, United Kingdom
CATEGORIES:events
ATTACH;FMTTYPE=image/jpeg:https://www.theclassicslibrary.com/wp-content/uploads/2016/04/iris-big.jpg
ORGANIZER;CN="Lorna Robinson":MAILTO:info@irisproject.org.uk
END:VEVENT
END:VCALENDAR