BEGIN:VCALENDAR
VERSION:2.0
PRODID:-//The Classics Library - ECPv6.15.20//NONSGML v1.0//EN
CALSCALE:GREGORIAN
METHOD:PUBLISH
X-WR-CALNAME:The Classics Library
X-ORIGINAL-URL:https://www.theclassicslibrary.com
X-WR-CALDESC:Events for The Classics Library
REFRESH-INTERVAL;VALUE=DURATION:PT1H
X-Robots-Tag:noindex
X-PUBLISHED-TTL:PT1H
BEGIN:VTIMEZONE
TZID:Europe/London
BEGIN:DAYLIGHT
TZOFFSETFROM:+0000
TZOFFSETTO:+0100
TZNAME:BST
DTSTART:20150329T010000
END:DAYLIGHT
BEGIN:STANDARD
TZOFFSETFROM:+0100
TZOFFSETTO:+0000
TZNAME:GMT
DTSTART:20151025T010000
END:STANDARD
BEGIN:DAYLIGHT
TZOFFSETFROM:+0000
TZOFFSETTO:+0100
TZNAME:BST
DTSTART:20160327T010000
END:DAYLIGHT
BEGIN:STANDARD
TZOFFSETFROM:+0100
TZOFFSETTO:+0000
TZNAME:GMT
DTSTART:20161030T010000
END:STANDARD
BEGIN:DAYLIGHT
TZOFFSETFROM:+0000
TZOFFSETTO:+0100
TZNAME:BST
DTSTART:20170326T010000
END:DAYLIGHT
BEGIN:STANDARD
TZOFFSETFROM:+0100
TZOFFSETTO:+0000
TZNAME:GMT
DTSTART:20171029T010000
END:STANDARD
END:VTIMEZONE
BEGIN:VEVENT
DTSTART;VALUE=DATE:20160819
DTEND;VALUE=DATE:20160822
DTSTAMP:20260422T012618
CREATED:20160510T125709Z
LAST-MODIFIED:20160510T125709Z
UID:40677-1471647600-1471820399@www.theclassicslibrary.com
SUMMARY:Roman History Courses with the LATIN QVARTER
DESCRIPTION:Join the LATIN QVARTER at Gloucester Cathedral for two Roman history courses and/or one on Roman literature. Hear Latin excerpts read aloud in all three courses\, face central questions on Virgil’s masterpiece\, and enjoy history courses where we’ll knock ideas together to re-imagine ancient times … \n20-21 Aug : Augustus and Rome \n3-4 Sept : The Roman History Express \n5-6 Nov : Women in the Aeneid \nPresented by George Sharpley \nDetails/enrolment: \nwww.latinqvarter.co.uk \n 
URL:https://www.theclassicslibrary.com/event/roman-history-courses-with-the-latin-qvarter/
LOCATION:Gloucester Cathedral\, 12 College Street\, Gloucester\, Gloucestershire\, GL1 2LY\, United Kingdom
CATEGORIES:events
ATTACH;FMTTYPE=image/jpeg:https://www.theclassicslibrary.com/wp-content/uploads/2016/05/latin-qvarter-big.jpg
END:VEVENT
BEGIN:VEVENT
DTSTART;VALUE=DATE:20160821
DTEND;VALUE=DATE:20160825
DTSTAMP:20260422T012618
CREATED:20160515T103759Z
LAST-MODIFIED:20160515T103759Z
UID:40708-1471820400-1472079599@www.theclassicslibrary.com
SUMMARY:Iris Classics Summer School\, 22 - 24th August 2016\, Oxford
DESCRIPTION:News from Iris… \nWe are delighted to be offering introductory Latin and Ancient Greek language classes and activities this summer at the Iris Classics Centre at the Iris Classics Centre Cheney School (www.eoccc.org.uk). \nThe format for each day will be as follows: \n9 – 10.30 – Latin (ages 7 – 10); Latin (ages 11 – 14); Greek (ages 7 – 10); Latin (ages 11 – 14) \n10.30 – 11.15 – refreshments and activities \n11.15 – 12.45 – Latin (ages 7 – 10); Latin (ages 11 – 14); Greek (ages 7 – 10); Latin (ages 11 – 14) \nThe classes will be run by experienced teachers and will include activities as well as language learning. There will be activity stalls and refreshments between the morning classes. \nIf you would like your son/daughter to attend the summer school\, you can book to attend by emailing info@irisproject.org.uk and stating which language class he/she would like to join for the duration of the summer school. \nThe summer school is free of charge\, although we welcome donations to help cover our costs.
URL:https://www.theclassicslibrary.com/event/iris-classics-summer-school-22-24th-august-2016-oxford/
LOCATION:East Oxford Community Classics Centre\, Cheney Lane\, Headington\, Oxford\, OX3 7QH\, United Kingdom
CATEGORIES:events
ATTACH;FMTTYPE=image/jpeg:https://www.theclassicslibrary.com/wp-content/uploads/2016/04/iris-big.jpg
ORGANIZER;CN="Lorna Robinson":MAILTO:info@irisproject.org.uk
END:VEVENT
END:VCALENDAR