BEGIN:VCALENDAR
VERSION:2.0
PRODID:-//The Classics Library - ECPv6.15.20//NONSGML v1.0//EN
CALSCALE:GREGORIAN
METHOD:PUBLISH
X-ORIGINAL-URL:https://www.theclassicslibrary.com
X-WR-CALDESC:Events for The Classics Library
REFRESH-INTERVAL;VALUE=DURATION:PT1H
X-Robots-Tag:noindex
X-PUBLISHED-TTL:PT1H
BEGIN:VTIMEZONE
TZID:Europe/London
BEGIN:DAYLIGHT
TZOFFSETFROM:+0000
TZOFFSETTO:+0100
TZNAME:BST
DTSTART:20150329T010000
END:DAYLIGHT
BEGIN:STANDARD
TZOFFSETFROM:+0100
TZOFFSETTO:+0000
TZNAME:GMT
DTSTART:20151025T010000
END:STANDARD
BEGIN:DAYLIGHT
TZOFFSETFROM:+0000
TZOFFSETTO:+0100
TZNAME:BST
DTSTART:20160327T010000
END:DAYLIGHT
BEGIN:STANDARD
TZOFFSETFROM:+0100
TZOFFSETTO:+0000
TZNAME:GMT
DTSTART:20161030T010000
END:STANDARD
BEGIN:DAYLIGHT
TZOFFSETFROM:+0000
TZOFFSETTO:+0100
TZNAME:BST
DTSTART:20170326T010000
END:DAYLIGHT
BEGIN:STANDARD
TZOFFSETFROM:+0100
TZOFFSETTO:+0000
TZNAME:GMT
DTSTART:20171029T010000
END:STANDARD
END:VTIMEZONE
BEGIN:VEVENT
DTSTART;TZID=Europe/London:20160921T150000
DTEND;TZID=Europe/London:20160921T170000
DTSTAMP:20260422T071017
CREATED:20160908T110620Z
LAST-MODIFIED:20160908T110620Z
UID:41061-1474470000-1474477200@www.theclassicslibrary.com
SUMMARY:'Can a Roman die like Socrates?' A Talk by Michael Trapp.
DESCRIPTION:On Wednesday 21st September at 4.30 pm\, Professor Michael Trapp will be speaking on: \n‘Can a Roman die like Socrates?’ \nSuicide as an act of defiance and a means of escape in the face of defeat and disgrace was a great tradition in Roman political life.  In this illustrated talk\, Professor Trapp explores how some particularly high profile Roman suicides in the late Republic and early Empire modelled their departure – or were portrayed as having done so – on the martyrdom four centuries before of the Athenian philosopher Socrates. He also asks how this piece of Roman imitation went down with subsequent generations of Greeks. \nMichael Trapp is Professor of Greek Literature and Thought at King’s College\, London. He has a particular interest in how figures from antiquity – Socrates is the richest and most provocative of all examples of this – have been re-imagined\, appropriated and represented since their own day. \nThe talk is hosted by the St Paul’s Girls’ School Classics Society. Tea and cake will be served from 4.00 in the Dining Hall and the talk will be held in the Drama Studio. The event will finish between 5.30 and 6.00. There is no charge. \nThe address of the school is St Paul’s Girls’ School\, Brook Green\, London\, W6 7BS; main telephone 020 7603 2288. The nearest tube is Hammersmith. \nAll are welcome\, but if you or your pupils would like to attend\, please email Gregory Wilsdon at gregory.wilsdon@spgs.org with expected numbers as soon as possible and at the latest by Monday 19th September
URL:https://www.theclassicslibrary.com/event/can-a-roman-die-like-socrates-a-talk-by-michael-trapp/
LOCATION:St Paul’s Girls’ School\, London\, United Kingdom
CATEGORIES:events
ATTACH;FMTTYPE=image/jpeg:https://www.theclassicslibrary.com/wp-content/uploads/2016/06/st-pauls-big.jpg
ORGANIZER;CN="Gregory Wilsdon":MAILTO:gregory.wilsdon@spgs.org
END:VEVENT
END:VCALENDAR