BEGIN:VCALENDAR
VERSION:2.0
PRODID:-//The Classics Library - ECPv6.15.20//NONSGML v1.0//EN
CALSCALE:GREGORIAN
METHOD:PUBLISH
X-ORIGINAL-URL:https://www.theclassicslibrary.com
X-WR-CALDESC:Events for The Classics Library
REFRESH-INTERVAL;VALUE=DURATION:PT1H
X-Robots-Tag:noindex
X-PUBLISHED-TTL:PT1H
BEGIN:VTIMEZONE
TZID:Europe/London
BEGIN:DAYLIGHT
TZOFFSETFROM:+0000
TZOFFSETTO:+0100
TZNAME:BST
DTSTART:20150329T010000
END:DAYLIGHT
BEGIN:STANDARD
TZOFFSETFROM:+0100
TZOFFSETTO:+0000
TZNAME:GMT
DTSTART:20151025T010000
END:STANDARD
BEGIN:DAYLIGHT
TZOFFSETFROM:+0000
TZOFFSETTO:+0100
TZNAME:BST
DTSTART:20160327T010000
END:DAYLIGHT
BEGIN:STANDARD
TZOFFSETFROM:+0100
TZOFFSETTO:+0000
TZNAME:GMT
DTSTART:20161030T010000
END:STANDARD
BEGIN:DAYLIGHT
TZOFFSETFROM:+0000
TZOFFSETTO:+0100
TZNAME:BST
DTSTART:20170326T010000
END:DAYLIGHT
BEGIN:STANDARD
TZOFFSETFROM:+0100
TZOFFSETTO:+0000
TZNAME:GMT
DTSTART:20171029T010000
END:STANDARD
END:VTIMEZONE
BEGIN:VEVENT
DTSTART;VALUE=DATE:20160927
DTEND;VALUE=DATE:20160929
DTSTAMP:20260422T071148
CREATED:20160224T171638Z
LAST-MODIFIED:20160224T171638Z
UID:12500-1474938000-1475024399@www.theclassicslibrary.com
SUMMARY:Classical Civilisation Year 12 Study Day
DESCRIPTION:Go deeper into your Topics\n\n\n\n\n\n27 September 2016 – 10:00am\n\n\n\nGet more out of Classical Civilization by coming to our Yr 12/Lower 6th study day. more… \nThe day consists of talks on subjects on the Yr 12/Lower 6th Classical Civilization syllabus given by experts who teach and study at the University of Cambridge. These will help you understand your work in greater depth and show you how what you study fits into the broader context of the ancient world. There will also be an opportunity to take a guided tour of our famous cast gallery of classical sculpture\, to visit one of the Colleges of the University\, to participate in a taster session where you get to experience what it’s like to learn Latin for the first time\, and to find out more about studying at Cambridge and applying successfully to University. See below for last year’s programme to get a taste of what is on offer.\n \nClick here to book your place.\nProgramme for 2015 \n10.00-10.30:    Refreshments & Registration\nLocation: Lady Mitchell Hall Foyer \n  \n10.30-11.20:    SESSION 1 \nOption 1: ‘People power: how the Athenians had real democracy’\nNick Denyer (Trinity)\nLocation: Lecture Block\, Room 3 \nOption 2: ‘The buildings of Pompeii and the history of Rome’\nJohn Patterson (Magdalene)\nLocation: Lecture Block\, Room 6 \nOption 3: ‘Greek Historians’\nFranco Basso (Faculty of Classics)\nLocation: Lecture Block\, Room 6 \n11.30-12.20:    SESSION 2 \nOption 1: ‘Coming Home: Homer’s Odyssey’\nIngo Gildenhard (King’s)\nLocation: Lecture Block\, Room 3 \nOption 2: ‘The kouros as a category’\nNigel Spivey (Emmanuel)\nLocation: Lecture Block\, Room 6 \n12.20 – 14.00: Lunch Break (please bring your own packed lunch)\n12.30–13.30: Optional tour of a Cambridge College\nMeet outside the Lady Mitchell Hall \n13.30–14.00: Applying to Cambridge Q & A\nLocation: Faculty of Classics\, Room G.19 \n14.00-14.50:    SESSION 3 \nOption 1: ‘Greek Tragedy in its Context’\nRosanna Omitowoju (King’s)\nLocation: Lecture Block\, Room 6 \nOption 2: ‘Roman architecture and town planning’\nHannah Price (Trinity)\nLocation: Lecture Block\, Room 3 \nOption 3: ‘Casting light on classical sculpture: from Greece to Rome’ (Museum of Classical Archaeology)\nLocation: Faculty of Classics \n15.00-15.50:    SESSION 4 \nOption 1: ‘What did the Romans do for philosophy?’\nJames Warren (Corpus)\nLocation: Faculty of Classics\, Room G.19 \nOption 2: ‘Founding a City: Virgil’s Aeneid’\nIngo Gildenhard (King’s)\nLocation: Lecture Block\, Room 3 \nOption 3: A Taster of Ancient Greek\nQasim Alli (King’s)\nLocation: Faculty of Classics\, Room G.21
URL:https://www.theclassicslibrary.com/event/classical-civilisation-year-12-study-day/
LOCATION:Cambridge University\, Cambridge\, United Kingdom
CATEGORIES:events
ATTACH;FMTTYPE=image/png:https://www.theclassicslibrary.com/wp-content/uploads/2013/08/Cambridge_Logo.png
END:VEVENT
END:VCALENDAR