BEGIN:VCALENDAR
VERSION:2.0
PRODID:-//The Classics Library - ECPv6.15.20//NONSGML v1.0//EN
CALSCALE:GREGORIAN
METHOD:PUBLISH
X-WR-CALNAME:The Classics Library
X-ORIGINAL-URL:https://www.theclassicslibrary.com
X-WR-CALDESC:Events for The Classics Library
REFRESH-INTERVAL;VALUE=DURATION:PT1H
X-Robots-Tag:noindex
X-PUBLISHED-TTL:PT1H
BEGIN:VTIMEZONE
TZID:Europe/London
BEGIN:DAYLIGHT
TZOFFSETFROM:+0000
TZOFFSETTO:+0100
TZNAME:BST
DTSTART:20150329T010000
END:DAYLIGHT
BEGIN:STANDARD
TZOFFSETFROM:+0100
TZOFFSETTO:+0000
TZNAME:GMT
DTSTART:20151025T010000
END:STANDARD
BEGIN:DAYLIGHT
TZOFFSETFROM:+0000
TZOFFSETTO:+0100
TZNAME:BST
DTSTART:20160327T010000
END:DAYLIGHT
BEGIN:STANDARD
TZOFFSETFROM:+0100
TZOFFSETTO:+0000
TZNAME:GMT
DTSTART:20161030T010000
END:STANDARD
BEGIN:DAYLIGHT
TZOFFSETFROM:+0000
TZOFFSETTO:+0100
TZNAME:BST
DTSTART:20170326T010000
END:DAYLIGHT
BEGIN:STANDARD
TZOFFSETFROM:+0100
TZOFFSETTO:+0000
TZNAME:GMT
DTSTART:20171029T010000
END:STANDARD
END:VTIMEZONE
BEGIN:VEVENT
DTSTART;TZID=Europe/London:20161110T173000
DTEND;TZID=Europe/London:20161110T203000
DTSTAMP:20260424T223403
CREATED:20161020T110921Z
LAST-MODIFIED:20161020T110921Z
UID:41267-1478799000-1478809800@www.theclassicslibrary.com
SUMMARY:'From angina to rheumatism: Ancient medical terminology and practice': A Classics for All talk by Peter Jones
DESCRIPTION:Peter Jones will be giving a talk entitled ‘From angina to rheumatism: Ancient medical terminology and practice’ on Thu 10 November 2016 6.30pm. \nA Friends of Classics Memorial Lecture   \nMuch of the terminology of modern medicine derives from ancient Greek\, often via the Latin into which Roman doctors converted it\, e.g. Greek στόμαχος→Latin stomachus\, Greek καρκίνος ‘crab’→Latin cancer. This rich inheritance is fortunately not matched by any adherence to ancient medical practice\, though Greeks are credited with the invention of ‘rational’ medicine to some of whose basic principles we still adhere. \nThis talk will explore the language and practice of ancient medicine\, with many eye-opening and sometimes eye-watering examples. All Greek will be transliterated\, and (with the Latin) translated where necessary\, including that well-known Latin word git\, with its many health-giving properties. \nDr Peter Jones will deliver this talk on ‘From angina to rheumatism: Ancient medical terminology and practice’ as the first in an annual series of Friends of Classics Memorial Lectures. \nThe lectures put on by Friends of Classics were classed as seminars rather than monologues. The atmosphere was relaxed\, and interruptions\, objections and questions were welcome throughout\, indeed encouraged. Bonus points were added for stumping the speaker. The Memorial Lectures will carry on in this spirit. \nDoors will open at 6.00pm and the talk will begin at 6.30pm.  A wine and canapé reception will follow. \nFor more information and to book: https://www.eventbrite.co.uk/e/dr-peter-jones-from-angina-to-rheumatism-ancient-medical-terminology-and-practice-tickets-26948735393  \n 
URL:https://www.theclassicslibrary.com/event/from-angina-to-rheumatism-ancient-medical-terminology-and-practice-a-classics-for-all-talk-by-peter-jones/
LOCATION:Francis Holland School\, Clarence Gate\, London\, NW1 6XR\, United Kingdom
CATEGORIES:events
ATTACH;FMTTYPE=image/jpeg:https://www.theclassicslibrary.com/wp-content/uploads/2016/05/CFA_logo-2015-2.jpg
END:VEVENT
END:VCALENDAR