BEGIN:VCALENDAR
VERSION:2.0
PRODID:-//The Classics Library - ECPv6.15.20//NONSGML v1.0//EN
CALSCALE:GREGORIAN
METHOD:PUBLISH
X-ORIGINAL-URL:https://www.theclassicslibrary.com
X-WR-CALDESC:Events for The Classics Library
REFRESH-INTERVAL;VALUE=DURATION:PT1H
X-Robots-Tag:noindex
X-PUBLISHED-TTL:PT1H
BEGIN:VTIMEZONE
TZID:Europe/London
BEGIN:DAYLIGHT
TZOFFSETFROM:+0000
TZOFFSETTO:+0100
TZNAME:BST
DTSTART:20180325T010000
END:DAYLIGHT
BEGIN:STANDARD
TZOFFSETFROM:+0100
TZOFFSETTO:+0000
TZNAME:GMT
DTSTART:20181028T010000
END:STANDARD
BEGIN:DAYLIGHT
TZOFFSETFROM:+0000
TZOFFSETTO:+0100
TZNAME:BST
DTSTART:20190331T010000
END:DAYLIGHT
BEGIN:STANDARD
TZOFFSETFROM:+0100
TZOFFSETTO:+0000
TZNAME:GMT
DTSTART:20191027T010000
END:STANDARD
BEGIN:DAYLIGHT
TZOFFSETFROM:+0000
TZOFFSETTO:+0100
TZNAME:BST
DTSTART:20200329T010000
END:DAYLIGHT
BEGIN:STANDARD
TZOFFSETFROM:+0100
TZOFFSETTO:+0000
TZNAME:GMT
DTSTART:20201025T010000
END:STANDARD
END:VTIMEZONE
BEGIN:VEVENT
DTSTART;TZID=Europe/London:20190305T163000
DTEND;TZID=Europe/London:20190305T190000
DTSTAMP:20260424T223516
CREATED:20190109T105255Z
LAST-MODIFIED:20190109T105255Z
UID:44873-1551803400-1551812400@www.theclassicslibrary.com
SUMMARY:Sussex Classical Reading Competition 2019
DESCRIPTION:The Sussex Classical Reading Competition will be held this year at Roedean School\, Brighton on Tuesday 5 March from 4.30pm-6.45pm.\n\n \n\nThere will be passages of Latin for pupils from Year 5-13. There will also be Greek passages. Please email me at rmi@roedean.co.uk for details of the passages and more information. The competition is open to all schools in the South East. Do consider bringing pupils along\, it is a relaxed event\, usually involving some costumes and a certain air of frivolity. The pupils can read from the passage and do not need to learn it by heart. There will be food\, plus it is still free to take part!
URL:https://www.theclassicslibrary.com/event/sussex-classical-reading-competition-2019/
LOCATION:Roedean School\, Brighton Road\, BN2 5RQ\, United Kingdom
CATEGORIES:events
ATTACH;FMTTYPE=image/jpeg:https://www.theclassicslibrary.com/wp-content/uploads/2011/08/Muse_reading_Louvre_CA2220.jpg
ORGANIZER;CN="Rebecca Miller":MAILTO:rmiller@brightoncollege.net
END:VEVENT
END:VCALENDAR