BEGIN:VCALENDAR
VERSION:2.0
PRODID:-//The Classics Library - ECPv6.15.20//NONSGML v1.0//EN
CALSCALE:GREGORIAN
METHOD:PUBLISH
X-WR-CALNAME:The Classics Library
X-ORIGINAL-URL:https://www.theclassicslibrary.com
X-WR-CALDESC:Events for The Classics Library
REFRESH-INTERVAL;VALUE=DURATION:PT1H
X-Robots-Tag:noindex
X-PUBLISHED-TTL:PT1H
BEGIN:VTIMEZONE
TZID:Europe/London
BEGIN:DAYLIGHT
TZOFFSETFROM:+0000
TZOFFSETTO:+0100
TZNAME:BST
DTSTART:20180325T010000
END:DAYLIGHT
BEGIN:STANDARD
TZOFFSETFROM:+0100
TZOFFSETTO:+0000
TZNAME:GMT
DTSTART:20181028T010000
END:STANDARD
BEGIN:DAYLIGHT
TZOFFSETFROM:+0000
TZOFFSETTO:+0100
TZNAME:BST
DTSTART:20190331T010000
END:DAYLIGHT
BEGIN:STANDARD
TZOFFSETFROM:+0100
TZOFFSETTO:+0000
TZNAME:GMT
DTSTART:20191027T010000
END:STANDARD
BEGIN:DAYLIGHT
TZOFFSETFROM:+0000
TZOFFSETTO:+0100
TZNAME:BST
DTSTART:20200329T010000
END:DAYLIGHT
BEGIN:STANDARD
TZOFFSETFROM:+0100
TZOFFSETTO:+0000
TZNAME:GMT
DTSTART:20201025T010000
END:STANDARD
END:VTIMEZONE
BEGIN:VEVENT
DTSTART;VALUE=DATE:20190308
DTEND;VALUE=DATE:20190311
DTSTAMP:20260424T055722
CREATED:20190205T151733Z
LAST-MODIFIED:20190205T151733Z
UID:45063-1552003200-1552262399@www.theclassicslibrary.com
SUMMARY:Reading Classical Latin: Cicero and Ovid
DESCRIPTION:A weekend course by the Institute of Continuing Education\, Cambridge University. \nCicero was Rome’s leading orator and this weekend you have the opportunity to read one of his superbly moulded speeches: in Pro Caelio\, Cicero defends young Marcus Caelius Rufus on charges of political violence. This is no dry legal speech\, but one in which Cicero uses his acerbic rhetoric to attack his client’s lover\, Clodia – painting a vivid picture of the violent times of the Roman Republic. If you prefer myth to the reality of the court room\, then choose to read Book 3 of Ovid’s Metamorphoses\, where you will encounter mad dogs\, a fiery thunderbolt and a boy falling in love with…his own reflection. There is never a dull moment in Ovid’s witty re-writing of Greek myth. Whichever text you choose\, there will be plenty of friendly discussion as we wrestle together with the power of the Latin language. \nFurther Information
URL:https://www.theclassicslibrary.com/event/reading-classical-latin-cicero-and-ovid/
LOCATION:Institute of Continuing Education\, Madingley Hall\, Cambridge\, CB23 8AQ\, United Kingdom
CATEGORIES:events
ATTACH;FMTTYPE=image/jpeg:https://www.theclassicslibrary.com/wp-content/uploads/2015/09/cambridge-institute.jpg
END:VEVENT
END:VCALENDAR