BEGIN:VCALENDAR
VERSION:2.0
PRODID:-//The Classics Library - ECPv6.15.20//NONSGML v1.0//EN
CALSCALE:GREGORIAN
METHOD:PUBLISH
X-ORIGINAL-URL:https://www.theclassicslibrary.com
X-WR-CALDESC:Events for The Classics Library
REFRESH-INTERVAL;VALUE=DURATION:PT1H
X-Robots-Tag:noindex
X-PUBLISHED-TTL:PT1H
BEGIN:VTIMEZONE
TZID:Europe/London
BEGIN:DAYLIGHT
TZOFFSETFROM:+0000
TZOFFSETTO:+0100
TZNAME:BST
DTSTART:20180325T010000
END:DAYLIGHT
BEGIN:STANDARD
TZOFFSETFROM:+0100
TZOFFSETTO:+0000
TZNAME:GMT
DTSTART:20181028T010000
END:STANDARD
BEGIN:DAYLIGHT
TZOFFSETFROM:+0000
TZOFFSETTO:+0100
TZNAME:BST
DTSTART:20190331T010000
END:DAYLIGHT
BEGIN:STANDARD
TZOFFSETFROM:+0100
TZOFFSETTO:+0000
TZNAME:GMT
DTSTART:20191027T010000
END:STANDARD
BEGIN:DAYLIGHT
TZOFFSETFROM:+0000
TZOFFSETTO:+0100
TZNAME:BST
DTSTART:20200329T010000
END:DAYLIGHT
BEGIN:STANDARD
TZOFFSETFROM:+0100
TZOFFSETTO:+0000
TZNAME:GMT
DTSTART:20201025T010000
END:STANDARD
END:VTIMEZONE
BEGIN:VEVENT
DTSTART;VALUE=DATE:20190323
DTEND;VALUE=DATE:20190324
DTSTAMP:20260424T055853
CREATED:20190212T105000Z
LAST-MODIFIED:20190212T105000Z
UID:45078-1553299200-1553385599@www.theclassicslibrary.com
SUMMARY:CICERO Latin and Class Civ competition 2019
DESCRIPTION:News from the organisers of this year.s CICERO event…\n\n \n\n​This year’s competition for Sixth Form students (S4-S6 in Scotland) will take place on Saturday 23 March 2019. It’s a challenging and engaging competition with plenty of fun\, and has three rounds – Latin translation\, Cultural Quiz (this year’s topic is mythological animals – think Cerberus\, the Hydra and others!) and a team quiz. Students can take part in the Latin competition and/or the Cultural Competition. There are four regional centres this year – Harrow School in North-West London\, Bristol Grammar School\, Liverpool College\, and George Heriot’s School in Edinburgh. For more details\, please contact Andy Keen (akeen@bgs.bristol.sch.uk) and/or go to the website: https://ciceroconcordia.wordpress.com/2019/02/08/cicero-uk-2019/\n\n \n\nIf you’re wondering about the sorts of questions involved\, you can see some past papers here: https://ciceroconcordia.wordpress.com/2019/02/08/cicero-past-papers/
URL:https://www.theclassicslibrary.com/event/cicero-latin-and-class-civ-competition-2019/
CATEGORIES:events
ATTACH;FMTTYPE=image/jpeg:https://www.theclassicslibrary.com/wp-content/uploads/2019/02/CICERO-2019-flyer.jpg
ORGANIZER;CN="Andrew Keen":MAILTO:akeen@bgs.bristol.sch.uk
END:VEVENT
END:VCALENDAR