BEGIN:VCALENDAR
VERSION:2.0
PRODID:-//The Classics Library - ECPv6.15.20//NONSGML v1.0//EN
CALSCALE:GREGORIAN
METHOD:PUBLISH
X-WR-CALNAME:The Classics Library
X-ORIGINAL-URL:https://www.theclassicslibrary.com
X-WR-CALDESC:Events for The Classics Library
REFRESH-INTERVAL;VALUE=DURATION:PT1H
X-Robots-Tag:noindex
X-PUBLISHED-TTL:PT1H
BEGIN:VTIMEZONE
TZID:Europe/London
BEGIN:DAYLIGHT
TZOFFSETFROM:+0000
TZOFFSETTO:+0100
TZNAME:BST
DTSTART:20180325T010000
END:DAYLIGHT
BEGIN:STANDARD
TZOFFSETFROM:+0100
TZOFFSETTO:+0000
TZNAME:GMT
DTSTART:20181028T010000
END:STANDARD
BEGIN:DAYLIGHT
TZOFFSETFROM:+0000
TZOFFSETTO:+0100
TZNAME:BST
DTSTART:20190331T010000
END:DAYLIGHT
BEGIN:STANDARD
TZOFFSETFROM:+0100
TZOFFSETTO:+0000
TZNAME:GMT
DTSTART:20191027T010000
END:STANDARD
BEGIN:DAYLIGHT
TZOFFSETFROM:+0000
TZOFFSETTO:+0100
TZNAME:BST
DTSTART:20200329T010000
END:DAYLIGHT
BEGIN:STANDARD
TZOFFSETFROM:+0100
TZOFFSETTO:+0000
TZNAME:GMT
DTSTART:20201025T010000
END:STANDARD
END:VTIMEZONE
BEGIN:VEVENT
DTSTART;TZID=Europe/London:20190607T133000
DTEND;TZID=Europe/London:20190607T143000
DTSTAMP:20260423T215326
CREATED:20190525T120617Z
LAST-MODIFIED:20190525T120617Z
UID:45528-1559914200-1559917800@www.theclassicslibrary.com
SUMMARY:Cultural interaction in Europe in the period of classical antiquity
DESCRIPTION:1:30 pm to 2:30 pm\, 07 June 2019\n\n \n\nLinked to the anniversary of the introduction of the Euro\, which symbolizes a further stage in the ‘European project’\, this talk will discuss cultural interactions in ancient Europe\, especially between Greece and Rome in the classical period.\n\n \n\nIt will explore the situation that the first ‘Roman’ poets\, who were not Roman nationals\, adopted elements of Greek literature and transformed them into something that was comprehensible\, relevant and interesting to a Roman audience\, and then consider how Roman literature and culture was spread over most of Europe with the expansion of the Roman empire. This will provide the basis for some reflection on the extent to which these developments in the ancient world can be illuminating for the present when the concept of ‘Europe’ is much discussed.\n\n \n\nGesine Manuwald is Professor of Latin and currently Head of UCL’s Department of Greek and Latin. Teaching of Classics began at UCL in 1828\, and the department offers a variety of interdisciplinary Undergraduate and Graduate degree programmes in classical literature\, culture and history.\n\n \n\nFurther information: https://www.ucl.ac.uk/festival-of-culture/events/2019/jun/cultural-interaction-europe-period-classical-antiquity
URL:https://www.theclassicslibrary.com/event/cultural-interaction-in-europe-in-the-period-of-classical-antiquity/
LOCATION:UCL\, London
CATEGORIES:events
ATTACH;FMTTYPE=image/jpeg:https://www.theclassicslibrary.com/wp-content/uploads/2016/06/ucl-big.jpg
END:VEVENT
END:VCALENDAR