BEGIN:VCALENDAR
VERSION:2.0
PRODID:-//The Classics Library - ECPv6.15.20//NONSGML v1.0//EN
CALSCALE:GREGORIAN
METHOD:PUBLISH
X-WR-CALNAME:The Classics Library
X-ORIGINAL-URL:https://www.theclassicslibrary.com
X-WR-CALDESC:Events for The Classics Library
REFRESH-INTERVAL;VALUE=DURATION:PT1H
X-Robots-Tag:noindex
X-PUBLISHED-TTL:PT1H
BEGIN:VTIMEZONE
TZID:Europe/London
BEGIN:DAYLIGHT
TZOFFSETFROM:+0000
TZOFFSETTO:+0100
TZNAME:BST
DTSTART:20180325T010000
END:DAYLIGHT
BEGIN:STANDARD
TZOFFSETFROM:+0100
TZOFFSETTO:+0000
TZNAME:GMT
DTSTART:20181028T010000
END:STANDARD
BEGIN:DAYLIGHT
TZOFFSETFROM:+0000
TZOFFSETTO:+0100
TZNAME:BST
DTSTART:20190331T010000
END:DAYLIGHT
BEGIN:STANDARD
TZOFFSETFROM:+0100
TZOFFSETTO:+0000
TZNAME:GMT
DTSTART:20191027T010000
END:STANDARD
BEGIN:DAYLIGHT
TZOFFSETFROM:+0000
TZOFFSETTO:+0100
TZNAME:BST
DTSTART:20200329T010000
END:DAYLIGHT
BEGIN:STANDARD
TZOFFSETFROM:+0100
TZOFFSETTO:+0000
TZNAME:GMT
DTSTART:20201025T010000
END:STANDARD
END:VTIMEZONE
BEGIN:VEVENT
DTSTART;VALUE=DATE:20190701
DTEND;VALUE=DATE:20190702
DTSTAMP:20260423T195518
CREATED:20190501T111800Z
LAST-MODIFIED:20190501T111800Z
UID:45400-1561939200-1562025599@www.theclassicslibrary.com
SUMMARY:Classical Civilisation A-level Teachers Day
DESCRIPTION:A message from the University of Warwick…\n\n \n\nDear List members\,\n\n \n\nThe Department of Classics and Ancient History at the University of Warwick are pleased to invite you to their FREE Classical Civilisation A-level Teachers Day on Monday 1st July 2019\, here at the University of Warwick. The event will include academic sessions led by Warwick staff as well as a session led by Alex Orgee\, subject leader of classics at OCR. Free bursaries are available\, courtesy of The Classical Association.\n\n \n\nOn Monday 1st July\, our Warwick Classics academics will be leading sessions based on the component modules of the OCR A-level Classical Civilisation syllabus (see below)\, giving subject overviews and an idea of modern scholarship in their specialist areas.\n\n \n\nIn addition\, Alex Orgee\, subject leader of classics at OCR will be leading a session on the OCR curriculum and will be answering any questions that you may have.\n\n \n\nThroughout the day you will also have access to our Virtual Reality Headsets\, and there will be sessions on coin handling\, experiencing the Greek Symposium with our replica pots\, and an opportunity to learn about the work of the Warwick Classics Network and about how your students can apply to Warwick and visit our Open Days.\n\n \n\nThe event is FREE and and free lunch will be provided. In addition\, a number of free bursaries will be available\, courtesy of the Classical Association. More details and a booking form and can be found on our WCN website through the following link:\n\n \n\nhttps://warwick.ac.uk/fac/arts/classics/research/outreach/warwickclassicsnetwork/events/classcivteachersday/\n\n \nProvisional Overview of the Day\n \n\n(to be confirmed)\n\n \n\n9.30-10.00am – Arrival and Registration\n\n \n\n10.00-12.15pm Part One: The World of the Hero\n\n \n\n10.00 -11.00am Homer’s Iliad and Odyssey – Dr David Fearn\n\n \n\n11.15-12.15am Virgil’s Aeneid – Dr Victoria Rimmel\n\n \n\n(including 11.00-11.15am Break)\n\n \n\n12.15-1.00pm OCR and Breakout sessions\n\n \n\n12.15-1.00pm OCR – Alex Orgee\, subject leader for classics at OCR\, will be here to talk about the OCR curriculum and to answer any questions.\n\n \n\nVR headsets; Replica Greek vases; Coin handling sessions will also be available now (and throughout the day) for those interested.\n\n \n\n1pm-2pm FREE Lunch\n\n \n\n2.00-3.30pm Part Two: Culture and the Arts\n\n \n\n2.00-3.30pm Imperial Image – Professor Alison Cooley and Dr Clare Rowan\n\n \n\n2.00-3.30pm Greek Theatre – Dr Emmanuela Bakola\n\n \n\n2.00-3.30pm Greek Art – Prof. Zahra Newby\n\n \n\n3.30-5.00pm Part Three: Beliefs and Ideas\n\n \n\n3.30-5.00pm Greek Religion – Prof. Michael Scott\n\n \n\n3.30-5.00pm Love and Relationships – Prof. James Davidson\n\n \nTravel bursaries\n \n\nWe have been awarded funding from The Classical Association which will allow us to fund a number of bursaries to cover costs of travel for some of our attendees. If your institution is unable to cover the costs of your travel\, then we may be able to cover all or some of your travel costs. You can apply for the bursary on our Booking Form.\n\n \n\nThe deadline for booking is 15th June 2019\n\n \n\nIf you have any questions about the day\, please email Dr Paul Grigsby at Paul.Grigsby@Warwick.ac.uk\n\n \n\nWe look forward to welcoming you to Warwick\n\n \n\nDr Paul Grigsby\nResearch Fellow in Outreach and Impact\nDept. of Classics and Ancient History\nUniversity of Warwick
URL:https://www.theclassicslibrary.com/event/classical-civilisation-a-level-teachers-day/
CATEGORIES:events
ATTACH;FMTTYPE=image/jpeg:https://www.theclassicslibrary.com/wp-content/uploads/2017/09/warwick-university-big.jpg
ORGANIZER;CN="Paul Grigsby":MAILTO:P.R.Grigsby@Warwick.ac.uk
END:VEVENT
BEGIN:VEVENT
DTSTART;VALUE=DATE:20190701
DTEND;VALUE=DATE:20190810
DTSTAMP:20260423T195518
CREATED:20190416T112815Z
LAST-MODIFIED:20190416T112815Z
UID:45356-1561939200-1565395199@www.theclassicslibrary.com
SUMMARY:UCL Summer School 2019: Sermonis Latini Peritia atque Doctrina & De Europææ Britanniæ Litteris Latinis
DESCRIPTION:UCL Summer School 2019: Sermonis Latini Peritia atque Doctrina & De Europææ Britanniæ Litteris Latinis\n\n \n\n(English translation below)\n\n \n\nUniversitatis Collegî Londiniensis (UCL) Schola Æstiva 2019 duos cursús intensivos ab A. Gratio Avito Latiné prorsus impertitos omnibus totius orbis terrarum linguæ Latinæ studiosis denuo proponit\n\n \n\nAnimadverte: nomen dandum est ante dimidiatum Majum 2019\n\n \n\nUniversitatis Collegî Londiniensis (UCL) Schola Æstiva 2019 duos cursús universitarios hóc anno iterum offert qui Latiné integri impertientur ab A. Gratio Avito\, Hispano philologo classico qui ab anno 1992 in UCL docet.\n\n \n\nPrimus modulus (Lun 1 Jul – Ven 19 Jul 2019)\, cui titulus est «Sermonis Latini Peritia atque Doctrina»\, classici sermonis Latini scrutabitur rationes quantum ad ejus elocutionem stilum variaque genera. Quod fiet et classicorum operum studio quæ ad exemplum sunt delecta (Terentî\, Ciceronis\, Vergilî) juxta eorundem varios Latinos commentatores (Donatum\, Macrobium\, Servium) et allato novissimæ in hanc materiam eruditionis lumine (Dickey & Chahoud). Suppeditabit porro facultates atque instrumenta ad sermonem Latinum docendum directá methodo (Ørberg) ac viá communicativá (Harmer).\n\n \n\nSecundus modulus (Lun 22 Jul – Ven 9 Aug 2019)\, cui titulus est «De Europææ Britanniæ Litteris Latinis»\, academicam comprehendet inductionem in patrimonium Britannicum linguá Latiná procreatum atque in perpetuam ingenî cultúsque necessitudinem quæ Britanniam cum reliquá conjungit Europá. Quod fiet ætatum generumque conspectu (Ijsewijn\, Lapidge\, Rigg) et accurato commentario disceptationeque singularium operum (Galfridi Monemutensis\, Thomæ Mori\, Francisci Baconi)\, quo subtiliore familiaritate versentur studiosi et in verbis (qualitate\, singularitatibus\, stilo) et in rebus (fabulis\, historiá\, rebus publicis\, philosophiá\, scientiá)\, explorando porro feracia commercia quæ usus linguæ Latinæ permissit inter Britannos eruditos\, monarchas\, philosophos\, scientificos\, et continentales eorum pares (e.g. Mori cum Erasmo).\n\n \n\nModuli dant credita academica gradús universitarî (4 US\, 15 UK\, 7.5 ECTS) sed patent omnibus\, inclusis magistris qui institutionem in usum activum linguæ Latinæ ideo quærant ut efficacius eam doceant linguam\, necnon academicis atque eruditis qui facultatem adipisci cupiant in scriptores incumbendi genuiná eorum linguá. Non sunt in orbe terrarum multi hujus amplitudinis cursús\, et urbs Londinium ejusque universitas studiorum occasionem præbent unicam!\n\n \n\nSæpius demonstratum est scientiam passivam linguæ Latinæ studiosis dare occasionem hujus generis cursús persequendi plená ab initio fiduciá\, atque uniuscujusque moduli 45 immersionis horæ (90 in summam) diligentibus participibus occasionem dabunt omnia cursús opera agendi Latiné Latinamque subeundi probationem.\n\n \n\nUCL Schola Æstiva congregabit hóc anno multos linguæ Latinæ studiosos omnium ætatum nationumque plurimarum.\n\n \n\nPretia: https://www.ucl.ac.uk/prospective-students/summer-school/fees\n\n \n\nUt nomen des: https://www.ucl.ac.uk/prospective-students/summer-school/your-application\n\n \n\nUCL Summer School 2019: Latin Usage: Idiomatic Proficiency and Teaching & The Latin Literature of European Britain\n\n \n\nUniversity College London Summer School 2019\n\n \n\nSermonis Latini Peritia atque Doctrina & De Europææ Britanniæ Litteris Latinis\n\n \n\nApplication deadline before mid-May 2019\n\n \n\nThe UCL Summer School is this year offering once more two three-week intensive Latin modules fully imparted in Latin by UCL Senior Teaching Fellow and accomplished Latin speaker A. Gratius Avitus.\n\n \n\nThe Session 1 (Mon 1 Jul – Fri 19 Jul 2019) Module «Latin Usage: Idiomatic Proficiency and Teaching» will focus on the fine nuances of classical Latin usage\, providing both the practical and the academic tools to identify\, analyse\, evaluate\, and replicate\, classical Latin idiom\, registers and styles\, not only through direct work on model classical works selected (Terence\, Cicero\, Virgil) alongside their various Latin commentators (Donatus\, Macrobius\, Servius)\, but also in the light of the latest scholarship in the subject (Dickey & Chahoud). It will further aim to develop skills and resources to teach Latin usage effectively\, following the natural method (Ørberg) and the communicative approach (Harmer).\n\n \n\nThe Session 2 (Mon 22 Jul – Fri 9 Aug 2019) Module «The Latin Literature of European Britain» will provide a thorough hands-on introduction to the magnificent heritage of British Latin literature and its constituent importance as part of the wider European culture conveyed in Latin. It will provide an overview of periods and genres (Ijsewijn\, Lapidge\, Rigg)\, and dwell on detailed commentary and discussion of specific key texts (Monmouth\, More\, Francis Bacon)\, for familiarisation with both form (linguistic quality\, specificities\, style) and content (legend\, history\, politics\, philosophy\, science)\, additionally turning to epistolary correspondance for further exploration of the enriching connections cultivated by British scholars\, monarchs\, philosophers and scientists\, with their continental counterparts (e.g. More with Erasmus).\n\n \n\nThese are undergraduate credit bearing modules (each constituting a UCL 0.5 course unit\, i.e. 4 US credits\, 15 UK credits\, 7.5 European ECTS) but they are open to all\, including Latin teachers seeking training in active use of Latin as a way to improve efficiency in teaching the language\, and Latin researchers and scholars eager to develop the skills to delve into the texts in their original tongue. Courses like these consitute a first in the UK and are an excellent opportunity to visit London with access to its wonderful museums and libraries.\n\n \n\nAs has been variously shown (cf. for instance «guest speakers» at http://www.ucl.ac.uk/classics/study/undergraduate/teachingprojects/Living-Latin-Workshop/Index)\, passive knowledge of the language should allow participants to follow the course with confidence from the start\, and the 45 hours of language immersion per module (90 hours in total) will put committed participants in a position successfully to pursue the coursework and complete the assessment in Latin (although assessment is voluntary for those not taking the course for credit).\n\n \n\nThe UCL Summer School is expected to bring together an international gathering of committed Latinists.\n\n \n\nFees: https://www.ucl.ac.uk/prospective-students/summer-school/fees\n\n \n\nTo apply: https://www.ucl.ac.uk/prospective-students/summer-school/your-application
URL:https://www.theclassicslibrary.com/event/ucl-summer-school-2019-sermonis-latini-peritia-atque-doctrina-de-europaeae-britanniae-litteris-latinis/
LOCATION:UCL\, London
CATEGORIES:events
ATTACH;FMTTYPE=image/jpeg:https://www.theclassicslibrary.com/wp-content/uploads/2016/06/ucl-big.jpg
END:VEVENT
END:VCALENDAR