BEGIN:VCALENDAR
VERSION:2.0
PRODID:-//The Classics Library - ECPv6.15.20//NONSGML v1.0//EN
CALSCALE:GREGORIAN
METHOD:PUBLISH
X-ORIGINAL-URL:https://www.theclassicslibrary.com
X-WR-CALDESC:Events for The Classics Library
REFRESH-INTERVAL;VALUE=DURATION:PT1H
X-Robots-Tag:noindex
X-PUBLISHED-TTL:PT1H
BEGIN:VTIMEZONE
TZID:Europe/London
BEGIN:DAYLIGHT
TZOFFSETFROM:+0000
TZOFFSETTO:+0100
TZNAME:BST
DTSTART:20180325T010000
END:DAYLIGHT
BEGIN:STANDARD
TZOFFSETFROM:+0100
TZOFFSETTO:+0000
TZNAME:GMT
DTSTART:20181028T010000
END:STANDARD
BEGIN:DAYLIGHT
TZOFFSETFROM:+0000
TZOFFSETTO:+0100
TZNAME:BST
DTSTART:20190331T010000
END:DAYLIGHT
BEGIN:STANDARD
TZOFFSETFROM:+0100
TZOFFSETTO:+0000
TZNAME:GMT
DTSTART:20191027T010000
END:STANDARD
BEGIN:DAYLIGHT
TZOFFSETFROM:+0000
TZOFFSETTO:+0100
TZNAME:BST
DTSTART:20200329T010000
END:DAYLIGHT
BEGIN:STANDARD
TZOFFSETFROM:+0100
TZOFFSETTO:+0000
TZNAME:GMT
DTSTART:20201025T010000
END:STANDARD
END:VTIMEZONE
BEGIN:VEVENT
DTSTART;VALUE=DATE:20190701
DTEND;VALUE=DATE:20190810
DTSTAMP:20260423T235059
CREATED:20190416T112815Z
LAST-MODIFIED:20190416T112815Z
UID:45356-1561939200-1565395199@www.theclassicslibrary.com
SUMMARY:UCL Summer School 2019: Sermonis Latini Peritia atque Doctrina & De Europææ Britanniæ Litteris Latinis
DESCRIPTION:UCL Summer School 2019: Sermonis Latini Peritia atque Doctrina & De Europææ Britanniæ Litteris Latinis\n\n \n\n(English translation below)\n\n \n\nUniversitatis Collegî Londiniensis (UCL) Schola Æstiva 2019 duos cursús intensivos ab A. Gratio Avito Latiné prorsus impertitos omnibus totius orbis terrarum linguæ Latinæ studiosis denuo proponit\n\n \n\nAnimadverte: nomen dandum est ante dimidiatum Majum 2019\n\n \n\nUniversitatis Collegî Londiniensis (UCL) Schola Æstiva 2019 duos cursús universitarios hóc anno iterum offert qui Latiné integri impertientur ab A. Gratio Avito\, Hispano philologo classico qui ab anno 1992 in UCL docet.\n\n \n\nPrimus modulus (Lun 1 Jul – Ven 19 Jul 2019)\, cui titulus est «Sermonis Latini Peritia atque Doctrina»\, classici sermonis Latini scrutabitur rationes quantum ad ejus elocutionem stilum variaque genera. Quod fiet et classicorum operum studio quæ ad exemplum sunt delecta (Terentî\, Ciceronis\, Vergilî) juxta eorundem varios Latinos commentatores (Donatum\, Macrobium\, Servium) et allato novissimæ in hanc materiam eruditionis lumine (Dickey & Chahoud). Suppeditabit porro facultates atque instrumenta ad sermonem Latinum docendum directá methodo (Ørberg) ac viá communicativá (Harmer).\n\n \n\nSecundus modulus (Lun 22 Jul – Ven 9 Aug 2019)\, cui titulus est «De Europææ Britanniæ Litteris Latinis»\, academicam comprehendet inductionem in patrimonium Britannicum linguá Latiná procreatum atque in perpetuam ingenî cultúsque necessitudinem quæ Britanniam cum reliquá conjungit Europá. Quod fiet ætatum generumque conspectu (Ijsewijn\, Lapidge\, Rigg) et accurato commentario disceptationeque singularium operum (Galfridi Monemutensis\, Thomæ Mori\, Francisci Baconi)\, quo subtiliore familiaritate versentur studiosi et in verbis (qualitate\, singularitatibus\, stilo) et in rebus (fabulis\, historiá\, rebus publicis\, philosophiá\, scientiá)\, explorando porro feracia commercia quæ usus linguæ Latinæ permissit inter Britannos eruditos\, monarchas\, philosophos\, scientificos\, et continentales eorum pares (e.g. Mori cum Erasmo).\n\n \n\nModuli dant credita academica gradús universitarî (4 US\, 15 UK\, 7.5 ECTS) sed patent omnibus\, inclusis magistris qui institutionem in usum activum linguæ Latinæ ideo quærant ut efficacius eam doceant linguam\, necnon academicis atque eruditis qui facultatem adipisci cupiant in scriptores incumbendi genuiná eorum linguá. Non sunt in orbe terrarum multi hujus amplitudinis cursús\, et urbs Londinium ejusque universitas studiorum occasionem præbent unicam!\n\n \n\nSæpius demonstratum est scientiam passivam linguæ Latinæ studiosis dare occasionem hujus generis cursús persequendi plená ab initio fiduciá\, atque uniuscujusque moduli 45 immersionis horæ (90 in summam) diligentibus participibus occasionem dabunt omnia cursús opera agendi Latiné Latinamque subeundi probationem.\n\n \n\nUCL Schola Æstiva congregabit hóc anno multos linguæ Latinæ studiosos omnium ætatum nationumque plurimarum.\n\n \n\nPretia: https://www.ucl.ac.uk/prospective-students/summer-school/fees\n\n \n\nUt nomen des: https://www.ucl.ac.uk/prospective-students/summer-school/your-application\n\n \n\nUCL Summer School 2019: Latin Usage: Idiomatic Proficiency and Teaching & The Latin Literature of European Britain\n\n \n\nUniversity College London Summer School 2019\n\n \n\nSermonis Latini Peritia atque Doctrina & De Europææ Britanniæ Litteris Latinis\n\n \n\nApplication deadline before mid-May 2019\n\n \n\nThe UCL Summer School is this year offering once more two three-week intensive Latin modules fully imparted in Latin by UCL Senior Teaching Fellow and accomplished Latin speaker A. Gratius Avitus.\n\n \n\nThe Session 1 (Mon 1 Jul – Fri 19 Jul 2019) Module «Latin Usage: Idiomatic Proficiency and Teaching» will focus on the fine nuances of classical Latin usage\, providing both the practical and the academic tools to identify\, analyse\, evaluate\, and replicate\, classical Latin idiom\, registers and styles\, not only through direct work on model classical works selected (Terence\, Cicero\, Virgil) alongside their various Latin commentators (Donatus\, Macrobius\, Servius)\, but also in the light of the latest scholarship in the subject (Dickey & Chahoud). It will further aim to develop skills and resources to teach Latin usage effectively\, following the natural method (Ørberg) and the communicative approach (Harmer).\n\n \n\nThe Session 2 (Mon 22 Jul – Fri 9 Aug 2019) Module «The Latin Literature of European Britain» will provide a thorough hands-on introduction to the magnificent heritage of British Latin literature and its constituent importance as part of the wider European culture conveyed in Latin. It will provide an overview of periods and genres (Ijsewijn\, Lapidge\, Rigg)\, and dwell on detailed commentary and discussion of specific key texts (Monmouth\, More\, Francis Bacon)\, for familiarisation with both form (linguistic quality\, specificities\, style) and content (legend\, history\, politics\, philosophy\, science)\, additionally turning to epistolary correspondance for further exploration of the enriching connections cultivated by British scholars\, monarchs\, philosophers and scientists\, with their continental counterparts (e.g. More with Erasmus).\n\n \n\nThese are undergraduate credit bearing modules (each constituting a UCL 0.5 course unit\, i.e. 4 US credits\, 15 UK credits\, 7.5 European ECTS) but they are open to all\, including Latin teachers seeking training in active use of Latin as a way to improve efficiency in teaching the language\, and Latin researchers and scholars eager to develop the skills to delve into the texts in their original tongue. Courses like these consitute a first in the UK and are an excellent opportunity to visit London with access to its wonderful museums and libraries.\n\n \n\nAs has been variously shown (cf. for instance «guest speakers» at http://www.ucl.ac.uk/classics/study/undergraduate/teachingprojects/Living-Latin-Workshop/Index)\, passive knowledge of the language should allow participants to follow the course with confidence from the start\, and the 45 hours of language immersion per module (90 hours in total) will put committed participants in a position successfully to pursue the coursework and complete the assessment in Latin (although assessment is voluntary for those not taking the course for credit).\n\n \n\nThe UCL Summer School is expected to bring together an international gathering of committed Latinists.\n\n \n\nFees: https://www.ucl.ac.uk/prospective-students/summer-school/fees\n\n \n\nTo apply: https://www.ucl.ac.uk/prospective-students/summer-school/your-application
URL:https://www.theclassicslibrary.com/event/ucl-summer-school-2019-sermonis-latini-peritia-atque-doctrina-de-europaeae-britanniae-litteris-latinis/
LOCATION:UCL\, London
CATEGORIES:events
ATTACH;FMTTYPE=image/jpeg:https://www.theclassicslibrary.com/wp-content/uploads/2016/06/ucl-big.jpg
END:VEVENT
BEGIN:VEVENT
DTSTART;VALUE=DATE:20190728
DTEND;VALUE=DATE:20190803
DTSTAMP:20260423T235059
CREATED:20190204T145630Z
LAST-MODIFIED:20190204T145630Z
UID:45038-1564272000-1564790399@www.theclassicslibrary.com
SUMMARY:JSST Classical Summer School and Ancient History Summer School 2019
DESCRIPTION:JSST Classical Summer School and Ancient History summer school – 28th July until 2nd August\, held at Repton School\, South Derbyshire. This is a summer school for 16-19 year olds who wish to learn more about the ancient world. You can learn anything from ancient languages\, philosophy\, Greek literature\, the Roman Republic\, Roman Epic and much more much. If you would like to know more\, please visit our wesbite: \nhttp://ccsummerschool.weebly.com/ \nor contact the Course Secretary\, Mrs Kate Addison\, whose details can be found on the webpage.
URL:https://www.theclassicslibrary.com/event/jsst-classical-summer-school-and-ancient-history-summer-school-2019/
LOCATION:Repton School\, Repton\, Derby\, DE65 6FH\, United Kingdom
CATEGORIES:events
ATTACH;FMTTYPE=image/jpeg:https://www.theclassicslibrary.com/wp-content/uploads/2017/09/repton-big.jpg
END:VEVENT
BEGIN:VEVENT
DTSTART;VALUE=DATE:20190729
DTEND;VALUE=DATE:20190803
DTSTAMP:20260423T235059
CREATED:20190226T121120Z
LAST-MODIFIED:20190226T121120Z
UID:45165-1564358400-1564790399@www.theclassicslibrary.com
SUMMARY:ARLT Summer School 2019
DESCRIPTION:ARLT is excited to announce that this year’s The Association for Latin Teaching (ARLT) Summer School will be happening on Monday 29th July until Friday 2nd August 2019 in Cheltenham College. The attendees will be offered daily a wonderful insight into what is currently happening in Classics academia with talks from eminent lecturers across the UK. In addition\, they will opt for four workshops run by teachers every day. Apart from creating workshops which could support teachers currently preparing students for exams\, ARLT is also offering ones that would be of particular interest to starters in the teaching profession\, as well as teachers who would like to experience something new and exciting in the realm of Classics. Looking forward to hearing from you.\n\n \n\nFor more details\, please contact Ana Henderson\, Director of ARLT Summer School 2019\, (a.henderson@lsf.org) and/or go to the website: http://www.arlt.co.uk/2019.html
URL:https://www.theclassicslibrary.com/event/arlt-summer-school-2019/
LOCATION:Cheltenham College\, Bath Road\, Cheltenham\, Gloucestershire\, GL53 7LD\, United Kingdom
CATEGORIES:events
ATTACH;FMTTYPE=image/jpeg:https://www.theclassicslibrary.com/wp-content/uploads/2019/02/Cheltenham-College-big.jpg
END:VEVENT
END:VCALENDAR