BEGIN:VCALENDAR
VERSION:2.0
PRODID:-//The Classics Library - ECPv6.15.20//NONSGML v1.0//EN
CALSCALE:GREGORIAN
METHOD:PUBLISH
X-WR-CALNAME:The Classics Library
X-ORIGINAL-URL:https://www.theclassicslibrary.com
X-WR-CALDESC:Events for The Classics Library
REFRESH-INTERVAL;VALUE=DURATION:PT1H
X-Robots-Tag:noindex
X-PUBLISHED-TTL:PT1H
BEGIN:VTIMEZONE
TZID:Europe/London
BEGIN:DAYLIGHT
TZOFFSETFROM:+0000
TZOFFSETTO:+0100
TZNAME:BST
DTSTART:20180325T010000
END:DAYLIGHT
BEGIN:STANDARD
TZOFFSETFROM:+0100
TZOFFSETTO:+0000
TZNAME:GMT
DTSTART:20181028T010000
END:STANDARD
BEGIN:DAYLIGHT
TZOFFSETFROM:+0000
TZOFFSETTO:+0100
TZNAME:BST
DTSTART:20190331T010000
END:DAYLIGHT
BEGIN:STANDARD
TZOFFSETFROM:+0100
TZOFFSETTO:+0000
TZNAME:GMT
DTSTART:20191027T010000
END:STANDARD
BEGIN:DAYLIGHT
TZOFFSETFROM:+0000
TZOFFSETTO:+0100
TZNAME:BST
DTSTART:20200329T010000
END:DAYLIGHT
BEGIN:STANDARD
TZOFFSETFROM:+0100
TZOFFSETTO:+0000
TZNAME:GMT
DTSTART:20201025T010000
END:STANDARD
END:VTIMEZONE
BEGIN:VEVENT
DTSTART;TZID=Europe/London:20191002T183000
DTEND;TZID=Europe/London:20191002T213000
DTSTAMP:20260423T235108
CREATED:20190805T153302Z
LAST-MODIFIED:20190805T153302Z
UID:45683-1570041000-1570051800@www.theclassicslibrary.com
SUMMARY:What was Roman marriage like?
DESCRIPTION:What was Roman marriage like? \nWednesday 2nd October\, 6.30pm King’s College London. Tickets £16 each\, including light refreshments. \nThis year’s Friends of Classics memorial lecture will be delivered by Gregory Hutchinson\, Regius Professor of Greek at the University of Oxford.
URL:https://www.theclassicslibrary.com/event/what-was-roman-marriage-like/
LOCATION:King’s College\, London\, Strand\, London\, London\, WC2B 5RL \, United Kingdom
CATEGORIES:events
ATTACH;FMTTYPE=image/jpeg:https://www.theclassicslibrary.com/wp-content/uploads/2017/05/cfa-big.jpg
END:VEVENT
END:VCALENDAR