BEGIN:VCALENDAR
VERSION:2.0
PRODID:-//The Classics Library - ECPv6.15.20//NONSGML v1.0//EN
CALSCALE:GREGORIAN
METHOD:PUBLISH
X-ORIGINAL-URL:https://www.theclassicslibrary.com
X-WR-CALDESC:Events for The Classics Library
REFRESH-INTERVAL;VALUE=DURATION:PT1H
X-Robots-Tag:noindex
X-PUBLISHED-TTL:PT1H
BEGIN:VTIMEZONE
TZID:Europe/London
BEGIN:DAYLIGHT
TZOFFSETFROM:+0000
TZOFFSETTO:+0100
TZNAME:BST
DTSTART:20180325T010000
END:DAYLIGHT
BEGIN:STANDARD
TZOFFSETFROM:+0100
TZOFFSETTO:+0000
TZNAME:GMT
DTSTART:20181028T010000
END:STANDARD
BEGIN:DAYLIGHT
TZOFFSETFROM:+0000
TZOFFSETTO:+0100
TZNAME:BST
DTSTART:20190331T010000
END:DAYLIGHT
BEGIN:STANDARD
TZOFFSETFROM:+0100
TZOFFSETTO:+0000
TZNAME:GMT
DTSTART:20191027T010000
END:STANDARD
BEGIN:DAYLIGHT
TZOFFSETFROM:+0000
TZOFFSETTO:+0100
TZNAME:BST
DTSTART:20200329T010000
END:DAYLIGHT
BEGIN:STANDARD
TZOFFSETFROM:+0100
TZOFFSETTO:+0000
TZNAME:GMT
DTSTART:20201025T010000
END:STANDARD
END:VTIMEZONE
BEGIN:VEVENT
DTSTART;TZID=Europe/London:20191107T170000
DTEND;TZID=Europe/London:20191107T190000
DTSTAMP:20260424T050439
CREATED:20191030T121550Z
LAST-MODIFIED:20191030T121550Z
UID:45979-1573146000-1573153200@www.theclassicslibrary.com
SUMMARY:Birmingham and West Midlands Classics Network Teach Meet
DESCRIPTION:The Birmingham and West Midlands Classics Network would like to invite you to their very first teach meet.\n\n \n\nDate: Thursday 7th November\n\n \n\nTime: 5.00-6.45pm\n\n \n\nVenue: University of Birmingham\n\n \n\nThe event will include a short academic talk\, cake and refreshments\, and plenty of time for sharing best practice and discussion.\n\n \n\nThe life of an Archaeologist\, 5.00-5.30\n\n \n\nDr Maeve McHugh will start the proceedings off at 5.00pm with a short talk detailing her summer’s excavations in Greece.\n\n \n\nTeacher presentations\, 5.30-6.45\n\n \n\nWe will then have tea and cake before I hand over to volunteers to give short 5-10 minute presentations on any aspect of their classics teaching.\n\n \n\nDr Hannah Cornwell will also be launching resources designed to support the study of the Roman Republic.\n\n \n\nRegistration\n\n \n\nTo find out more details and to register\, email Polly Stoker at p.stoker@bham.ac.uk\n\n \n\nI would also be delighted if you could forward these details over to any teachers you know at other schools who do not teach classics but may be interested in doing so in the future with support from Classics for All. For instance\, there will be a spotlight talk on teaching Latin for KS3 literacy which could be of interest.\n\n \n\nI look forward to seeing some of you there!\n\n \n\nAll the very best\,\n\n \n\nPolly
URL:https://www.theclassicslibrary.com/event/birmingham-and-west-midlands-classics-network-teach-meet/
LOCATION:University of Birmingham\, Birmingham\, United Kingdom
CATEGORIES:events
ATTACH;FMTTYPE=image/jpeg:https://www.theclassicslibrary.com/wp-content/uploads/2014/02/bmca.jpg
END:VEVENT
END:VCALENDAR