BEGIN:VCALENDAR
VERSION:2.0
PRODID:-//The Classics Library - ECPv6.15.20//NONSGML v1.0//EN
CALSCALE:GREGORIAN
METHOD:PUBLISH
X-WR-CALNAME:The Classics Library
X-ORIGINAL-URL:https://www.theclassicslibrary.com
X-WR-CALDESC:Events for The Classics Library
REFRESH-INTERVAL;VALUE=DURATION:PT1H
X-Robots-Tag:noindex
X-PUBLISHED-TTL:PT1H
BEGIN:VTIMEZONE
TZID:Europe/London
BEGIN:DAYLIGHT
TZOFFSETFROM:+0000
TZOFFSETTO:+0100
TZNAME:BST
DTSTART:20180325T010000
END:DAYLIGHT
BEGIN:STANDARD
TZOFFSETFROM:+0100
TZOFFSETTO:+0000
TZNAME:GMT
DTSTART:20181028T010000
END:STANDARD
BEGIN:DAYLIGHT
TZOFFSETFROM:+0000
TZOFFSETTO:+0100
TZNAME:BST
DTSTART:20190331T010000
END:DAYLIGHT
BEGIN:STANDARD
TZOFFSETFROM:+0100
TZOFFSETTO:+0000
TZNAME:GMT
DTSTART:20191027T010000
END:STANDARD
BEGIN:DAYLIGHT
TZOFFSETFROM:+0000
TZOFFSETTO:+0100
TZNAME:BST
DTSTART:20200329T010000
END:DAYLIGHT
BEGIN:STANDARD
TZOFFSETFROM:+0100
TZOFFSETTO:+0000
TZNAME:GMT
DTSTART:20201025T010000
END:STANDARD
END:VTIMEZONE
BEGIN:VEVENT
DTSTART;TZID=Europe/London:20191128T130000
DTEND;TZID=Europe/London:20191128T140000
DTSTAMP:20260424T050225
CREATED:20191107T133429Z
LAST-MODIFIED:20191107T133429Z
UID:46046-1574946000-1574949600@www.theclassicslibrary.com
SUMMARY:Edith Hall Lectures at Gresham
DESCRIPTION:From Gresham….\n\n \n\nI thought your network would be interested in a series of three lectures about science in Ancient Greece by the classicist Professor Edith Hall\, who’s a visiting Professor at Gresham again this year. Hall is a superb lecturer. The lectures are first-come\, first-served\, but I should say that for anyone with schools links\, we can book some seats for school parties in the main hall.\n\n \n\nAll of our lectures are live-streamed online so you can watch them at a time and place to suit you.\n\n \n\nWith best wishes\n\n \n\nLucia Graves\n\n \n\nScience in Ancient Greece Edith Hall\, Visiting Professor of Classics https://www.gresham.ac.uk/series/science-in-ancient-greece/\n\n \n\nThursday 28 November 2019\, 1pm\, Barnard’s Inn Hall\n\n \n\nPhysics: its Birth in Greek Ionia \n\n \n\nThe study of the natural and physical world from a scientific viewpoint began in Greek cities on the western coast of Turkey around Miletus in about 600 BCE. The first scientists were known as physiologoi\, or men who discoursed about nature (physis). Each tried to put his various observations together in a way that constituted a coherent\, unified model. This lecture discusses the pioneering physical theories of Thales\, Anaximander\, Anaximenes\, Anaxagoras and Democritus.\n\n \n\nhttps://www.gresham.ac.uk/lectures-and-events/birth-of-physics\n\n \n\nThursday 5 March 2020\, 1pm\, Barnard’s Inn Hall\n\n \n\nEngineering: Archimedes of Syracuse\n\n \n\nIn the 3rd century BCE\, the Sicilian polymath Archimedes advanced significantly human understanding of mathematics\, geometry and astronomy. By applying his discoveries to practical problems and physical phenomena\, he became the founder of statics and hydrostatics\, demonstrating how levers work and in turn creating unprecedented war machines such as ‘Archimedes’ claw’ and ‘heat-ray’.\n\n \n\nhttps://www.gresham.ac.uk/lectures-and-events/archimedes\n\n \n\nThursday 28 May 2020\, 1pm\, Barnard’s Inn Hall\n\n \n\nHippocrates and Ancient Greek Medicine\n\n \n\nThe birth of rational medicine contributed to the scientific revolution which occurred amongst eastern Greek communities in the 7th-to-5th centuries BCE. Medical professionals still take the oath of the ancient Greek doctor Hippocrates of Kos\, preserved along with his medical treatises. They are a consummation of many decades of medical practice and empirical observation\, showing methods similar to the eastern Aegean natural scientists in seeking physical causes rather than supernatural explanations for natural phenomena\, whether related to geology\, weather\, disease or injury.   https://www.gresham.ac.uk/lectures-and-events/ancient-greek-medicine
URL:https://www.theclassicslibrary.com/event/edith-hall-lectures-at-gresham/
LOCATION:Barnard’s Inn Hall\, Holborn\, London\, EC1N 2HH\, United Kingdom
CATEGORIES:events
ATTACH;FMTTYPE=image/jpeg:https://www.theclassicslibrary.com/wp-content/uploads/2017/09/gresham-college-big.jpg
END:VEVENT
BEGIN:VEVENT
DTSTART;TZID=Europe/London:20191128T190000
DTEND;TZID=Europe/London:20191128T210000
DTSTAMP:20260424T050225
CREATED:20190805T153435Z
LAST-MODIFIED:20190805T153435Z
UID:45685-1574967600-1574974800@www.theclassicslibrary.com
SUMMARY:Dining with the Romans
DESCRIPTION:Dining with the Romans \nThursday 28 November\, 7pm\, Stationers’ Hall\, London. Tickets £40 – £100 each\, including light refreshments. \nWe’re very excited to bring together a distinguished panel to discuss food in the ancient world in the stunning Stationers’ Hall. Dr Paul Roberts\, Prue Leith CBE and Sally Grainger will discuss this fascinating topic\, facilitated by Peter Jones MBE. The audience will be invited to participate in a brief Q&A before a wine and Roman canapé reception.
URL:https://www.theclassicslibrary.com/event/dining-with-the-romans/
CATEGORIES:events
ATTACH;FMTTYPE=image/jpeg:https://www.theclassicslibrary.com/wp-content/uploads/2017/05/cfa-big.jpg
END:VEVENT
END:VCALENDAR