BEGIN:VCALENDAR
VERSION:2.0
PRODID:-//The Classics Library - ECPv6.15.20//NONSGML v1.0//EN
CALSCALE:GREGORIAN
METHOD:PUBLISH
X-WR-CALNAME:The Classics Library
X-ORIGINAL-URL:https://www.theclassicslibrary.com
X-WR-CALDESC:Events for The Classics Library
REFRESH-INTERVAL;VALUE=DURATION:PT1H
X-Robots-Tag:noindex
X-PUBLISHED-TTL:PT1H
BEGIN:VTIMEZONE
TZID:Europe/London
BEGIN:DAYLIGHT
TZOFFSETFROM:+0000
TZOFFSETTO:+0100
TZNAME:BST
DTSTART:20190331T010000
END:DAYLIGHT
BEGIN:STANDARD
TZOFFSETFROM:+0100
TZOFFSETTO:+0000
TZNAME:GMT
DTSTART:20191027T010000
END:STANDARD
BEGIN:DAYLIGHT
TZOFFSETFROM:+0000
TZOFFSETTO:+0100
TZNAME:BST
DTSTART:20200329T010000
END:DAYLIGHT
BEGIN:STANDARD
TZOFFSETFROM:+0100
TZOFFSETTO:+0000
TZNAME:GMT
DTSTART:20201025T010000
END:STANDARD
BEGIN:DAYLIGHT
TZOFFSETFROM:+0000
TZOFFSETTO:+0100
TZNAME:BST
DTSTART:20210328T010000
END:DAYLIGHT
BEGIN:STANDARD
TZOFFSETFROM:+0100
TZOFFSETTO:+0000
TZNAME:GMT
DTSTART:20211031T010000
END:STANDARD
END:VTIMEZONE
BEGIN:VEVENT
DTSTART;TZID=Europe/London:20200118T103000
DTEND;TZID=Europe/London:20200118T160000
DTSTAMP:20260424T110800
CREATED:20191107T131846Z
LAST-MODIFIED:20191107T131846Z
UID:45800-1579343400-1579363200@www.theclassicslibrary.com
SUMMARY:GCSE Classiv and Ancient History Study Day\, Cambridge
DESCRIPTION:18th January \nExpand your knowledge of your Classical Civilisation or Ancient History GCSE subjects. \nJoin experts who teach and study the ancient world at the University of Cambridge for an inspiring day of talks\, tours\, and taster sessions which will help you get more out of your Classical Civilisation or Ancient History GCSE. \nTravel bursaries available. Group bookings welcome.
URL:https://www.theclassicslibrary.com/event/gcse-classiv-and-ancient-history-study-day-cambridge/
LOCATION:Faculty of Classics\, University of Cambridge\, Sidgwick Avenue\, Cambridge\, CB3 9DA
CATEGORIES:events
ATTACH;FMTTYPE=image/png:https://www.theclassicslibrary.com/wp-content/uploads/2013/10/cambridge-museum.png
END:VEVENT
END:VCALENDAR