BEGIN:VCALENDAR
VERSION:2.0
PRODID:-//The Classics Library - ECPv6.15.20//NONSGML v1.0//EN
CALSCALE:GREGORIAN
METHOD:PUBLISH
X-WR-CALNAME:The Classics Library
X-ORIGINAL-URL:https://www.theclassicslibrary.com
X-WR-CALDESC:Events for The Classics Library
REFRESH-INTERVAL;VALUE=DURATION:PT1H
X-Robots-Tag:noindex
X-PUBLISHED-TTL:PT1H
BEGIN:VTIMEZONE
TZID:Europe/London
BEGIN:DAYLIGHT
TZOFFSETFROM:+0000
TZOFFSETTO:+0100
TZNAME:BST
DTSTART:20190331T010000
END:DAYLIGHT
BEGIN:STANDARD
TZOFFSETFROM:+0100
TZOFFSETTO:+0000
TZNAME:GMT
DTSTART:20191027T010000
END:STANDARD
BEGIN:DAYLIGHT
TZOFFSETFROM:+0000
TZOFFSETTO:+0100
TZNAME:BST
DTSTART:20200329T010000
END:DAYLIGHT
BEGIN:STANDARD
TZOFFSETFROM:+0100
TZOFFSETTO:+0000
TZNAME:GMT
DTSTART:20201025T010000
END:STANDARD
BEGIN:DAYLIGHT
TZOFFSETFROM:+0000
TZOFFSETTO:+0100
TZNAME:BST
DTSTART:20210328T010000
END:DAYLIGHT
BEGIN:STANDARD
TZOFFSETFROM:+0100
TZOFFSETTO:+0000
TZNAME:GMT
DTSTART:20211031T010000
END:STANDARD
END:VTIMEZONE
BEGIN:VEVENT
DTSTART;TZID=Europe/London:20200127T163000
DTEND;TZID=Europe/London:20200127T180000
DTSTAMP:20260424T110926
CREATED:20200106T124439Z
LAST-MODIFIED:20200106T124439Z
UID:46481-1580142600-1580148000@www.theclassicslibrary.com
SUMMARY:Decay and Renewal: Living Conditions\, Populism\, and the Starving Plebs of Romulus' Cesspit from Caesar to Augustus
DESCRIPTION:Kent College Pembury is delighted to invite others to attend the lecture “Decay and Renewal: Living Conditions\, Populism\, and the Starving Plebs of Romulus’ Cesspit from Caesar to Augustus” by Dr Christopher Burden-Strevens from the University of Kent.\n\n \n\nThe Lecture will take place at 4:30 on Monday\, 27th January\, 2020 at Kent College Pembury. It has been designed for GCSE and A Level Classical Civilisation and Latin students. If your school would like to attend\, please email Lizzy hayese@kentcollege.kent.sch.uk.
URL:https://www.theclassicslibrary.com/event/decay-and-renewal-living-conditions-populism-and-the-starving-plebs-of-romulus-cesspit-from-caesar-to-augustus/
LOCATION:Kent College Pembury\, Old Church Road\, Pembury\, TN2 4AX\, United Kingdom
CATEGORIES:events
ATTACH;FMTTYPE=image/jpeg:https://www.theclassicslibrary.com/wp-content/uploads/2017/08/TCL-FB-1-1.jpg
END:VEVENT
END:VCALENDAR