BEGIN:VCALENDAR
VERSION:2.0
PRODID:-//The Classics Library - ECPv6.15.20//NONSGML v1.0//EN
CALSCALE:GREGORIAN
METHOD:PUBLISH
X-WR-CALNAME:The Classics Library
X-ORIGINAL-URL:https://www.theclassicslibrary.com
X-WR-CALDESC:Events for The Classics Library
REFRESH-INTERVAL;VALUE=DURATION:PT1H
X-Robots-Tag:noindex
X-PUBLISHED-TTL:PT1H
BEGIN:VTIMEZONE
TZID:Europe/London
BEGIN:DAYLIGHT
TZOFFSETFROM:+0000
TZOFFSETTO:+0100
TZNAME:BST
DTSTART:20190331T010000
END:DAYLIGHT
BEGIN:STANDARD
TZOFFSETFROM:+0100
TZOFFSETTO:+0000
TZNAME:GMT
DTSTART:20191027T010000
END:STANDARD
BEGIN:DAYLIGHT
TZOFFSETFROM:+0000
TZOFFSETTO:+0100
TZNAME:BST
DTSTART:20200329T010000
END:DAYLIGHT
BEGIN:STANDARD
TZOFFSETFROM:+0100
TZOFFSETTO:+0000
TZNAME:GMT
DTSTART:20201025T010000
END:STANDARD
BEGIN:DAYLIGHT
TZOFFSETFROM:+0000
TZOFFSETTO:+0100
TZNAME:BST
DTSTART:20210328T010000
END:DAYLIGHT
BEGIN:STANDARD
TZOFFSETFROM:+0100
TZOFFSETTO:+0000
TZNAME:GMT
DTSTART:20211031T010000
END:STANDARD
END:VTIMEZONE
BEGIN:VEVENT
DTSTART;VALUE=DATE:20200401
DTEND;VALUE=DATE:20200402
DTSTAMP:20260424T215603
CREATED:20200224T120248Z
LAST-MODIFIED:20200224T120248Z
UID:47275-1585699200-1585785599@www.theclassicslibrary.com
SUMMARY:'Texts and Topics' Conference for A Level Classics
DESCRIPTION:The Birmingham and West Midlands Classics Network is delighted to announce that the Texts and Topics Conference for 2020 is now open for registration.Join us on Wednesday 1st April at the University of Birmingham to revise AS/A Level topics in Ancient History\, Classical Civilisation\, and Latin.The conference is free for students from state schools.The fee for students from independent schools is £10\, payable on the day. Please note that students will need to bring their own packed lunch.To register\, please contact Polly Stoker at p.stoker@bham.ac.ukProgramme:9.30-9.45 Arrival and Registration9.45-10 WelcomeSession 1 10.00-10.45A Level AH: Ruling Roman Britain\, AD 43-128A Level CC: Love and RelationshipsA Level Latin/CC/AH: Politics of the Late Republic10.45-11 BreakSession 2 11-11.45A Level AH:  The end of the Peloponnesian War and its aftermath 419-404 BCA Level CC: Greek TheatreA Level Latin: Cicero\, Philippic 2Session 3 11.45-12.30A Level AH: The Julio-Claudian Emperors\, 31 BC-AD 68 e.g.\, Augustus 31 BC-AD 14A Level CC: The IliadA Level Latin: Virgil\, Aeneid\, Book XI12.30-1.15 LunchSession 4 1.15-2.00A Level AH: Greece and PersiaA Level CC: The AeneidA Level Latin: Tacitus\, Histories 12-2.30 Classics and Ancient History at University
URL:https://www.theclassicslibrary.com/event/texts-and-topics-conference-for-a-level-classics/
LOCATION:University of Birmingham\, Birmingham\, United Kingdom
CATEGORIES:events
ATTACH;FMTTYPE=image/jpeg:https://www.theclassicslibrary.com/wp-content/uploads/2014/02/bmca.jpg
END:VEVENT
END:VCALENDAR