BEGIN:VCALENDAR
VERSION:2.0
PRODID:-//The Classics Library - ECPv6.15.20//NONSGML v1.0//EN
CALSCALE:GREGORIAN
METHOD:PUBLISH
X-WR-CALNAME:The Classics Library
X-ORIGINAL-URL:https://www.theclassicslibrary.com
X-WR-CALDESC:Events for The Classics Library
REFRESH-INTERVAL;VALUE=DURATION:PT1H
X-Robots-Tag:noindex
X-PUBLISHED-TTL:PT1H
BEGIN:VTIMEZONE
TZID:Europe/London
BEGIN:DAYLIGHT
TZOFFSETFROM:+0000
TZOFFSETTO:+0100
TZNAME:BST
DTSTART:20190331T010000
END:DAYLIGHT
BEGIN:STANDARD
TZOFFSETFROM:+0100
TZOFFSETTO:+0000
TZNAME:GMT
DTSTART:20191027T010000
END:STANDARD
BEGIN:DAYLIGHT
TZOFFSETFROM:+0000
TZOFFSETTO:+0100
TZNAME:BST
DTSTART:20200329T010000
END:DAYLIGHT
BEGIN:STANDARD
TZOFFSETFROM:+0100
TZOFFSETTO:+0000
TZNAME:GMT
DTSTART:20201025T010000
END:STANDARD
BEGIN:DAYLIGHT
TZOFFSETFROM:+0000
TZOFFSETTO:+0100
TZNAME:BST
DTSTART:20210328T010000
END:DAYLIGHT
BEGIN:STANDARD
TZOFFSETFROM:+0100
TZOFFSETTO:+0000
TZNAME:GMT
DTSTART:20211031T010000
END:STANDARD
END:VTIMEZONE
BEGIN:VEVENT
DTSTART;VALUE=DATE:20200412
DTEND;VALUE=DATE:20200420
DTSTAMP:20260424T215519
CREATED:20191126T131140Z
LAST-MODIFIED:20191126T131140Z
UID:46140-1586649600-1587340799@www.theclassicslibrary.com
SUMMARY:Classics Abroad Easter Course 2020 + Sixth Form Workshops
DESCRIPTION:Applications are now open for the Forte Academy Easter Course in Florence! Explore the Classical mythology and inspiration behind the Renaissance with Italian lessons\, site visits and various cultural activities included.\n\n \n\nDates: Sunday 12th – Sunday 19th April 2020 (Teaching Mon – Fri)\n\n \n\nVisit our website for more details or request an application form.\n\n \n\nWe particularly encourage applications from teachers and interested adults from any discipline\, looking to enrich their personal and academic interests in Florence. Early Bird Reduction applicable until 31st December 2019.\n\n \n\nWorkshops for Sixth Form Students\n\n \n\n“Latalian: Learning Italian through Latin” (1 hour) for those who have studied Latin at any level. No prior knowledge of Italian required.\n\n \n\nClassics and the Renaissance (1 hour) taster session for humanities/arts students.\n\n \n\nDates: December and January 2020\n\n \n\nIf you would like us to deliver a workshop at your school\, please fill out this enquiry form.
URL:https://www.theclassicslibrary.com/event/classics-abroad-easter-course-2020-sixth-form-workshops/
CATEGORIES:events
ATTACH;FMTTYPE=image/jpeg:https://www.theclassicslibrary.com/wp-content/uploads/2019/11/IMG_4830-scaled.jpg
END:VEVENT
END:VCALENDAR