BEGIN:VCALENDAR
VERSION:2.0
PRODID:-//The Classics Library - ECPv6.15.20//NONSGML v1.0//EN
CALSCALE:GREGORIAN
METHOD:PUBLISH
X-WR-CALNAME:The Classics Library
X-ORIGINAL-URL:https://www.theclassicslibrary.com
X-WR-CALDESC:Events for The Classics Library
REFRESH-INTERVAL;VALUE=DURATION:PT1H
X-Robots-Tag:noindex
X-PUBLISHED-TTL:PT1H
BEGIN:VTIMEZONE
TZID:Europe/London
BEGIN:DAYLIGHT
TZOFFSETFROM:+0000
TZOFFSETTO:+0100
TZNAME:BST
DTSTART:20190331T010000
END:DAYLIGHT
BEGIN:STANDARD
TZOFFSETFROM:+0100
TZOFFSETTO:+0000
TZNAME:GMT
DTSTART:20191027T010000
END:STANDARD
BEGIN:DAYLIGHT
TZOFFSETFROM:+0000
TZOFFSETTO:+0100
TZNAME:BST
DTSTART:20200329T010000
END:DAYLIGHT
BEGIN:STANDARD
TZOFFSETFROM:+0100
TZOFFSETTO:+0000
TZNAME:GMT
DTSTART:20201025T010000
END:STANDARD
BEGIN:DAYLIGHT
TZOFFSETFROM:+0000
TZOFFSETTO:+0100
TZNAME:BST
DTSTART:20210328T010000
END:DAYLIGHT
BEGIN:STANDARD
TZOFFSETFROM:+0100
TZOFFSETTO:+0000
TZNAME:GMT
DTSTART:20211031T010000
END:STANDARD
END:VTIMEZONE
BEGIN:VEVENT
DTSTART;TZID=Europe/London:20200423T190000
DTEND;TZID=Europe/London:20200423T200000
DTSTAMP:20260424T215539
CREATED:20190903T134730Z
LAST-MODIFIED:20190903T134730Z
UID:45762-1587668400-1587672000@www.theclassicslibrary.com
SUMMARY:Pattern and Chaos in the Labyrinth
DESCRIPTION:Thursday 23rd April 7pmPattern and Chaos in the LabyrinthCharlotte Higgins\, Chief Culture Writer at The Guardian\, Classicist and Author \nAKS\, Main Entrance\, Clifton Drive South\, Lytham St Annes FY8 1DT \nLectures 7 – 8pm Doors open at 6.15pm \nFree to members Non-members £5\nEveryone Welcome. You can join anytime. https://lsaclassics.com/ \nFLIER FOR THE PROGRAMME
URL:https://www.theclassicslibrary.com/event/pattern-and-chaos-in-the-labyrinth/
LOCATION:AKS\, Clifton Drive South\, Lytham\, Sta Anne's\, Lancashire\, FY8 1DT\, United Kingdom
CATEGORIES:events
ATTACH;FMTTYPE=image/jpeg:https://www.theclassicslibrary.com/wp-content/uploads/2019/09/lsa-2019.jpg
END:VEVENT
END:VCALENDAR