BEGIN:VCALENDAR
VERSION:2.0
PRODID:-//The Classics Library - ECPv6.15.20//NONSGML v1.0//EN
CALSCALE:GREGORIAN
METHOD:PUBLISH
X-ORIGINAL-URL:https://www.theclassicslibrary.com
X-WR-CALDESC:Events for The Classics Library
REFRESH-INTERVAL;VALUE=DURATION:PT1H
X-Robots-Tag:noindex
X-PUBLISHED-TTL:PT1H
BEGIN:VTIMEZONE
TZID:Europe/London
BEGIN:DAYLIGHT
TZOFFSETFROM:+0000
TZOFFSETTO:+0100
TZNAME:BST
DTSTART:20220327T010000
END:DAYLIGHT
BEGIN:STANDARD
TZOFFSETFROM:+0100
TZOFFSETTO:+0000
TZNAME:GMT
DTSTART:20221030T010000
END:STANDARD
BEGIN:DAYLIGHT
TZOFFSETFROM:+0000
TZOFFSETTO:+0100
TZNAME:BST
DTSTART:20230326T010000
END:DAYLIGHT
BEGIN:STANDARD
TZOFFSETFROM:+0100
TZOFFSETTO:+0000
TZNAME:GMT
DTSTART:20231029T010000
END:STANDARD
BEGIN:DAYLIGHT
TZOFFSETFROM:+0000
TZOFFSETTO:+0100
TZNAME:BST
DTSTART:20240331T010000
END:DAYLIGHT
BEGIN:STANDARD
TZOFFSETFROM:+0100
TZOFFSETTO:+0000
TZNAME:GMT
DTSTART:20241027T010000
END:STANDARD
END:VTIMEZONE
BEGIN:VEVENT
DTSTART;VALUE=DATE:20231117
DTEND;VALUE=DATE:20231118
DTSTAMP:20260425T012127
CREATED:20231003T142036Z
LAST-MODIFIED:20231003T142036Z
UID:56253-1700179200-1700265599@www.theclassicslibrary.com
SUMMARY:Classics Conference at The Harrodian School (17th November)
DESCRIPTION:On Friday 17th November 2023 we will be hosting our annual Harrodian Sixth form Classics Conference at The Harrodian School.\n\n \n\nProfessor Armand D’Angour of Jesus College\, Oxford\, will speak on Greek Tragedy; Professor Richard Jenkyns of Lady Margaret Hall\, Oxford\, will speak on Homer and Virgil; Dr Andrew Sillett of St Hilda’s College\, Oxford\, will speak on Cicero; Dr Anne Alwis of the University of Kent will speak on Love\, Sexuality and Gender in Greece and Rome\, and Ms Jessica Glueck and Krasimir Ivanov will discuss and demonstrate learning with Active Latin.\n\n \n\nThis is for students to attend with their school.\n\n \n\nTo cover the costs we are asking students to pay £25.00. Lunch will be provided and staff places are free.   \n\n \n\nPlease email cgibb@harrodian.com to confirm your booking and make payment by Monday 23rd October to confirm your place.  
URL:https://www.theclassicslibrary.com/event/classics-conference-at-the-harrodian-school-17th-november/
LOCATION:Harrodian School\, Lonsdale Road\, London\, SW13 9QN\, United Kingdom
CATEGORIES:events
ATTACH;FMTTYPE=image/jpeg:https://www.theclassicslibrary.com/wp-content/uploads/2017/09/harrodian-big.jpg
END:VEVENT
END:VCALENDAR