BEGIN:VCALENDAR
VERSION:2.0
PRODID:-//The Classics Library - ECPv6.15.20//NONSGML v1.0//EN
CALSCALE:GREGORIAN
METHOD:PUBLISH
X-WR-CALNAME:The Classics Library
X-ORIGINAL-URL:https://www.theclassicslibrary.com
X-WR-CALDESC:Events for The Classics Library
REFRESH-INTERVAL;VALUE=DURATION:PT1H
X-Robots-Tag:noindex
X-PUBLISHED-TTL:PT1H
BEGIN:VTIMEZONE
TZID:Europe/London
BEGIN:DAYLIGHT
TZOFFSETFROM:+0000
TZOFFSETTO:+0100
TZNAME:BST
DTSTART:20230326T010000
END:DAYLIGHT
BEGIN:STANDARD
TZOFFSETFROM:+0100
TZOFFSETTO:+0000
TZNAME:GMT
DTSTART:20231029T010000
END:STANDARD
BEGIN:DAYLIGHT
TZOFFSETFROM:+0000
TZOFFSETTO:+0100
TZNAME:BST
DTSTART:20240331T010000
END:DAYLIGHT
BEGIN:STANDARD
TZOFFSETFROM:+0100
TZOFFSETTO:+0000
TZNAME:GMT
DTSTART:20241027T010000
END:STANDARD
BEGIN:DAYLIGHT
TZOFFSETFROM:+0000
TZOFFSETTO:+0100
TZNAME:BST
DTSTART:20250330T010000
END:DAYLIGHT
BEGIN:STANDARD
TZOFFSETFROM:+0100
TZOFFSETTO:+0000
TZNAME:GMT
DTSTART:20251026T010000
END:STANDARD
END:VTIMEZONE
BEGIN:VEVENT
DTSTART;VALUE=DATE:20240120
DTEND;VALUE=DATE:20240317
DTSTAMP:20260422T055815
CREATED:20231114T142942Z
LAST-MODIFIED:20231205T141559Z
UID:56524-1705708800-1710633599@www.theclassicslibrary.com
SUMMARY:Virgil Society Schools Day
DESCRIPTION:Saturday 20th January 2024 Room G22/26 \, South Block\, Senate House\, Malet Street\, London \n\n\n\n11:00 a.m.  Welcome (Alice Bolland\, South Hampstead High School) \n\n\n\n\n\n11:15 a.m.  GCSE Latin \n\n\n\nDr Jean-Michel Hulls (Dulwich College) \n\n\n\n‘Learning about the Roman (under)world with Aeneas’\n\n\n\nThe GCSE prescription of Aeneid 6 is (unavoidably) selective\, leaving out more of Virgil’s complex underworld narrative than it includes. By looking at the text in the round\, we can see that the experience was equally tricky for Virgil’s contemporary audience\, and for Aeneas himself. Unpicking some of the hero’s confusion can help us understand the history\, philosophy and literature behind Book 6. \n\n\n\n\n\n2:15 p.m.  A-level Classical Civilisation (“The World of the Hero”) \n\n\n\nDr Niki Karapanagioti (Oxford High School GDST) \n\n\n\n‘Women in Homer and Virgil: Symbols of a hero’s achievements or co-heroes?’\n\n\n\nThe talk is going to focus on mortal women in Homer’s Iliad and Odyssey and in Virgil’s Aeneid. It will discuss the mortal women’s appearance in the narrative as victims of men’s pursuit of glory\, fame and honour. But it is also going to try and identify places in all three epics where women are presented in a more positive light\, taking on traits associated with the role of a hero. \n\n\n\n\n\n3:00 p.m.   A-level Latin \n\n\n\nDr Luke Houghton (Queen’s College London / UCL\, Royal Holloway) \n\n\n\n‘Character\, rhetoric\, and description in Aeneid 12’\n\n\n\nHow do you end a story with a predetermined outcome? How can you create tension and hold readers’ attention and interest when significant elements in your plotline have already been infallibly foretold earlier in the narrative? Through close reading of the text of Aeneid 12\, this talk illustrates some of the ways in which Virgil attempts to ensure that his readers remain invested in his characters and their fate even as the overarching course of Roman destiny works itself out over the final book of the poem. \n\n\n\nAttendees are welcome to attend any or all of the talks. Lunch will not be provided\, but light refreshments (tea\, coffee\, biscuits) will be available. The event is free to attend\, but we would be grateful if you could let us know if you and/or your students intend to join us\, so that we have a rough idea of numbers\, by emailing Alice Bolland (alicebolland296@gmail.com) or Luke Houghton (lbthoughton@hotmail.com) before 31st December 2023.
URL:https://www.theclassicslibrary.com/event/virgil-society-schools-day/
LOCATION:Senate House\, Malet Street\, London\, WC1E 7HU\, United Kingdom
CATEGORIES:events
ATTACH;FMTTYPE=image/png:https://www.theclassicslibrary.com/wp-content/uploads/2023/11/virgil-society.png
END:VEVENT
BEGIN:VEVENT
DTSTART;VALUE=DATE:20240302
DTEND;VALUE=DATE:20240303
DTSTAMP:20260422T055816
CREATED:20231114T145311Z
LAST-MODIFIED:20231114T145311Z
UID:56535-1709337600-1709423999@www.theclassicslibrary.com
SUMMARY:ARLT Refresher Day 2024
DESCRIPTION:SAVE THE DATE!\n \n\nRegistration is about to open for our Refresher Day 2024. This year\, we will be meeting on Saturday 02/03 in Reading under the direction of Jacob Duncan\, and we have a great line-up of workshops as well as Eleanor Dickey\, The Hellenic Book Service and Grain Cassidy from the CA in attendance.\n\n \n\nYou can have a first peak here: https://www.arlt.co.uk/event-posts/refresher-day-2024-kendrick-school-reading/
URL:https://www.theclassicslibrary.com/event/arlt-refresher-day-2024/
LOCATION:Kendrick School\, 41-3 London Road\, Reading\, RG1 5BN\, United Kingdom
CATEGORIES:events
ATTACH;FMTTYPE=image/jpeg:https://www.theclassicslibrary.com/wp-content/uploads/2023/11/ARLT-LOGO.jpg
ORGANIZER;CN="Ana Martin":MAILTO:a.martin@nwc.gdst.net
END:VEVENT
BEGIN:VEVENT
DTSTART;VALUE=DATE:20240302
DTEND;VALUE=DATE:20240303
DTSTAMP:20260422T055816
CREATED:20240112T144249Z
LAST-MODIFIED:20240112T144249Z
UID:56844-1709337600-1709423999@www.theclassicslibrary.com
SUMMARY:Wild Visions\, Untamed Myth
DESCRIPTION:Double bill of Greek Myth touring Jan-Mar (suitable for 14yrs+)\n\n \n\nPlunge into the wild world of the goddess Artemis. Then meet Kassandra\, blessed with the power to see the future\, cursed with never being believed\n\n \n\nStorytellers: Katy Cawkwell & Lucy Lill More details: www.wildvisions.org\n\n \n\n \n\n \n\n \n\nVenues: Dorset Rural Touring\, Sheffield\, Poole\, Cambridge\, Richmond (N. Yorks)\, Newcastle\, Bath\, Leicester\, Liverpool\, Leeds\, Oxford\, Havant\, nr Bristol\n\n \n\nSponsored by Elanthy extra-virgin olive oil from Greece\n\n \n\nAlso schools performances part-funded by the Hellenic Society. Contact katycawkwell@gmail.com for more details
URL:https://www.theclassicslibrary.com/event/wild-visions-untamed-myth-7/
LOCATION:Rondo Theatre\, Bath\, BA1 6RT\, United Kingdom
CATEGORIES:events
ATTACH;FMTTYPE=image/jpeg:https://www.theclassicslibrary.com/wp-content/uploads/2024/01/WV_1920x1005-1.jpg
END:VEVENT
BEGIN:VEVENT
DTSTART;VALUE=DATE:20240302
DTEND;VALUE=DATE:20240303
DTSTAMP:20260422T055816
CREATED:20240118T144825Z
LAST-MODIFIED:20240118T144825Z
UID:56977-1709337600-1709423999@www.theclassicslibrary.com
SUMMARY:de Romanis Teachers' Day
DESCRIPTION:Saturday 2nd March\n\n \n\nDownload the Flyer!\n\n \nProgramme for the Day\n \n\n10am Arrivals: Join us for coffee\, biscuits and informal discussion\n\n \n\n10.20 Introduction to the day\nDom Jones (HoD\, King Edward’s School\, Birmingham)\n\n \n\n0.30-11.15 Discussion Workshop 1: Getting Started\nNaomi Bradshaw (Notting Hill and Ealing High School) and Ana Henderson (Loughborough Grammar School) will lead two discussion workshops\, each focussed on getting started.\n\n \n\nThis workshop is an opportunity to reflect on making the change\, why it’s worth it\, and how to manage the transition smoothly.\n\n \n\n11.35-12.20 Discussion Workshop 2: Flexibility and Accessibility\nLaura Warren (Queenswood School) and Angela Cheetham (de Romanis author\, Bedford Modern School) will lead two discussion workshops\, each focussed on the core pedagogical principles behind de Romanis’ design: flexibility and accessibility.\n\n \n\nThis workshop is an opportunity to discuss how to get the best from the flexibility offered by the course and how to make materials more or less challenging in a way that caters for your classes’ needs.\n\n \n\n2.30-1pm de Romanis Book 3: Scriptores\nKatharine Radice (lead author for de Romanis\, Parkside Community College) will outline the details of de Romanis Book 3\, planned for publication in 2025.\n\n \n\n1-1.45pm Lunch\n\n \n\n1.45-2.30pm Discussion Workshop 3: What’s left when the lesson ends?\nDom Jones and Dr Sonya Kirk (de Romanis author\, Chesterton Community College) will lead two discussion workshops\, each focussed on what happens when the schemes of work have finished: what are students left with as takeaway knowledge / skills and what difference does the course make for those students continuing to GCSE and beyond?\n\n \n\nThis workshop is an opportunity to think about the transferable language literacy skills developed by de Romanis and the impact of the cultural context covered by the course.\n\n \n\n2.40-3.15pm Final thoughts: conclusions and next steps\nKatharine Radice will chair a round-table discussion\, focussed on the headline conclusions from the days’ sessions. This discussion will face forwards to the course’s development and reflect on ways to best support departments in using de Romanis and how to develop the course further.
URL:https://www.theclassicslibrary.com/event/de-romanis-teachers-day/
LOCATION:King Edward’s School Birmingham\, Edgbaston Park Road\, Birmingham\, B15 2UA\, United Kingdom
CATEGORIES:events
ATTACH;FMTTYPE=image/jpeg:https://www.theclassicslibrary.com/wp-content/uploads/2024/01/de-rom-teachers-day.jpg
END:VEVENT
BEGIN:VEVENT
DTSTART;TZID=Europe/London:20240302T023000
DTEND;TZID=Europe/London:20240302T160000
DTSTAMP:20260422T055816
CREATED:20231114T155755Z
LAST-MODIFIED:20231114T155755Z
UID:56547-1709346600-1709395200@www.theclassicslibrary.com
SUMMARY:‘Mapping the Middle in Vergil’s Aeneid’ (Virgil Society)
DESCRIPTION:Saturday 2 March 2024\, 2:30 p.m.\n\n \n\nDr Matthew Robinson (University of Oxford)\n‘Mapping the Middle in Vergil’s Aeneid’\n\n \nFURTHER INFORMATION
URL:https://www.theclassicslibrary.com/event/mapping-the-middle-in-vergils-aeneid-virgil-society/
LOCATION:Senate House\, Malet Street\, London\, WC1E 7HU\, United Kingdom
CATEGORIES:events
ATTACH;FMTTYPE=image/png:https://www.theclassicslibrary.com/wp-content/uploads/2023/11/virgil-society.png
END:VEVENT
END:VCALENDAR