BEGIN:VCALENDAR
VERSION:2.0
PRODID:-//The Classics Library - ECPv6.15.20//NONSGML v1.0//EN
CALSCALE:GREGORIAN
METHOD:PUBLISH
X-WR-CALNAME:The Classics Library
X-ORIGINAL-URL:https://www.theclassicslibrary.com
X-WR-CALDESC:Events for The Classics Library
REFRESH-INTERVAL;VALUE=DURATION:PT1H
X-Robots-Tag:noindex
X-PUBLISHED-TTL:PT1H
BEGIN:VTIMEZONE
TZID:Europe/London
BEGIN:DAYLIGHT
TZOFFSETFROM:+0000
TZOFFSETTO:+0100
TZNAME:BST
DTSTART:20230326T010000
END:DAYLIGHT
BEGIN:STANDARD
TZOFFSETFROM:+0100
TZOFFSETTO:+0000
TZNAME:GMT
DTSTART:20231029T010000
END:STANDARD
BEGIN:DAYLIGHT
TZOFFSETFROM:+0000
TZOFFSETTO:+0100
TZNAME:BST
DTSTART:20240331T010000
END:DAYLIGHT
BEGIN:STANDARD
TZOFFSETFROM:+0100
TZOFFSETTO:+0000
TZNAME:GMT
DTSTART:20241027T010000
END:STANDARD
BEGIN:DAYLIGHT
TZOFFSETFROM:+0000
TZOFFSETTO:+0100
TZNAME:BST
DTSTART:20250330T010000
END:DAYLIGHT
BEGIN:STANDARD
TZOFFSETFROM:+0100
TZOFFSETTO:+0000
TZNAME:GMT
DTSTART:20251026T010000
END:STANDARD
END:VTIMEZONE
BEGIN:VEVENT
DTSTART;VALUE=DATE:20240402
DTEND;VALUE=DATE:20240404
DTSTAMP:20260422T091331
CREATED:20230913T141917Z
LAST-MODIFIED:20230913T141917Z
UID:56099-1712016000-1712188799@www.theclassicslibrary.com
SUMMARY:ELCSS 2-day GCSE Easter Latin Revision Course 2024
DESCRIPTION:Two full days of intensive Latin Language learning and consolidation in direct preparation for the GCSE examinations in the summer. Candidates will be coming to the end of Year 11 and will be readying themselves for examination. We will be revisiting aspects of the language specification that students generally find difficult\, like the indirect statement\, the ablative absolute\, and the uses of the subjunctive. These set-pieces feature in every GCSE examination paper and it is important that the grammatical knowledge of them is secure. We will look at these constructions in isolation\, and then also disguised in unseen passages of Latin\, GCSE past papers\, where they can be more difficult to identify.\n\n \nInformation Brochure\n \n\nBy the end of two days\, students will not only be able to comfortably understand the core linguistic grammatical detail of the Latin syntactical constructions\, but also be able to recognise and translate them with confidence. The course will directly improve public examination performance as they will have readied themselves for the content.\n\n \n\nBook with their online booking form!
URL:https://www.theclassicslibrary.com/event/elcss-2-day-gcse-easter-latin-revision-course-2024/
CATEGORIES:events
END:VEVENT
END:VCALENDAR