BEGIN:VCALENDAR
VERSION:2.0
PRODID:-//The Classics Library - ECPv6.15.20//NONSGML v1.0//EN
CALSCALE:GREGORIAN
METHOD:PUBLISH
X-WR-CALNAME:The Classics Library
X-ORIGINAL-URL:https://www.theclassicslibrary.com
X-WR-CALDESC:Events for The Classics Library
REFRESH-INTERVAL;VALUE=DURATION:PT1H
X-Robots-Tag:noindex
X-PUBLISHED-TTL:PT1H
BEGIN:VTIMEZONE
TZID:Europe/London
BEGIN:DAYLIGHT
TZOFFSETFROM:+0000
TZOFFSETTO:+0100
TZNAME:BST
DTSTART:20230326T010000
END:DAYLIGHT
BEGIN:STANDARD
TZOFFSETFROM:+0100
TZOFFSETTO:+0000
TZNAME:GMT
DTSTART:20231029T010000
END:STANDARD
BEGIN:DAYLIGHT
TZOFFSETFROM:+0000
TZOFFSETTO:+0100
TZNAME:BST
DTSTART:20240331T010000
END:DAYLIGHT
BEGIN:STANDARD
TZOFFSETFROM:+0100
TZOFFSETTO:+0000
TZNAME:GMT
DTSTART:20241027T010000
END:STANDARD
BEGIN:DAYLIGHT
TZOFFSETFROM:+0000
TZOFFSETTO:+0100
TZNAME:BST
DTSTART:20250330T010000
END:DAYLIGHT
BEGIN:STANDARD
TZOFFSETFROM:+0100
TZOFFSETTO:+0000
TZNAME:GMT
DTSTART:20251026T010000
END:STANDARD
END:VTIMEZONE
BEGIN:VEVENT
DTSTART;TZID=Europe/London:20240424T160000
DTEND;TZID=Europe/London:20240424T170000
DTSTAMP:20260422T032448
CREATED:20240312T163438Z
LAST-MODIFIED:20240312T163438Z
UID:57546-1713974400-1713978000@www.theclassicslibrary.com
SUMMARY:CLASSICS FOR ALL: Key Stage 3 Classics and English CPD: Using Classical Heroes and Mythology in Key Stage 3 English
DESCRIPTION:CLASSICS FOR ALL: Key Stage 3 Classics and English CPD: Using Classical Heroes and Mythology in Key Stage 3 English\n \nWednesday 24th April 2024\, 4–5pm\, Online\n \n\nAlastair Thorley is an experienced Classics teacher and A Level examiner. He has produced resources for the Classical Association on the Classical Civilisation GCSE syllabus and has trained teachers new to the subject through both Classics For All and Keynote. He also contributed to two of the A Level Classical Civilisation textbooks.\n\n \n\nAlastair has created resources based on the Mary Beard video on “Heroes” and will be discussing how these resources can be used by teachers.\n\n \n\nThe idea of what it means to be a hero is always interesting and endlessly evolving. The media prematurely and ironically announces the death of superhero movies in every weekly review of the latest contributions to the genre in the cinema or on the television. We have been\, are and always will be fascinated by what it takes to be better than ourselves.\n\n \n\nThese resources have been designed to enable pupils to look behind the superhero and consider how these characters are created and made interesting and relatable. Neither the pupils nor the teacher needs to have any knowledge of Classical myths and all are encouraged to draw from their own personal experiences. The myths are told in the form of short\, impactful videos. The resources could lead to the pupils producing a longer piece of creative writing but are also designed to be self-contained.\n\n \n\nTo register for the CPD please complete this form by Monday 22nd April. Zoom details for the event will be sent out on Tuesday 23rd April.
URL:https://www.theclassicslibrary.com/event/classics-for-all-key-stage-3-classics-and-english-cpd-using-classical-heroes-and-mythology-in-key-stage-3-english/
CATEGORIES:events
ATTACH;FMTTYPE=image/jpeg:https://www.theclassicslibrary.com/wp-content/uploads/2022/11/cfa.jpg
END:VEVENT
END:VCALENDAR