BEGIN:VCALENDAR
VERSION:2.0
PRODID:-//The Classics Library - ECPv6.15.20//NONSGML v1.0//EN
CALSCALE:GREGORIAN
METHOD:PUBLISH
X-WR-CALNAME:The Classics Library
X-ORIGINAL-URL:https://www.theclassicslibrary.com
X-WR-CALDESC:Events for The Classics Library
REFRESH-INTERVAL;VALUE=DURATION:PT1H
X-Robots-Tag:noindex
X-PUBLISHED-TTL:PT1H
BEGIN:VTIMEZONE
TZID:Europe/London
BEGIN:DAYLIGHT
TZOFFSETFROM:+0000
TZOFFSETTO:+0100
TZNAME:BST
DTSTART:20230326T010000
END:DAYLIGHT
BEGIN:STANDARD
TZOFFSETFROM:+0100
TZOFFSETTO:+0000
TZNAME:GMT
DTSTART:20231029T010000
END:STANDARD
BEGIN:DAYLIGHT
TZOFFSETFROM:+0000
TZOFFSETTO:+0100
TZNAME:BST
DTSTART:20240331T010000
END:DAYLIGHT
BEGIN:STANDARD
TZOFFSETFROM:+0100
TZOFFSETTO:+0000
TZNAME:GMT
DTSTART:20241027T010000
END:STANDARD
BEGIN:DAYLIGHT
TZOFFSETFROM:+0000
TZOFFSETTO:+0100
TZNAME:BST
DTSTART:20250330T010000
END:DAYLIGHT
BEGIN:STANDARD
TZOFFSETFROM:+0100
TZOFFSETTO:+0000
TZNAME:GMT
DTSTART:20251026T010000
END:STANDARD
END:VTIMEZONE
BEGIN:VEVENT
DTSTART;VALUE=DATE:20240427
DTEND;VALUE=DATE:20240428
DTSTAMP:20260422T050451
CREATED:20230729T150201Z
LAST-MODIFIED:20230729T150201Z
UID:55886-1714176000-1714262399@www.theclassicslibrary.com
SUMMARY:ANCIENT WORLDS DAY Lectures\, Stalls Ancient Greek Drama\, Competition Final
DESCRIPTION:Professor Michael Scott\, Historian\, Author\, Broadcaster Professor of Classics and Ancient History\, University of Warwick\n\n\n\nhttps://lsaclassics.com/current-programme/
URL:https://www.theclassicslibrary.com/event/ancient-worlds-day-lectures-stalls-ancient-greek-drama-competition-final/
LOCATION:AKS\, Clifton Drive South\, Lytham\, Sta Anne's\, Lancashire\, FY8 1DT\, United Kingdom
CATEGORIES:events
ATTACH;FMTTYPE=image/jpeg:https://www.theclassicslibrary.com/wp-content/uploads/2023/07/LSA-CA-DRAFT-Lecture-Programme-2023-241024_1.jpg
END:VEVENT
END:VCALENDAR