BEGIN:VCALENDAR
VERSION:2.0
PRODID:-//The Classics Library - ECPv6.15.20//NONSGML v1.0//EN
CALSCALE:GREGORIAN
METHOD:PUBLISH
X-WR-CALNAME:The Classics Library
X-ORIGINAL-URL:https://www.theclassicslibrary.com
X-WR-CALDESC:Events for The Classics Library
REFRESH-INTERVAL;VALUE=DURATION:PT1H
X-Robots-Tag:noindex
X-PUBLISHED-TTL:PT1H
BEGIN:VTIMEZONE
TZID:Europe/London
BEGIN:DAYLIGHT
TZOFFSETFROM:+0000
TZOFFSETTO:+0100
TZNAME:BST
DTSTART:20230326T010000
END:DAYLIGHT
BEGIN:STANDARD
TZOFFSETFROM:+0100
TZOFFSETTO:+0000
TZNAME:GMT
DTSTART:20231029T010000
END:STANDARD
BEGIN:DAYLIGHT
TZOFFSETFROM:+0000
TZOFFSETTO:+0100
TZNAME:BST
DTSTART:20240331T010000
END:DAYLIGHT
BEGIN:STANDARD
TZOFFSETFROM:+0100
TZOFFSETTO:+0000
TZNAME:GMT
DTSTART:20241027T010000
END:STANDARD
BEGIN:DAYLIGHT
TZOFFSETFROM:+0000
TZOFFSETTO:+0100
TZNAME:BST
DTSTART:20250330T010000
END:DAYLIGHT
BEGIN:STANDARD
TZOFFSETFROM:+0100
TZOFFSETTO:+0000
TZNAME:GMT
DTSTART:20251026T010000
END:STANDARD
END:VTIMEZONE
BEGIN:VEVENT
DTSTART;VALUE=DATE:20240703
DTEND;VALUE=DATE:20240704
DTSTAMP:20260421T163509
CREATED:20240601T133621Z
LAST-MODIFIED:20240601T133621Z
UID:58787-1719964800-1720051199@www.theclassicslibrary.com
SUMMARY:A Day with the KCL Classics Department
DESCRIPTION:Wednesday\, July 3 · 9:30am – 3:30pm GMT+1\n\nAn in person day of sessions hosted by King’s College\, London\, including a session at the British Museum\n\n \n\nKCL is delighted to invite Year 12 students to attend a day of talks at the British Museum and King’s College London. Register your interest by reserving a space and you will be emailed an application form.\n\n \n\n\n\n \nOutline of the day\n \n\nMeet at the British Museum (exact meeting place and time will be sent after registration has closed)\n\n \n\nMorning session – British Museum: Drs John Pearce and Bobby Xinyue on objects from the Roman collection\, contextualised from an archaeological and from a literary perspective.\n\n \n\nLunch and refreshments (KCL\, Strand Campus)\n\n \n\nAfternoon session 1: 1pm to 2pm: James Corke-Webster: ‘Living on the Edge in Roman Britain’ (ancient history interactive taster)\n\n \n\nAfternoon session 2: 2pm to 3pm: Dr Martin Dinter: ‘Tattoos in Antiquity’ (cultural history taster)\n\n \nFurther Information and to Reserve a Place
URL:https://www.theclassicslibrary.com/event/a-day-with-the-kcl-classics-department/
LOCATION:KCL\, 170 Strand\, London\, WC2R 2LS\, United Kingdom
CATEGORIES:events
ATTACH;FMTTYPE=image/jpeg:https://www.theclassicslibrary.com/wp-content/uploads/2016/04/kcl-big.jpg
END:VEVENT
END:VCALENDAR