BEGIN:VCALENDAR
VERSION:2.0
PRODID:-//The Classics Library - ECPv6.15.20//NONSGML v1.0//EN
CALSCALE:GREGORIAN
METHOD:PUBLISH
X-ORIGINAL-URL:https://www.theclassicslibrary.com
X-WR-CALDESC:Events for The Classics Library
REFRESH-INTERVAL;VALUE=DURATION:PT1H
X-Robots-Tag:noindex
X-PUBLISHED-TTL:PT1H
BEGIN:VTIMEZONE
TZID:Europe/London
BEGIN:DAYLIGHT
TZOFFSETFROM:+0000
TZOFFSETTO:+0100
TZNAME:BST
DTSTART:20230326T010000
END:DAYLIGHT
BEGIN:STANDARD
TZOFFSETFROM:+0100
TZOFFSETTO:+0000
TZNAME:GMT
DTSTART:20231029T010000
END:STANDARD
BEGIN:DAYLIGHT
TZOFFSETFROM:+0000
TZOFFSETTO:+0100
TZNAME:BST
DTSTART:20240331T010000
END:DAYLIGHT
BEGIN:STANDARD
TZOFFSETFROM:+0100
TZOFFSETTO:+0000
TZNAME:GMT
DTSTART:20241027T010000
END:STANDARD
BEGIN:DAYLIGHT
TZOFFSETFROM:+0000
TZOFFSETTO:+0100
TZNAME:BST
DTSTART:20250330T010000
END:DAYLIGHT
BEGIN:STANDARD
TZOFFSETFROM:+0100
TZOFFSETTO:+0000
TZNAME:GMT
DTSTART:20251026T010000
END:STANDARD
END:VTIMEZONE
BEGIN:VEVENT
DTSTART;VALUE=DATE:20240720
DTEND;VALUE=DATE:20240728
DTSTAMP:20260421T163652
CREATED:20240126T181247Z
LAST-MODIFIED:20240126T181247Z
UID:57134-1721433600-1722124799@www.theclassicslibrary.com
SUMMARY:JACT Durham Greek & Latin Summer School 2024
DESCRIPTION:The 30th JACT Durham Greek & Latin Summer School will take place from Saturday 20th – Saturday 27th July 2024 at St John’s College\, Durham.\n\n \n\nThey offer courses at six levels in both languages. (see Course Offered) from beginners to advanced\, with our highly qualified and experienced tutors from schools and universities.\n\n \n\nStudents have 18 hours of tuition for which they are expected to prepare in the time available for private study. They work hard\, but also have time for relaxation and optional visits to Hadrian’s Wall\, the cathedral and other local places of interest. In the evenings they have lectures on a wide range of classical topics from visiting speakers. In the afternoons they have optional sessions which might include grammar clinics\, lectures or discussions. On the first night\, they meet our teaching groups by teaming up with them to participate in a classical quiz. On the last evening\, there will be a formal dinner.\n\n \nFURTHER INFORMATION AND TO BOOK
URL:https://www.theclassicslibrary.com/event/jact-durham-greek-latin-summer-school-2024/
LOCATION:St John’s College\, University of Durham\, 3 South Bailey\, Durham\, DH1 3RJ\, United Kingdom
CATEGORIES:events
ATTACH;FMTTYPE=image/jpeg:https://www.theclassicslibrary.com/wp-content/uploads/2019/02/st-johns-durham.jpg
END:VEVENT
BEGIN:VEVENT
DTSTART;VALUE=DATE:20240722
DTEND;VALUE=DATE:20240727
DTSTAMP:20260421T163652
CREATED:20240207T164501Z
LAST-MODIFIED:20240207T164501Z
UID:57241-1721606400-1722038399@www.theclassicslibrary.com
SUMMARY:Belfast Summer School in Ancient Languages 2024
DESCRIPTION:The ninth Belfast Summer School in ancient languages will take place in July 2024. Students can attend in-person at Queen’s University Belfast between Monday 22nd and Friday 26th July\, or virtually on Zoom between Monday 8th July and Friday 19th July.\n\n \n\nCourses are available in Latin and Classical Greek.\n\n \nFurther details and to book!
URL:https://www.theclassicslibrary.com/event/belfast-summer-school-in-ancient-languages-2024/
CATEGORIES:events
ATTACH;FMTTYPE=image/jpeg:https://www.theclassicslibrary.com/wp-content/uploads/2017/08/TCL-FB-1-1.jpg
END:VEVENT
BEGIN:VEVENT
DTSTART;VALUE=DATE:20240722
DTEND;VALUE=DATE:20240804
DTSTAMP:20260421T163652
CREATED:20231114T135310Z
LAST-MODIFIED:20231114T135603Z
UID:56508-1721606400-1722729599@www.theclassicslibrary.com
SUMMARY:LATIN CAMP 2024 (Mon 22nd July to Sat 3rd August)
DESCRIPTION:Dear Colleagues\, \n\n\n\nI am delighted to announce that we have now opened for applications to join us this summer – please visit www.latincamp.co.uk for full details and simple online application. 2024 dates are Monday 22nd July to Saturday 3rd August\, once again at Harrogate Ladies’ College. The website has full details on all our different courses suitable for school students and how we feel each age group will benefit. It also contains details on such things as our costs\, our tutors (who come almost entirely from teaching backgrounds and usually at highly regarded UK schools)\, the facilities and accommodation\, our typical programme of events\, our policy on U18 students and hopefully a feel for “Camp life” generally. \n\n\n\nThe usual minimum age is post-Y10 but we will consider post-Y9 students if they have studied Latin for at least three years or wish to join a beginners’ group. I attach the 2023 daily routine and programme of lectures\, grammar clinics\, trips and events which will give you an immediate idea of what we are about. I also attach my own report on the 2023 Summer School. (Hard copies of fliers will reach schools shortly.) I would be grateful if you pass all this on to anyone at all who might be interested. \n\n\n\nWe also have various bespoke courses for teachers so if you know someone new to Latin teaching (this could equally be an NQT or an experienced teacher of another subject)\, please do pass this onto them. (We can usually secure at least partial funding for places on these courses.) \n\n\n\nAt our core is the intensive preparation and reading of Latin texts. This happens formally in small teaching sets of very similar ability and experience but far more unquantifiable learning happens in all the “in-between” moments\, be they in groups between lessons sat out in the sun\, or at night in the boarding houses. That said\, Latin Camp is about so much more than just reading Latin. It’s about the camaraderie of meeting like-minded people. It’s about bonding in the houses. It’s about witnessing the interaction of staff\, students and speakers. It’s about the joy of the Hellenic Bookservice visiting and setting up their shop just for us. It’s about the quiz\, the site visits\, the staff play\, the costume party. It’s about discovering\, identifying with and joining a wider community of classicists\, making contacts and friends for life. \nProgramme | Director’s Report\n\n\n\nPlease do not hesitate to email me (d.stephenson@warwickschool.org) if you have any questions or indeed suggestions – I would love to hear from you. \n\n\n\nYours sincerely\, \n\n\n\nDavid Stephenson Director JACT Latin Summer School
URL:https://www.theclassicslibrary.com/event/latin-camp-2024-mon-22nd-july-to-sat-3rd-august/
LOCATION:Harrogate Ladies College\, Clarence Drive\, Harrogate\, HG1 2QG\, United Kingdom
ATTACH;FMTTYPE=image/jpeg:https://www.theclassicslibrary.com/wp-content/uploads/2020/10/jact-latin-summer-school.jpg
ORGANIZER;CN="David Stephenson":MAILTO:d.stephenson@warwickschool.org
END:VEVENT
END:VCALENDAR