BEGIN:VCALENDAR
VERSION:2.0
PRODID:-//The Classics Library - ECPv6.15.19//NONSGML v1.0//EN
CALSCALE:GREGORIAN
METHOD:PUBLISH
X-WR-CALNAME:The Classics Library
X-ORIGINAL-URL:https://www.theclassicslibrary.com
X-WR-CALDESC:Events for The Classics Library
REFRESH-INTERVAL;VALUE=DURATION:PT1H
X-Robots-Tag:noindex
X-PUBLISHED-TTL:PT1H
BEGIN:VTIMEZONE
TZID:Europe/London
BEGIN:DAYLIGHT
TZOFFSETFROM:+0000
TZOFFSETTO:+0100
TZNAME:BST
DTSTART:20240331T010000
END:DAYLIGHT
BEGIN:STANDARD
TZOFFSETFROM:+0100
TZOFFSETTO:+0000
TZNAME:GMT
DTSTART:20241027T010000
END:STANDARD
BEGIN:DAYLIGHT
TZOFFSETFROM:+0000
TZOFFSETTO:+0100
TZNAME:BST
DTSTART:20250330T010000
END:DAYLIGHT
BEGIN:STANDARD
TZOFFSETFROM:+0100
TZOFFSETTO:+0000
TZNAME:GMT
DTSTART:20251026T010000
END:STANDARD
BEGIN:DAYLIGHT
TZOFFSETFROM:+0000
TZOFFSETTO:+0100
TZNAME:BST
DTSTART:20260329T010000
END:DAYLIGHT
BEGIN:STANDARD
TZOFFSETFROM:+0100
TZOFFSETTO:+0000
TZNAME:GMT
DTSTART:20261025T010000
END:STANDARD
END:VTIMEZONE
BEGIN:VEVENT
DTSTART;VALUE=DATE:20250523
DTEND;VALUE=DATE:20250629
DTSTAMP:20260420T233535
CREATED:20250603T141513Z
LAST-MODIFIED:20250603T141513Z
UID:61230-1747958400-1751155199@www.theclassicslibrary.com
SUMMARY:Aristophanes' Frogs at the Southwark Playhouse
DESCRIPTION:Samsational Entertainment\, The Grey Area\, Benson Drive Productions\, Melissa & Bradford Coolidge\, Thomas Hopkins Productions\, Nelson & Tao\, and Folk Productions Present\n \nThe Frogs\n \n\n \nA comedy written in 405 b.c. by Aristophanes | Freely adapted by Burt Shevelove | Even more freely adapted by Nathan Lane | Music and Lyrics by Stephen Sondheim\n \n23 MAY – 28 JUN 2025\n \n\nTicket Prices (no booking fee to pay!):\n£35 Standard / £28 Concessions / Previews £16 / Pioneers’ Preview (23 May) £10\n\n \nMore information and to book!
URL:https://www.theclassicslibrary.com/event/aristophanes-frogs-at-the-southwark-playhouse/
LOCATION:Southwark Playhouse\, 77-85 Newington Causeway\, London\, SE1 6BD\, United Kingdom
CATEGORIES:events
ATTACH;FMTTYPE=image/png:https://www.theclassicslibrary.com/wp-content/uploads/2025/06/495x4951.png
END:VEVENT
BEGIN:VEVENT
DTSTART;VALUE=DATE:20250625
DTEND;VALUE=DATE:20250627
DTSTAMP:20260420T233535
CREATED:20250423T141347Z
LAST-MODIFIED:20250423T141347Z
UID:61127-1750809600-1750982399@www.theclassicslibrary.com
SUMMARY:Generative Artificial Intelligence and Teaching the Ancient World
DESCRIPTION:University of Reading is hosting this hybrid conference on 25/26 June 2025.\n\n \n\nhttps://www.reading.ac.uk/events/Feed/2025/June/AI-and-Teaching-the-Ancient-World
URL:https://www.theclassicslibrary.com/event/generative-artificial-intelligence-and-teaching-the-ancient-world/
LOCATION:University of Reading\, Whiteknights Campus (http://www.reading.ac.uk/about/find/about-findmap.aspx)\, Reading\, United Kingdom
CATEGORIES:events
ATTACH;FMTTYPE=image/jpeg:https://www.theclassicslibrary.com/wp-content/uploads/2011/12/university-of-reading.jpg
END:VEVENT
BEGIN:VEVENT
DTSTART;VALUE=DATE:20250625
DTEND;VALUE=DATE:20250629
DTSTAMP:20260420T233535
CREATED:20250527T153817Z
LAST-MODIFIED:20250527T153817Z
UID:61217-1750809600-1751155199@www.theclassicslibrary.com
SUMMARY:The Myth of Medea – Medea and Medos | A Play
DESCRIPTION:25th–28th June 2025\n  \n\nThe Old Fire Station\, Oxford\n  \n\nThe ultimate revenge\nfor the ultimate betrayal\n\nThe myth of Medea has\ngripped audiences since\nit was first staged by\nEuripides 2400 years ago\n  \n\nFurther Details Here!
URL:https://www.theclassicslibrary.com/event/the-myth-of-medea-medea-and-medos-a-play/
LOCATION:The Old Fire Station\, 40 George Street\, Oxford\, OX1 2AQ\, United Kingdom
CATEGORIES:events
ATTACH;FMTTYPE=image/jpeg:https://www.theclassicslibrary.com/wp-content/uploads/2025/05/medea.jpg
END:VEVENT
BEGIN:VEVENT
DTSTART;VALUE=DATE:20250626
DTEND;VALUE=DATE:20250627
DTSTAMP:20260420T233535
CREATED:20250515T144253Z
LAST-MODIFIED:20250515T144253Z
UID:61162-1750896000-1750982399@www.theclassicslibrary.com
SUMMARY:Classics in Focus Teacher Conference: Thursday 26th June 
DESCRIPTION:Join Bloomsbury Publishing at Keynote Educational’s brand new conference for Classics teachers on Thursday 26th June in London. Designed to get you ready for the new academic year\, you’ll be treated to a whole day of inspiring sessions and informal discussions from Bloomsbury authors to explore and share best practice for your Classics teaching. Plus\, the Bloomsbury Classics team will be hosting a celebratory de Romanis tea party at the end (with free goody bags!)\n\n \n\nLink to conference tickets: keynoteeducational.co.uk/product/classics-in-focus-new-approaches-for-2025-2026/
URL:https://www.theclassicslibrary.com/event/classics-in-focus-teacher-conference-thursday-26th-june/
CATEGORIES:events
END:VEVENT
BEGIN:VEVENT
DTSTART;TZID=Europe/London:20250626T160000
DTEND;TZID=Europe/London:20250626T173000
DTSTAMP:20260420T233535
CREATED:20250607T134403Z
LAST-MODIFIED:20250607T134403Z
UID:61258-1750953600-1750959000@www.theclassicslibrary.com
SUMMARY:Roman Ghosts: A Talk by Dr Andy Fear
DESCRIPTION:The event is free and open to all but ticketed\, with tickets available on Eventbrite. Dr Andy Fear will be giving a lecture on Roman ghosts at High Storrs School in Sheffield on Thursday 26th June.  The doors will open at 3.45 with the lecture commencing at 4.15.  We would be delighted to see as many Classicists as possible!\n\n \n\nRefreshments will be available on a cash-only basis.\n\n \n\nDonations to the Sheffield Classics Association or High Storrs School’s #SaveClassics campaign can also be received in cash.
URL:https://www.theclassicslibrary.com/event/roman-ghosts-a-talk-by-dr-andy-fear/
LOCATION:High Storrs School\, High Storrs Road\, Sheffield\, S11 7LH\, United Kingdom
CATEGORIES:events
ATTACH;FMTTYPE=image/jpeg:https://www.theclassicslibrary.com/wp-content/uploads/2025/06/roman-ghosts.jpg
END:VEVENT
END:VCALENDAR