BEGIN:VCALENDAR
VERSION:2.0
PRODID:-//The Classics Library - ECPv6.15.19//NONSGML v1.0//EN
CALSCALE:GREGORIAN
METHOD:PUBLISH
X-WR-CALNAME:The Classics Library
X-ORIGINAL-URL:https://www.theclassicslibrary.com
X-WR-CALDESC:Events for The Classics Library
REFRESH-INTERVAL;VALUE=DURATION:PT1H
X-Robots-Tag:noindex
X-PUBLISHED-TTL:PT1H
BEGIN:VTIMEZONE
TZID:Europe/London
BEGIN:DAYLIGHT
TZOFFSETFROM:+0000
TZOFFSETTO:+0100
TZNAME:BST
DTSTART:20240331T010000
END:DAYLIGHT
BEGIN:STANDARD
TZOFFSETFROM:+0100
TZOFFSETTO:+0000
TZNAME:GMT
DTSTART:20241027T010000
END:STANDARD
BEGIN:DAYLIGHT
TZOFFSETFROM:+0000
TZOFFSETTO:+0100
TZNAME:BST
DTSTART:20250330T010000
END:DAYLIGHT
BEGIN:STANDARD
TZOFFSETFROM:+0100
TZOFFSETTO:+0000
TZNAME:GMT
DTSTART:20251026T010000
END:STANDARD
BEGIN:DAYLIGHT
TZOFFSETFROM:+0000
TZOFFSETTO:+0100
TZNAME:BST
DTSTART:20260329T010000
END:DAYLIGHT
BEGIN:STANDARD
TZOFFSETFROM:+0100
TZOFFSETTO:+0000
TZNAME:GMT
DTSTART:20261025T010000
END:STANDARD
END:VTIMEZONE
BEGIN:VEVENT
DTSTART;VALUE=DATE:20250703
DTEND;VALUE=DATE:20250704
DTSTAMP:20260420T215017
CREATED:20250520T140131Z
LAST-MODIFIED:20250520T140131Z
UID:61199-1751500800-1751587199@www.theclassicslibrary.com
SUMMARY:Classics Texts & Topics Sixth Form Conference 2025
DESCRIPTION:The Birmingham and Midlands branch of the Classical Association invites\nyou to their Texts & Topics Sixth Form Conference on Thursday 3rd July\n2025\, hosted at King Edward’s School\, Birmingham.\n\n \n\nThis in-person event for A level students and a range of engaging relevant\ntopics from Latin\, Greek\, Classical Civilisation\, and Ancient History will be\noffered by university academics and subject specialists.\n\n\n\n \nProgramme and Further Information\n\n\n \n\nThe day will begin with registration from 9:00am\, followed by a keynote\nlecture at 10:00am by Dr Elena Theodorakopoulos (University of\nBirmingham) on Virgil and Augustus.\n\n \n\nStudents will then participate in parallel sessions tailored to A level content\,\nincluding: Tacitus\, Annals\, Cicero\, Pro Caelio\, Greek Theatre\, The World of\nHomer\, Archaeology and inscriptions workshops and workshop on revision\ntips and student-led discussions. There will be an opportunity to visit the\ncampus of the University of Birmingham during lunchtime break.\n\n \n\nThe day concludes with a talk from Dr Emily Hauser on Women of the\nHomeric World.
URL:https://www.theclassicslibrary.com/event/classics-texts-topics-sixth-form-conference-2025/
CATEGORIES:events
ATTACH;FMTTYPE=image/jpeg:https://www.theclassicslibrary.com/wp-content/uploads/2014/02/bmca.jpg
END:VEVENT
END:VCALENDAR