BEGIN:VCALENDAR
VERSION:2.0
PRODID:-//The Classics Library - ECPv6.15.19//NONSGML v1.0//EN
CALSCALE:GREGORIAN
METHOD:PUBLISH
X-WR-CALNAME:The Classics Library
X-ORIGINAL-URL:https://www.theclassicslibrary.com
X-WR-CALDESC:Events for The Classics Library
REFRESH-INTERVAL;VALUE=DURATION:PT1H
X-Robots-Tag:noindex
X-PUBLISHED-TTL:PT1H
BEGIN:VTIMEZONE
TZID:Europe/London
BEGIN:DAYLIGHT
TZOFFSETFROM:+0000
TZOFFSETTO:+0100
TZNAME:BST
DTSTART:20240331T010000
END:DAYLIGHT
BEGIN:STANDARD
TZOFFSETFROM:+0100
TZOFFSETTO:+0000
TZNAME:GMT
DTSTART:20241027T010000
END:STANDARD
BEGIN:DAYLIGHT
TZOFFSETFROM:+0000
TZOFFSETTO:+0100
TZNAME:BST
DTSTART:20250330T010000
END:DAYLIGHT
BEGIN:STANDARD
TZOFFSETFROM:+0100
TZOFFSETTO:+0000
TZNAME:GMT
DTSTART:20251026T010000
END:STANDARD
BEGIN:DAYLIGHT
TZOFFSETFROM:+0000
TZOFFSETTO:+0100
TZNAME:BST
DTSTART:20260329T010000
END:DAYLIGHT
BEGIN:STANDARD
TZOFFSETFROM:+0100
TZOFFSETTO:+0000
TZNAME:GMT
DTSTART:20261025T010000
END:STANDARD
END:VTIMEZONE
BEGIN:VEVENT
DTSTART;VALUE=DATE:20250707
DTEND;VALUE=DATE:20250712
DTSTAMP:20260420T214855
CREATED:20250319T151126Z
LAST-MODIFIED:20250319T151126Z
UID:60992-1751846400-1752278399@www.theclassicslibrary.com
SUMMARY:UCL Summer School in Ancient Philosophy 2025
DESCRIPTION:University College London\n(Some courses are available in an online format)\nMonday 07 July to Fri 11 July 2025\n\n \n\nWhat are the origins of the world? How can we achieve happiness? What is the best form of government? Is democracy good? These are only some of the questions which ancient philosophers tried to answer more than 2\,500 years ago. Their bold and unprecedented enterprise prompted an intellectual revolution\, the relevance of which has not since faded. The Summer School in Ancient Philosophy aims to follow the steps of the ancient philosophers in their enquiries on the world and human life\, and explore their continuing importance today.\n\n \n\nThe Summer School offers a five-day programme covering the major themes and thinkers of Ancient Philosophy. There will be four classes each day\, between 10:30am and 3.30pm. Courses will be held in person unless otherwise specified. For more details about the modules’ format\, please see below or get in touch with us. Students will have access to a variety of online material before and throughout the course. The fee is £170. The course is not residential. Bursaries may be available for certain categories of students and will be granted after the end of the Summer School.\n\n \n\nStudents will be assigned to teaching groups of normally not more than 15-20 people. Groups will comprise students with similar levels of knowledge of the subject. Classes will consist of lectures\, close reading of texts\, and debates and will touch on a variety of themes\, including ethics\, metaphysics\, and theories of knowledge. Texts will be studied in translation\, though some classes will be offered in the original language. The style of teaching is friendly\, but demanding. Students are expected to actively participate in classes\, and they will be invited to discuss and critically engage with texts along with other students and teachers. Our tutors include some of the most talented and passionate teachers of ancient philosophy in the London area and beyond.\n\n \nFurther Information and to Book!
URL:https://www.theclassicslibrary.com/event/ucl-summer-school-in-ancient-philosophy-2025/
LOCATION:UCL\, London
CATEGORIES:events
ATTACH;FMTTYPE=image/jpeg:https://www.theclassicslibrary.com/wp-content/uploads/2016/06/ucl-big.jpg
END:VEVENT
END:VCALENDAR