BEGIN:VCALENDAR
VERSION:2.0
PRODID:-//The Classics Library - ECPv6.15.20//NONSGML v1.0//EN
CALSCALE:GREGORIAN
METHOD:PUBLISH
X-WR-CALNAME:The Classics Library
X-ORIGINAL-URL:https://www.theclassicslibrary.com
X-WR-CALDESC:Events for The Classics Library
REFRESH-INTERVAL;VALUE=DURATION:PT1H
X-Robots-Tag:noindex
X-PUBLISHED-TTL:PT1H
BEGIN:VTIMEZONE
TZID:Europe/London
BEGIN:DAYLIGHT
TZOFFSETFROM:+0000
TZOFFSETTO:+0100
TZNAME:BST
DTSTART:20240331T010000
END:DAYLIGHT
BEGIN:STANDARD
TZOFFSETFROM:+0100
TZOFFSETTO:+0000
TZNAME:GMT
DTSTART:20241027T010000
END:STANDARD
BEGIN:DAYLIGHT
TZOFFSETFROM:+0000
TZOFFSETTO:+0100
TZNAME:BST
DTSTART:20250330T010000
END:DAYLIGHT
BEGIN:STANDARD
TZOFFSETFROM:+0100
TZOFFSETTO:+0000
TZNAME:GMT
DTSTART:20251026T010000
END:STANDARD
BEGIN:DAYLIGHT
TZOFFSETFROM:+0000
TZOFFSETTO:+0100
TZNAME:BST
DTSTART:20260329T010000
END:DAYLIGHT
BEGIN:STANDARD
TZOFFSETFROM:+0100
TZOFFSETTO:+0000
TZNAME:GMT
DTSTART:20261025T010000
END:STANDARD
END:VTIMEZONE
BEGIN:VEVENT
DTSTART;TZID=Europe/London:20251115T110000
DTEND;TZID=Europe/London:20251115T120000
DTSTAMP:20260424T060513
CREATED:20251008T150715Z
LAST-MODIFIED:20251008T150715Z
UID:61674-1763204400-1763208000@www.theclassicslibrary.com
SUMMARY:A Taste of Latin: a Hellenic and Roman Societies Online Course
DESCRIPTION:Caroline K. Mackenzie A Taste of Latin\n\n\n\nTuesday 4 November\, 7-8pm (UK time) and repeated on Saturday 15 November\, 11am-12 noon (UK time)\n\n\n\nAs part of our series of online courses\, we are offering a session on Latin – A Taste of Latin – delivered by Caroline K. Mackenzie.\n\n\n\nThis illustrated talk will showcase the longevity and artistry of Latin\, and demonstrate the ubiquitous links between Latin and English. Whether you are a complete beginner or wish to brush up on existing knowledge\, Caroline will take you on an exciting exploration of the lexicon of the Latin language. There will also be the opportunity to dip into some Latin verse and to discover how Roman poets used their language to stir emotion. The talk will be followed by a Q & A session.\n\n\n\nThis talk will take place on Tuesday 4 November\, 7-8pm (UK time) and will be repeated on Saturday 15 November\, 11am-12 noon (UK time). You can select your preferred date and time when booking.\n\n\n\nFurther details and the booking form can be found here:\n\n\n\nhttps://www.hellenicandromanlibrary.org/Events/Event-Registration/EventId/22
URL:https://www.theclassicslibrary.com/event/a-taste-of-latin-a-hellenic-and-roman-societies-online-course-2/
LOCATION:online\, 2 Burton Walks\, Loughborough\, LE11 2DU\, United Kingdom
CATEGORIES:events
ATTACH;FMTTYPE=image/jpeg:https://www.theclassicslibrary.com/wp-content/uploads/2024/04/roman-society-e1713449636614.jpg
END:VEVENT
END:VCALENDAR