BEGIN:VCALENDAR
VERSION:2.0
PRODID:-//The Classics Library - ECPv6.15.20//NONSGML v1.0//EN
CALSCALE:GREGORIAN
METHOD:PUBLISH
X-ORIGINAL-URL:https://www.theclassicslibrary.com
X-WR-CALDESC:Events for The Classics Library
REFRESH-INTERVAL;VALUE=DURATION:PT1H
X-Robots-Tag:noindex
X-PUBLISHED-TTL:PT1H
BEGIN:VTIMEZONE
TZID:Europe/London
BEGIN:DAYLIGHT
TZOFFSETFROM:+0000
TZOFFSETTO:+0100
TZNAME:BST
DTSTART:20240331T010000
END:DAYLIGHT
BEGIN:STANDARD
TZOFFSETFROM:+0100
TZOFFSETTO:+0000
TZNAME:GMT
DTSTART:20241027T010000
END:STANDARD
BEGIN:DAYLIGHT
TZOFFSETFROM:+0000
TZOFFSETTO:+0100
TZNAME:BST
DTSTART:20250330T010000
END:DAYLIGHT
BEGIN:STANDARD
TZOFFSETFROM:+0100
TZOFFSETTO:+0000
TZNAME:GMT
DTSTART:20251026T010000
END:STANDARD
BEGIN:DAYLIGHT
TZOFFSETFROM:+0000
TZOFFSETTO:+0100
TZNAME:BST
DTSTART:20260329T010000
END:DAYLIGHT
BEGIN:STANDARD
TZOFFSETFROM:+0100
TZOFFSETTO:+0000
TZNAME:GMT
DTSTART:20261025T010000
END:STANDARD
END:VTIMEZONE
BEGIN:VEVENT
DTSTART;TZID=Europe/London:20251119T160000
DTEND;TZID=Europe/London:20251119T173000
DTSTAMP:20260424T041219
CREATED:20250916T140621Z
LAST-MODIFIED:20250916T140621Z
UID:61561-1763568000-1763573400@www.theclassicslibrary.com
SUMMARY:Get Ready to Teach A Level Latin prose: Cicero's pro Roscio Amerino
DESCRIPTION:Wednesday 19th November\, 4-5:30pm\n\n \n\nGet Ready to Teach A Level Latin prose: Cicero’s pro Roscio Amerino with Jaspal Ubhi and Prof. Catherine Steel\n\n \n\nRegistration link: https://forms.office.com/e/xrEWJt8ABS
URL:https://www.theclassicslibrary.com/event/get-ready-to-teach-a-level-latin-prose-ciceros-pro-roscio-amerino/
CATEGORIES:events
ATTACH;FMTTYPE=image/jpeg:https://www.theclassicslibrary.com/wp-content/uploads/2025/09/CA_Webinar_Social_09.jpg
END:VEVENT
BEGIN:VEVENT
DTSTART;TZID=Europe/London:20251119T173000
DTEND;TZID=Europe/London:20251119T183000
DTSTAMP:20260424T041219
CREATED:20251109T143452Z
LAST-MODIFIED:20251109T143452Z
UID:61732-1763573400-1763577000@www.theclassicslibrary.com
SUMMARY:‘The Struggle between Honour\, Expediency\, and Personal Gain: Political Oratory in the Age of Cicero’." by Professor James May\, St Olaf College\, Northfield\, Minnesota\, US
DESCRIPTION:Online Lecture on ‘The Struggle between Honour\, Expediency\, and Personal Gain: Political Oratory in the Age of Cicero’.” by Professor James May\, St Olaf College\, Northfield\, Minnesota\, US\n\nWednesday 19 November\, 5.30\n\n Free event – register here: https://www.ticketsource.co.uk/classics-loughborough-schools-foundation/t-zogdykj
URL:https://www.theclassicslibrary.com/event/the-struggle-between-honour-expediency-and-personal-gain-political-oratory-in-the-age-of-cicero-by-professor-james-may-st-olaf-college-northfield-minnesota-us/
CATEGORIES:events
ATTACH;FMTTYPE=image/jpeg:https://www.theclassicslibrary.com/wp-content/uploads/2025/11/IMG_0040.jpeg
END:VEVENT
BEGIN:VEVENT
DTSTART;TZID=Europe/London:20251119T180000
DTEND;TZID=Europe/London:20251119T193000
DTSTAMP:20260424T041219
CREATED:20251021T144847Z
LAST-MODIFIED:20251021T144847Z
UID:61709-1763575200-1763580600@www.theclassicslibrary.com
SUMMARY:Troy: Story\, Archaeology and Legend: A Hellenic Society & Roman Society Online Course
DESCRIPTION:Lesley Fitton\n \nTroy: story\, archaeology and legend\n \n\nWednesday 19\, 26 November\, 3\, 10 December\, 6pm-7.30pm (UK time)\n\n \n\nThe story of Troy was deeply engrained in ancient Greek culture\, art and thought. It continued to resonate in different ways through subsequent ages\, and still exerts a powerful fascination today. Equally fascinating is the story of the search for Troy\, the rediscovery of the ancient site and the often-dramatic archaeological finds made there. This course will give the opportunity to consider and discuss both the real and the imagined Troy\, and will explore some of the reasons for the enduring power of one of the world’s great stories.\n\n \n\nSessions may be followed live\, or watched afterwards at your own convenience (lectures will be available for up to one month after the final session).\n\n \n\nFor more information and to book:\n\n \n\nhttps://www.hellenicandromanlibrary.org/Events/Event-Registration/EventId/23
URL:https://www.theclassicslibrary.com/event/troy-story-archaeology-and-legend-a-hellenic-society-roman-society-online-course/
CATEGORIES:events
ATTACH;FMTTYPE=image/png:https://www.theclassicslibrary.com/wp-content/uploads/2025/10/sphs-logo.png
END:VEVENT
END:VCALENDAR