BEGIN:VCALENDAR
VERSION:2.0
PRODID:-//The Classics Library - ECPv6.15.20//NONSGML v1.0//EN
CALSCALE:GREGORIAN
METHOD:PUBLISH
X-ORIGINAL-URL:https://www.theclassicslibrary.com
X-WR-CALDESC:Events for The Classics Library
REFRESH-INTERVAL;VALUE=DURATION:PT1H
X-Robots-Tag:noindex
X-PUBLISHED-TTL:PT1H
BEGIN:VTIMEZONE
TZID:Europe/London
BEGIN:DAYLIGHT
TZOFFSETFROM:+0000
TZOFFSETTO:+0100
TZNAME:BST
DTSTART:20180325T010000
END:DAYLIGHT
BEGIN:STANDARD
TZOFFSETFROM:+0100
TZOFFSETTO:+0000
TZNAME:GMT
DTSTART:20181028T010000
END:STANDARD
BEGIN:DAYLIGHT
TZOFFSETFROM:+0000
TZOFFSETTO:+0100
TZNAME:BST
DTSTART:20190331T010000
END:DAYLIGHT
BEGIN:STANDARD
TZOFFSETFROM:+0100
TZOFFSETTO:+0000
TZNAME:GMT
DTSTART:20191027T010000
END:STANDARD
BEGIN:DAYLIGHT
TZOFFSETFROM:+0000
TZOFFSETTO:+0100
TZNAME:BST
DTSTART:20200329T010000
END:DAYLIGHT
BEGIN:STANDARD
TZOFFSETFROM:+0100
TZOFFSETTO:+0000
TZNAME:GMT
DTSTART:20201025T010000
END:STANDARD
END:VTIMEZONE
BEGIN:VEVENT
DTSTART;VALUE=DATE:20190124
DTEND;VALUE=DATE:20190126
DTSTAMP:20260425T002838
CREATED:20180929T081239Z
LAST-MODIFIED:20180929T081425Z
UID:44456-1548288000-1548460799@www.theclassicslibrary.com
SUMMARY:Warwick Ancient Drama Festival 2019 Aristophanes' Frogs
DESCRIPTION:The students and staff at the University of Warwick Department of Classics and Ancient History would like to invite teachers and students to our Annual Ancient Drama Festival for Schools on Friday 25 January 2019. The day will focus around a performance of Aristophanes’ Frogs\, directed by Kelsi Russell. The play will be produced by the Classics students at Warwick and will be performed at the Warwick Arts Centre. \nFor more information\, please check out our production webpage: \nhttps://warwick.ac.uk/fac/arts/classics/research/outreach/dramafestival/frogs/ \nSupporting the performance\, the Department is offering a series of lectures and seminars specifically for school students to link in with Latin\, Greek\, Classical Civilisation\, Ancient History\, Drama and English syllabuses at GCSE and AS/A2 (no previous knowledge of the subject area or play will be expected). These include: \n\nDr Michael Scott (Professor of Classics) on ‘Aristophanic comedy and society’\nDr Emmanuela Bakola (Associate Professor of Ancient Greek Language and Literature)\, on ‘Why does Dionysus choose Aeschylus at the end of Frogs?’\nProfessor C.W. Marshall (Professor of Classics\, University of British Columbia) ‘Aristophanic comedy: serious laughter?’\nDr David Fearn (Reader in Greek Language and Literature): ‘Aristophanes Up Close’ (seminar-workshop)\nDr Marchella Ward (Archivist/Researcher\, Archive of Performances of Greek and Roman Drama\, University of Oxford) ‘Staging Aristophanic Comedy’\n\nThe day will begin at 11am and finish at 5pm. The event is FREE\, but attendees are asked to organise their own transportation and lunch. For detailed timings\, access information and other enquiries please email our Outreach Assistant\, Harvey Aungles (H.Aungles@warwick.ac.uk). \nIf you wish to book\, please email Harvey Aungles with the (approximate) number of students by 23 December 2018. \nIf the Friday performance is fully booked\, or an evening event is preferable\, you can also book yourselves for the performance of the 24th of January (7.30 pm)\, which will be preceded by a talk on Frogs by Professor C.W. Marshall and Dr Emmanuela Bakola (at 6.30pm). Tickets for the Thursday performance and talk are £6 only (bookings for this performance will open soon at the Warwick Arts Centre website.  \nFor information\, videos\, and teaching resources based on our 2018 production Medea\, please follow the link below to our fantastic updated website:\nhttps://warwick.ac.uk/fac/arts/classics/research/outreach/dramafestival/medea2018/ \nFor information\, videos\, and teaching resources based on our 2018 production Medea\, please follow the link below to our fantastic updated website:\nhttps://warwick.ac.uk/fac/arts/classics/research/outreach/dramafestival/medea2018/ \n  \nProvisional Programme\n24 JANUARY 2019 \nPUBLIC TALK AND PERFORMANCE \n6.30 pm – Pre-performance talk and discussion on Frogs and Aristophanic comedy\, by Professor C.W. Marshall (University of British Columbia) and Dr Emmanuela Bakola (University of Warwick)\n7.30 pm – Production of Aristophanes’ Frogs by the Warwick Classics Society\, directed by Kelsi Russell \nBookings at https://www.warwickartscentre.co.uk/whats-on/list/theatre \n  \n25 JANUARY 2019 \nSCHOOLS DAYFrom 10.30 am – Main stage auditorium open\n11am-11.20 Main Stage – ALL – Welcome and Introduction to Ancient Theatre – Dr Emmanuela Bakola\n11.20-12 – Main Stage – ALL – ‘Aristophanic Comedy and Society’ – Professor Michael Scott \nSEMINARS – SESSION 1 \n12.15-1pm  Option A: Dr Emmanuela Bakola: on ‘Why does Dionysus choose Aeschylus at the end of Frogs?’\n12.15-1pm Option B: Professor C.W. Marshall (Professor of Classics\, University of British Columbia) ‘Aristophanic comedy: serious laughter?’\n12.15-1pm Option C: Dr David Fearn (Reader in Greek Language and Literature) on ‘Aristophanes up close’ (seminar/workshop)\n12.15-1pm Option D: Dr Marchella Ward (Archivist/Researcher\, Archive of Performances of Greek and Roman Drama\, University of Oxford) on ‘Staging Aristophanic comedy’\n1-2 pm – Lunch break for all \nSEMINARS SESSION 2 \n2.15-3pm  Option A: Dr Emmanuela Bakola: on ‘Why does Dionysus choose Aeschylus at the end of Frogs?’\n2.15-3pm Option B: Professor C.W. Marshall (Professor of Classics\, University of British Columbia) ‘Aristophanic comedy: serious laughter?’\n2.15-3pm Option C: Dr David Fearn (Reader in Greek Language and Literature) on ‘Aristophanes up close’  (seminar/workshop)\n2.15-3pm Option D: Dr Marchella Ward (Archivist/Researcher\, Archive of Performances of Greek and Roman Drama\, University of Oxford) on ‘Staging Aristophanic comedy’\n3pm – Doors open of theatre for people to take seats\n3.30pm – 5pm PERFORMANCE of Aristophanes’ Frogs  \nBookings – please contact Outreach Assistant\, Harvey Aungles H.Aungles@warwick.ac.uk with the (approximate) number of students by 23 December 2018. \nWe look forward to seeing you here in January.
URL:https://www.theclassicslibrary.com/event/warwick-ancient-drama-festival-2019-aristophanes-frogs/
LOCATION:Warwick University\, Gibbet Hill Road\, Warwick\, Warwickshire\, CV4 7AL\, United Kingdom
CATEGORIES:events
ATTACH;FMTTYPE=image/png:https://www.theclassicslibrary.com/wp-content/uploads/2018/09/frogs.png
END:VEVENT
END:VCALENDAR