BEGIN:VCALENDAR
VERSION:2.0
PRODID:-//The Classics Library - ECPv6.15.20//NONSGML v1.0//EN
CALSCALE:GREGORIAN
METHOD:PUBLISH
X-ORIGINAL-URL:https://www.theclassicslibrary.com
X-WR-CALDESC:Events for The Classics Library
REFRESH-INTERVAL;VALUE=DURATION:PT1H
X-Robots-Tag:noindex
X-PUBLISHED-TTL:PT1H
BEGIN:VTIMEZONE
TZID:Europe/London
BEGIN:DAYLIGHT
TZOFFSETFROM:+0000
TZOFFSETTO:+0100
TZNAME:BST
DTSTART:20180325T010000
END:DAYLIGHT
BEGIN:STANDARD
TZOFFSETFROM:+0100
TZOFFSETTO:+0000
TZNAME:GMT
DTSTART:20181028T010000
END:STANDARD
BEGIN:DAYLIGHT
TZOFFSETFROM:+0000
TZOFFSETTO:+0100
TZNAME:BST
DTSTART:20190331T010000
END:DAYLIGHT
BEGIN:STANDARD
TZOFFSETFROM:+0100
TZOFFSETTO:+0000
TZNAME:GMT
DTSTART:20191027T010000
END:STANDARD
BEGIN:DAYLIGHT
TZOFFSETFROM:+0000
TZOFFSETTO:+0100
TZNAME:BST
DTSTART:20200329T010000
END:DAYLIGHT
BEGIN:STANDARD
TZOFFSETFROM:+0100
TZOFFSETTO:+0000
TZNAME:GMT
DTSTART:20201025T010000
END:STANDARD
END:VTIMEZONE
BEGIN:VEVENT
DTSTART;VALUE=DATE:20190201
DTEND;VALUE=DATE:20190203
DTSTAMP:20260424T170055
CREATED:20180611T133927Z
LAST-MODIFIED:20180611T133927Z
UID:44209-1549062000-1549148399@www.theclassicslibrary.com
SUMMARY:Birmingham and Midlands Classical Association
DESCRIPTION:The Birmingham and Midlands Classical Association \nSome dates for your diaries: \nThursday 11 October 2018\, 5.30pm\, the University of Birmingham \nThe Autumn Lecture: Dr Amy Russell (Durham)\, ‘Augustus\, the Senate and the Ara Pacis’ \nThursday 7 February 2019\, 5.30pm\, the University of Birmingham \nThe New Year Lecture: Dr Hannah Cornwell (Birmingham)\, ‘Rome’s Civil Wars: Violent Words and Bloody Deeds (TBC)’ \nSaturday 2 February 2019: BMCA Teachers’ Day\, the University of Birmingham \nWe are currently planning the programme for our popular Teachers’ Day. We are thinking about having sessions on Democracy\, Love and Relationships\, and the Late Roman Republic\, as well as a plenary lecture on Augustus and the Aeneid\, and hearing from both OCR and Eduqas about summer 2018 exams. \nIf there is any topic or subject area that people feel they would like covered please let us know by contacting Joanna Johnson (johnsonj@solsch.org.uk). \nThe cost of the day will be £50 (including lunch) and there will be bursaries available for teachers working in state schools and student teachers. \nLooking forward to seeing you at our events. \nThe BMCA
URL:https://www.theclassicslibrary.com/event/birmingham-and-midlands-classical-association-2/
LOCATION:University of Birmingham\, Birmingham\, United Kingdom
CATEGORIES:events
ATTACH;FMTTYPE=image/jpeg:https://www.theclassicslibrary.com/wp-content/uploads/2014/02/bmca.jpg
ORGANIZER;CN="Joanna Johnson":MAILTO:johnsonj@solsch.org.uk
END:VEVENT
END:VCALENDAR