BEGIN:VCALENDAR
VERSION:2.0
PRODID:-//The Classics Library - ECPv6.15.20//NONSGML v1.0//EN
CALSCALE:GREGORIAN
METHOD:PUBLISH
X-ORIGINAL-URL:https://www.theclassicslibrary.com
X-WR-CALDESC:Events for The Classics Library
REFRESH-INTERVAL;VALUE=DURATION:PT1H
X-Robots-Tag:noindex
X-PUBLISHED-TTL:PT1H
BEGIN:VTIMEZONE
TZID:Europe/London
BEGIN:DAYLIGHT
TZOFFSETFROM:+0000
TZOFFSETTO:+0100
TZNAME:BST
DTSTART:20180325T010000
END:DAYLIGHT
BEGIN:STANDARD
TZOFFSETFROM:+0100
TZOFFSETTO:+0000
TZNAME:GMT
DTSTART:20181028T010000
END:STANDARD
BEGIN:DAYLIGHT
TZOFFSETFROM:+0000
TZOFFSETTO:+0100
TZNAME:BST
DTSTART:20190331T010000
END:DAYLIGHT
BEGIN:STANDARD
TZOFFSETFROM:+0100
TZOFFSETTO:+0000
TZNAME:GMT
DTSTART:20191027T010000
END:STANDARD
BEGIN:DAYLIGHT
TZOFFSETFROM:+0000
TZOFFSETTO:+0100
TZNAME:BST
DTSTART:20200329T010000
END:DAYLIGHT
BEGIN:STANDARD
TZOFFSETFROM:+0100
TZOFFSETTO:+0000
TZNAME:GMT
DTSTART:20201025T010000
END:STANDARD
END:VTIMEZONE
BEGIN:VEVENT
DTSTART;VALUE=DATE:20190213
DTEND;VALUE=DATE:20190216
DTSTAMP:20260425T023052
CREATED:20181125T152442Z
LAST-MODIFIED:20181125T152457Z
UID:44721-1550016000-1550275199@www.theclassicslibrary.com
SUMMARY:KCL Greek Play 2019: Antigone
DESCRIPTION:KCL brings Sophocles thrilling exploration of resistance and responsibility to life in a daring new production. Ancient questions are re-framed for the twenty-first century: when personal values clash with the government\, is duty to your beliefs or to the sanctity of the law more important? How acceptable is civil disobedience against an unchecked power? These questions play out in this battle of the individual against the state\, staged under the relentless scrutiny of twenty four hour news. Following the success of last years acclaimed production of Medea\, which played to over a thousand audience members across its run\, the 2019 Greek Play celebrates another defiant woman of Greek tragedy and will again be performed in a combination of ancient Greek and English. \nThe play will be performed at the Greenwood Theatre (55 Weston Street\, SE1 3RA) on the following dates and times: \n13 February – 2.30pm and 7pm\n14 February – 7pm\n15 February – 2.30pm and 7pm \nThere will be pre-show talks and discussions featuring leading scholars at 6pm every evening\, free to that evening’s ticket holders. \nPLEASE NOTE: School & further education groups wanting to book should email Sophie Norgate\, this year’s Business Manager\, directly at greekplay@kcl.ac.uk. Teachers accompanying their students go free – please contact Sophie to arrange.
URL:https://www.theclassicslibrary.com/event/kcl-greek-play-2019-antigone/
LOCATION:Greenwood Theatre\, 55 Weston Street\, London\, SE1 3RA\, United Kingdom
CATEGORIES:events
ATTACH;FMTTYPE=image/jpeg:https://www.theclassicslibrary.com/wp-content/uploads/2014/11/antigone2.jpg
END:VEVENT
BEGIN:VEVENT
DTSTART;TZID=Europe/London:20190214T093000
DTEND;TZID=Europe/London:20190214T130000
DTSTAMP:20260425T023052
CREATED:20190205T125618Z
LAST-MODIFIED:20190205T125618Z
UID:45053-1550136600-1550149200@www.theclassicslibrary.com
SUMMARY:Conference In GCSE Latin and Greek & Essay Prize Supported by the Classical Association
DESCRIPTION:Westminster School \n  \nThursday\, 14th February 2019 9.40am -1.00pm \n \n\nThis conference offers pupils in years 10 and 11 the chance to attend a series of appropriately pitched lectures on their Latin and Greek set texts and on topics of wider interest.\n\n \n\nThe conference lectures will tie into the Classical Association GCSE Essay Prize: each speaker will provide further reading at the end of the lecture and an essay title (1000 words maximum).  Pupils who choose to write one of these essays can enter the Classical Association GCSE Essay prize: the winner will receive £100 in book tokens\, and their essay will be posted on the Classical Association website.\n\n \n\nA voluntary £5 contribution per pupil attending is suggested: for more information and to reserve places please contact andy.mylne@westminster.org.uk\n\n \n\nProgramme for the day:\n\n \n\n9.15-9.40              Arrive at Westminster School & gather in the School Hall (‘Up School’)\n\n \n\nSession 1: 9.45 – 10.25 – Mr Franco Basso: ‘A Baffling God: Readings in Herodotus’ Theology’.\n\n \n\nFranco Basso is Senior Language Teaching Officer in the Faculty of Classics at the University of Cambridge and Fellow and Director of Studies in Classics at Trinity Hall. He is interested in Greek and Roman historians and their reception. He has recently published (with Geoffrey Greatrex) a study on the reception of Herodotus and Thucydides in Procopius: C. Lillington-Martin (ed.) Procopius of Caesarea: Literary and Historical Interpretations (Routledge 2018).\n\n \n\nSession 2: 10.30-11.10 – Professor Rhiannon Ash: ‘Visions of the Druids in Ancient Historiography: Fact or Fantasy?’\n\n \n\nRhiannon Ash is Professor of Roman Historiography and Fellow of Merton College\, Oxford. She is interested in the representation of the historical tradition and especially in the language and syntax of Tacitus. She has published commentaries on Histories II (Cambridge 2007) and Annals XV (Cambridge 2018).\n\n \n\nBreak: 11.15-11.30\n\n \n\nSession 3: 11.30-12.10 – Dr Oliver Thomas: ‘Studying Odyssey 6 in ancient Greece’\n\n \n\nOliver Thomas is Lecturer in Classics at the University of Nottingham\, who specialises in Ancient Greek literature and religion. He is currently finalising an edition and commentary on the Homeric Hymn to Hermes\, and starting a translation of ancient scholarship on Iliad books 3-6.\n\n \n\nSession 4: 12.15-12.55 – Dr Emily Pillinger:  ‘Threats\, silence\, and song: Dido’s vocal strategies.’\n\n \n\nEmily Pillinger is Lecturer in Latin Language and Literature at King’s College\, London. Her expertise includes late Republican and early Imperial Latin poetry. Her book\, Cassandra and The Poetics of Prophecy (C.U.P\, in press) examines the power of the female prophetic voice in ancient literature\, including Greek tragedy and Roman epic.\n\n \n\n1.00 – End
URL:https://www.theclassicslibrary.com/event/conference-in-gcse-latin-and-greek-essay-prize-supported-by-the-classical-association/
LOCATION:Westminster School\, Little Smith Street\, London\, SW1P 3PF\, United Kingdom
CATEGORIES:events
ATTACH;FMTTYPE=image/jpeg:https://www.theclassicslibrary.com/wp-content/uploads/2019/02/westminster-big-scaled.jpg
END:VEVENT
END:VCALENDAR