BEGIN:VCALENDAR
VERSION:2.0
PRODID:-//The Classics Library - ECPv6.15.20//NONSGML v1.0//EN
CALSCALE:GREGORIAN
METHOD:PUBLISH
X-ORIGINAL-URL:https://www.theclassicslibrary.com
X-WR-CALDESC:Events for The Classics Library
REFRESH-INTERVAL;VALUE=DURATION:PT1H
X-Robots-Tag:noindex
X-PUBLISHED-TTL:PT1H
BEGIN:VTIMEZONE
TZID:Europe/London
BEGIN:DAYLIGHT
TZOFFSETFROM:+0000
TZOFFSETTO:+0100
TZNAME:BST
DTSTART:20180325T010000
END:DAYLIGHT
BEGIN:STANDARD
TZOFFSETFROM:+0100
TZOFFSETTO:+0000
TZNAME:GMT
DTSTART:20181028T010000
END:STANDARD
BEGIN:DAYLIGHT
TZOFFSETFROM:+0000
TZOFFSETTO:+0100
TZNAME:BST
DTSTART:20190331T010000
END:DAYLIGHT
BEGIN:STANDARD
TZOFFSETFROM:+0100
TZOFFSETTO:+0000
TZNAME:GMT
DTSTART:20191027T010000
END:STANDARD
BEGIN:DAYLIGHT
TZOFFSETFROM:+0000
TZOFFSETTO:+0100
TZNAME:BST
DTSTART:20200329T010000
END:DAYLIGHT
BEGIN:STANDARD
TZOFFSETFROM:+0100
TZOFFSETTO:+0000
TZNAME:GMT
DTSTART:20201025T010000
END:STANDARD
END:VTIMEZONE
BEGIN:VEVENT
DTSTART;VALUE=DATE:20190302
DTEND;VALUE=DATE:20190303
DTSTAMP:20260425T003519
CREATED:20181016T104142Z
LAST-MODIFIED:20181016T104142Z
UID:44535-1551484800-1551571199@www.theclassicslibrary.com
SUMMARY:Studying Ancient Egypt and Mesopotamia at University | A Conference for Sixth-Formers
DESCRIPTION:Studying Ancient Egypt and Mesopotamia at University\nA Conference for Sixth-Formers\nThe Royal Asiatic Society and The British Museum\, London  \nSaturday 2nd March 2019 \nAn upcoming event aimed at 6th formers interested in studying the ancient world at university. The event will be held March 2\, 2019 and feature academics from several different universities presenting their research and talking about the Assyriology/Egyptology/and ancient Near Eastern archaeology at their respective institutions. There is also a careers panel and the students are encouraged to ask questions and interact with the speakers throughout the day. The event is capped off with tours of the galleries at the British Museum by university students\, postgrads\, and faculty. \nFurther Information (including on last year’s event)
URL:https://www.theclassicslibrary.com/event/studying-ancient-egypt-and-mesopotamia-at-university-a-conference-for-sixth-formers/
CATEGORIES:events
ATTACH;FMTTYPE=image/jpeg:https://www.theclassicslibrary.com/wp-content/uploads/2014/01/egypt.jpg
END:VEVENT
BEGIN:VEVENT
DTSTART;VALUE=DATE:20190302
DTEND;VALUE=DATE:20190303
DTSTAMP:20260425T003519
CREATED:20190124T090836Z
LAST-MODIFIED:20190124T091005Z
UID:44998-1551484800-1551571199@www.theclassicslibrary.com
SUMMARY:ARLT Annual Refresher Day 2019
DESCRIPTION:The Association for Latin Teaching \n\n\n \nINSET by practising teachers for practising teachers \n\n\n \nAnnual Refresher Day 2019\n\n\n \nSaturday 2rd March Loughborough Grammar School \n\n\n \nDirected by Philip Harper \n\n\n \nProgramme for the Day \n\n\n \n09.30                            Registration and refreshments \n\n\n \n10.00 – 10:45              Introduction followed by \n\n\n \n                                      Dr Mireya González Rodríguez of the University of Leicester on The Archaeology of Things \n\n\n \n10:45 – 11:00              Coffee break \n\n\n \n11:00 – 12:00              Option Groups A \n\n\n \n12:05 – 13:05              Option Groups B \n\n\n \n13:05 – 13:45              Lunch \n\n\n \n13:45  – 14:30             Dr Alex Mullen of the University of Nottingham on The Archaeology of Words \n\n\n \n14:35 – 15:35              Option Groups C \n\n\n \n15:40 – 16:05              Hellenic Bookservice/ ARLT Antiquities Collection \n\n\n \n16.00                            Refreshments followed by Departure \n\n\n \n16.30                            ARLT Committee Meeting \n\n\n \nThe Hellenic Book Service will be in attendance throughout the day\, with designated time to visit 15:30-16:00.  If you wish to order items in advance for collection on the day\, they may be contacted by telephone on 020 7267 9499 or via email: monica@hellenicbookservice.com Their website is: www.hellenicbookservice.com \n\n\n \nPlease see overleaf for the full list of Option Groups. \n\n\n \nCost\, including refreshments and lunch: £40 (£20 for Option Group leaders) \n\n\n \nPayment and Booking Details may be made on www.eventbrite.co.uk \n\n\n \nSearch ‘ARLT Refresher Day 2019’ \n\n\n \nOption Groups \n\n\n \n\n\n\nA\nB\nC\n\n\nA1 Martin Gibson – OCR A level Latin Prose – Cicero’s Philippic II (2020-21)\nB1 Alison Henshaw – OCR A level Classical Civilisation –  Love and Relationships\nC1 Ann Gate – Using social media in Classics teaching\n\n\nA2 Lidia Kuhivchak – Starting up Latin from scratch: hints\, tips and challenges\nB2 Laura Beech – Preparing for OCR A level Latin verse unseens\nC2 Lauren Douglas – Germanicus and Piso for GCSE (Eduqas 2019 & OCR 2020-21)\n\n\nA3 Helen Lowe – Getting the most out of CLC Book 1 Chapters 10 & 11\nB3 Jacob Duncan – Starting out as a Latin teacher\nC3 Steve Hunt – Using images in Latin teaching\n\n\nA4 Rachael Hopley – OCR A level Classical Civilisation – The World of the Hero\nB4 Sam Baddeley – OCR GCSE Latin Literature and Culture (Myths & Entertainment)\nC4 Hilary Walters – Latin clinic for new and non-specialist teachers\n\n\nA5 Rachel Plummer – Spoken Latin in the classroom\nB5 Charles Sykes – Online resources for Classics teaching\nC5 Ana Henderson – OCR GCSE Greek Language exam Q&A\n\n\n\n\n\n \nPlease enter your Option Group choices on www.eventbrite.co.uk \n\n\n \nSearch ‘ARLT Refresher Day 2019’
URL:https://www.theclassicslibrary.com/event/44998/
LOCATION:Loughborough Grammar School\, 3 Burton Walks\, Loughborough\, Leicestershire\, LE11 2DU\, United Kingdom
CATEGORIES:events
ATTACH;FMTTYPE=image/png:https://www.theclassicslibrary.com/wp-content/uploads/2015/01/loughborough-grammar.png
END:VEVENT
END:VCALENDAR