BEGIN:VCALENDAR
VERSION:2.0
PRODID:-//The Classics Library - ECPv6.15.20//NONSGML v1.0//EN
CALSCALE:GREGORIAN
METHOD:PUBLISH
X-ORIGINAL-URL:https://www.theclassicslibrary.com
X-WR-CALDESC:Events for The Classics Library
REFRESH-INTERVAL;VALUE=DURATION:PT1H
X-Robots-Tag:noindex
X-PUBLISHED-TTL:PT1H
BEGIN:VTIMEZONE
TZID:Europe/London
BEGIN:DAYLIGHT
TZOFFSETFROM:+0000
TZOFFSETTO:+0100
TZNAME:BST
DTSTART:20180325T010000
END:DAYLIGHT
BEGIN:STANDARD
TZOFFSETFROM:+0100
TZOFFSETTO:+0000
TZNAME:GMT
DTSTART:20181028T010000
END:STANDARD
BEGIN:DAYLIGHT
TZOFFSETFROM:+0000
TZOFFSETTO:+0100
TZNAME:BST
DTSTART:20190331T010000
END:DAYLIGHT
BEGIN:STANDARD
TZOFFSETFROM:+0100
TZOFFSETTO:+0000
TZNAME:GMT
DTSTART:20191027T010000
END:STANDARD
BEGIN:DAYLIGHT
TZOFFSETFROM:+0000
TZOFFSETTO:+0100
TZNAME:BST
DTSTART:20200329T010000
END:DAYLIGHT
BEGIN:STANDARD
TZOFFSETFROM:+0100
TZOFFSETTO:+0000
TZNAME:GMT
DTSTART:20201025T010000
END:STANDARD
END:VTIMEZONE
BEGIN:VEVENT
DTSTART;TZID=Europe/London:20190313T140000
DTEND;TZID=Europe/London:20190313T170000
DTSTAMP:20260424T150630
CREATED:20181125T151356Z
LAST-MODIFIED:20181125T151356Z
UID:44711-1552485600-1552496400@www.theclassicslibrary.com
SUMMARY:LONDON GREEK & LATIN READING COMPETITION 2019
DESCRIPTION:THE CLASSICAL ASSOCIATION\nLONDON GREEK & LATIN READING COMPETITION 2019\nThe 2019 competition will be held on WEDNESDAY 13th MARCH at Queen’s College\, 43-49 Harley Street London W1G 8BT (parking is not available at the school). The competition will be held in a single round. The event will begin at 2:00 pm and finish at about 5.00 pm. We will break for tea after the first two sections\, from about 3:00 p.m. – 3.20 p.m. \nSchools and individuals not entering candidates for the competition\, but who would like their staff or pupils to learn more about spoken Latin and Greek\, perhaps with a view to entering another year\, are warmly encouraged to attend as are friends and parents of the candidates. Home educated pupils are also invited to enter any of the sections. Commemorative prizes will be awarded. \nThe competition is in six sections\, with ONE ENTRY only from each school per section.  \n\n Beginners’ Latin\, open to pupils who have not yet completed 5 terms of Latin (either an individual\, a pair\, or group of 3 candidates)\, CLC Bk I\, ad villam (adapted).\n Beginners’ Greek\, open to pupils who have not yet completed 5 terms of Greek (either an individual\, a pair\, or group of 3 candidates): Greek to GCSE\, Part 1\, J Taylor\, The Cyclops (3) (adapted)\n Pre-GCSE Latin\, open to one pupil who has not yet taken GCSE in Latin: Virgil’s Aeneid Book 2\, lines 544-558.\n Greek Dialogue\, open to an individual or a pair of candidates at any stage: Euripides’ Medea\, lines 321-345.\n Open Latin\, open to one candidate at any stage: Ovid\, Amores\, Book 2\, 6 On the death of his mistress’s parrot (cut).\n Greek Chorus\, open to a group of 6 to 10 pupils at any stage: Euripides’ Medea\, lines 410-445.\n\nN.B.  No candidate may be entered for more than one Latin section. Entries should be sent using the application form to the organiser\, with the fee of £30.00 per school\, by Friday 1st February 2019.  Names of candidates will be needed by Thursday 28th February. \nThere will be no charge for non-competing spectators. \nPlease note: copies of the passages marked with macrons\, and the metre for the chorus\, as well as unmarked passages\, will be sent to all schools and individuals who apply. The macrons and metre will not be included in the copies from which the candidates will read at the competition \nAPPLICATION FORM \nSend or email replies to:  \nMrs Sarah Harrison\nHead of Classics\nQueen’s College\n43 – 49 Harley Street\nLondon\nW1G 8BT\nTel: 020 7 291 7033   e-mail sharrison@qcl.org.uk \nPLEASE fill in all the details on the attached application form.
URL:https://www.theclassicslibrary.com/event/london-greek-latin-reading-competition-2019/
LOCATION:Queen’s College\, 43-9 Harley street\, London\, W1G 8BT\, United Kingdom
CATEGORIES:events
ATTACH;FMTTYPE=image/jpeg:https://www.theclassicslibrary.com/wp-content/uploads/2011/08/Muse_reading_Louvre_CA2220.jpg
ORGANIZER;CN="Sarah Harrison":MAILTO:sharrison@qcl.org.uk 
END:VEVENT
BEGIN:VEVENT
DTSTART;TZID=Europe/London:20190313T163000
DTEND;TZID=Europe/London:20190313T180000
DTSTAMP:20260424T150630
CREATED:20190223T123056Z
LAST-MODIFIED:20190223T123056Z
UID:45148-1552494600-1552500000@www.theclassicslibrary.com
SUMMARY:
DESCRIPTION:Lecture Theatre\, Oxford High School\, Belbroughton Road\, Oxford OX2 6XA\, main telephone: 01865 559888 \n  \n Wednesday 13th March 2019\n4:30 – 6.00pm \n \n\n \n\nProfessor Matthew Nicholls is a specialist in the political and social history of the Romans and the way that the built environments of Rome and cities around the Roman Empire expressed their values and priorities. His talk will introduce students to his innovative and award-winning virtual 3D model of Ancient Rome.\n\n \n\nThis model makes ancient Rome accessible to thousands of pupils and students by virtually recreating the city\, including vast public buildings such as the Colosseum. This digital model of ancient Rome has proved to be an incredible teaching tool and has won the Guardian and Higher Academy National Teaching Excellence Award in 2014. How creative is the process of a 3D reconstruction of an ancient city? How can one start making their own digital models of the ancient world? Can 3D reconstruction prompt us to ask questions about the sources that inform our understanding of ancient Rome?\n\n \n\nThe talk will be followed by a Question and Answer session and it will be of direct relevance to anyone studying a Classical subject in years 9-13 and\, of course\, to anyone who is interested in Classics\, History\, Archaeology and/or Computer Science.\n\n \n\nThere is no charge for this event. Students under 16 should be accompanied by their teacher but sixth formers are welcome to join us independently. To book your place please email Dr Niki Karapanagioti at n.karapanagioti@oxf.gdst.net with a list of names as soon as possible and at the latest by Friday 8th March.
URL:https://www.theclassicslibrary.com/event/45148/
LOCATION:Oxford High School\, Belbroughton Road\, Oxford\, OX2 6XA\, United Kingdom
CATEGORIES:events
ATTACH;FMTTYPE=image/jpeg:https://www.theclassicslibrary.com/wp-content/uploads/2019/02/reconstructing-rome.jpg
ORGANIZER;CN="Niki Karapanagioti":MAILTO:n.karapanagioti@oxf.gdst.net
END:VEVENT
END:VCALENDAR