BEGIN:VCALENDAR
VERSION:2.0
PRODID:-//The Classics Library - ECPv6.15.20//NONSGML v1.0//EN
CALSCALE:GREGORIAN
METHOD:PUBLISH
X-WR-CALNAME:The Classics Library
X-ORIGINAL-URL:https://www.theclassicslibrary.com
X-WR-CALDESC:Events for The Classics Library
REFRESH-INTERVAL;VALUE=DURATION:PT1H
X-Robots-Tag:noindex
X-PUBLISHED-TTL:PT1H
BEGIN:VTIMEZONE
TZID:Europe/London
BEGIN:DAYLIGHT
TZOFFSETFROM:+0000
TZOFFSETTO:+0100
TZNAME:BST
DTSTART:20180325T010000
END:DAYLIGHT
BEGIN:STANDARD
TZOFFSETFROM:+0100
TZOFFSETTO:+0000
TZNAME:GMT
DTSTART:20181028T010000
END:STANDARD
BEGIN:DAYLIGHT
TZOFFSETFROM:+0000
TZOFFSETTO:+0100
TZNAME:BST
DTSTART:20190331T010000
END:DAYLIGHT
BEGIN:STANDARD
TZOFFSETFROM:+0100
TZOFFSETTO:+0000
TZNAME:GMT
DTSTART:20191027T010000
END:STANDARD
BEGIN:DAYLIGHT
TZOFFSETFROM:+0000
TZOFFSETTO:+0100
TZNAME:BST
DTSTART:20200329T010000
END:DAYLIGHT
BEGIN:STANDARD
TZOFFSETFROM:+0100
TZOFFSETTO:+0000
TZNAME:GMT
DTSTART:20201025T010000
END:STANDARD
END:VTIMEZONE
BEGIN:VEVENT
DTSTART;VALUE=DATE:20190622
DTEND;VALUE=DATE:20190627
DTSTAMP:20260424T033604
CREATED:20190326T130046Z
LAST-MODIFIED:20190326T130046Z
UID:45245-1561161600-1561593599@www.theclassicslibrary.com
SUMMARY:Alcestis\, the Bradfield Play 2019
DESCRIPTION:In the words of Polly Caffrey\, Head of Classics at Bradfield…\n\n \n\n“We are bringing our Greek play back into line with the Oxford –Bradfield- Cambridge triennial and putting on “Alcestis” in June 2019\, a mere two years on from Persae 2017.\n\n \n\nAs you would expect from Euripides there will be something for everyone (laughter\, tears\, ott masks\, etc) but a special highlight will be the solo songs and the Kommos reconstructed by Prof Armand D’Angour especially for the production\, with Barnaby Brown playing the reconstructed ancient double aulos (alongside splendid Victorian choral music from the 1887 Oxford “Alcestis” by C H Lloyd\, a pupil of Parry).”
URL:https://www.theclassicslibrary.com/event/alcestis-the-bradfield-play-2019/
LOCATION:Bradfield College\, Reading\, Berkshire\, RG7 6AU\, United Kingdom
CATEGORIES:events
ATTACH;FMTTYPE=image/jpeg:https://www.theclassicslibrary.com/wp-content/uploads/2019/03/Alcestis-Bradfield-College-Greek-Play-2019-scaled.jpg
END:VEVENT
BEGIN:VEVENT
DTSTART;TZID=Europe/London:20190626T123000
DTEND;TZID=Europe/London:20190626T170000
DTSTAMP:20260424T033604
CREATED:20190516T103036Z
LAST-MODIFIED:20190516T103036Z
UID:45443-1561552200-1561568400@www.theclassicslibrary.com
SUMMARY:FREE Latin Training for Teachers\, with Classics for All
DESCRIPTION:Wednesday 26th June 2019\, 12:30 – 5pm\nPutney High School\n35 Putney Hill\, Putney\, London\, SW15 6BH\n\nClassics for All is delighted to be working with Putney High School\, who will be hosting our Latin Training afternoon this year.\n\n \n\nThere will be 3 Levels of sessions catered for: Beginner\, Intermediate and GCSE.  The focus for Beginner and Intermediate levels is subject knowledge\, although I am sure there will be some discussion of pedagogy as needed.  The GCSE level will cover the teaching of Language and Literature.  If there is enough interest\, we could consider adding an A Level Latin group too.\nIf you would like to attend this training afternoon or have any questions\, please email anna@classicsforall.org.uk\, letting me know what level you would like to be in.  Please also let me know what you would like to get out of the afternoon and what you would like to learn\, so that I can pass this information on to the trainers.  It then makes the afternoon more beneficial to you\, and helps the trainers prepare for the sessions.\n\n \n\nIf you are unsure of your level\, please get in touch and let me know what experience and knowledge you have and I would be happy to advise you on which level might be best.\n\n \n\nAn optional sandwich lunch will be provided on arrival\, and sessions will start around 1:15.  There will be a chance for a general teach-meet at the end of the afternoon until 5pm\, with refreshments provided.
URL:https://www.theclassicslibrary.com/event/free-latin-training-for-teachers-with-classics-for-all/
LOCATION:Putney High School\, 35 Putney Hill\, London\, SW15 6BH\, United Kingdom
CATEGORIES:events
ATTACH;FMTTYPE=image/jpeg:https://www.theclassicslibrary.com/wp-content/uploads/2016/03/putney-high.jpg
ORGANIZER;CN="Anna Bell":MAILTO:anna@classicsforall.org.uk
END:VEVENT
END:VCALENDAR