BEGIN:VCALENDAR
VERSION:2.0
PRODID:-//The Classics Library - ECPv6.15.20//NONSGML v1.0//EN
CALSCALE:GREGORIAN
METHOD:PUBLISH
X-ORIGINAL-URL:https://www.theclassicslibrary.com
X-WR-CALDESC:Events for The Classics Library
REFRESH-INTERVAL;VALUE=DURATION:PT1H
X-Robots-Tag:noindex
X-PUBLISHED-TTL:PT1H
BEGIN:VTIMEZONE
TZID:Europe/London
BEGIN:DAYLIGHT
TZOFFSETFROM:+0000
TZOFFSETTO:+0100
TZNAME:BST
DTSTART:20180325T010000
END:DAYLIGHT
BEGIN:STANDARD
TZOFFSETFROM:+0100
TZOFFSETTO:+0000
TZNAME:GMT
DTSTART:20181028T010000
END:STANDARD
BEGIN:DAYLIGHT
TZOFFSETFROM:+0000
TZOFFSETTO:+0100
TZNAME:BST
DTSTART:20190331T010000
END:DAYLIGHT
BEGIN:STANDARD
TZOFFSETFROM:+0100
TZOFFSETTO:+0000
TZNAME:GMT
DTSTART:20191027T010000
END:STANDARD
BEGIN:DAYLIGHT
TZOFFSETFROM:+0000
TZOFFSETTO:+0100
TZNAME:BST
DTSTART:20200329T010000
END:DAYLIGHT
BEGIN:STANDARD
TZOFFSETFROM:+0100
TZOFFSETTO:+0000
TZNAME:GMT
DTSTART:20201025T010000
END:STANDARD
END:VTIMEZONE
BEGIN:VEVENT
DTSTART;TZID=Europe/London:20191003T130000
DTEND;TZID=Europe/London:20191003T180000
DTSTAMP:20260423T223433
CREATED:20190705T063851Z
LAST-MODIFIED:20190705T063851Z
UID:45649-1570107600-1570125600@www.theclassicslibrary.com
SUMMARY:CPD: A Level Classical Civilisation\, World of the Hero
DESCRIPTION:FREE Classics for All CPD: A Level Classical Civilisation\, World of the Hero\n \n\nThursday 3rd October 2019\, 1:00-6:00pm\nWimbledon High School (GDST)\, Mansel Road\, Wimbledon\, SW19 4AB\n\n \n\nClassics for All and Wimbledon High School would like to invite you to a FREE afternoon training session on the World of the Hero component of the Classical Civilisation A Level.\n\n \n\nThere will be 3 sessions: one on either the Odyssey or Iliad (you choose which one to attend)\, one on the Aeneid\, and finally a talk by a King’s College London lecturer on a particular theme relevant to the module. The text-specific ones will be run by experienced\, practising Classics teachers.\n\n \n\nAn optional sandwich lunch will be provided on arrival\, and there will be an opportunity at the end to talk to each other more informally over a glass of wine.\n\n \n\nTo sign up for the training afternoon and to select which session you would like to attend between the Odyssey and Iliad\, please complete this form (it shouldn’t take more than a few minutes).
URL:https://www.theclassicslibrary.com/event/cpd-a-level-classical-civilisation-world-of-the-hero/
LOCATION:Wimbledon High School\, Mansel Road\, London\, SW19 4AB\, United Kingdom
CATEGORIES:events
END:VEVENT
BEGIN:VEVENT
DTSTART;TZID=Europe/London:20191003T183000
DTEND;TZID=Europe/London:20191003T200000
DTSTAMP:20260423T223433
CREATED:20190903T131715Z
LAST-MODIFIED:20190903T131715Z
UID:45741-1570127400-1570132800@www.theclassicslibrary.com
SUMMARY:'Unmythable' at Hurstpierpoint College
DESCRIPTION:Thursday 3 October\, 6.30pm \n  \nHurstpierpoint College (New Bury Theatre) \n \n\nFast-paced\, funny\, daring and delightful\, UNMYTHABLE is a whistle-stop tour through the greatest Greek myths ever told. Join the young hero Jason on board the Argo as he sets off on his biggest mission yet – the quest for the Golden Fleece.\n\nAlong the way there will be challenges and terrifying obstacles to overcome but\, most importantly\, there will be stories under the stars. Legendary heroes\, deadly monsters\, epic fights and fantastical flights are all brought vividly to life\, making this a theatrical voyage not to be mythed.\n\n \n\nGo to their website to find out more:\n\n \nhttp://www.out-of-chaos.co.uk/unmythable-1.html \n \n\nAll are welcome to attend this performance\, suitable for Year 7 upwards. Tickets are free of charge and can be booked by accessing the online box office:\n\n \nwww.hurstboxoffice.co.uk \n \n\nIf you have any questions please contact katherine.barker@hppc.co.uk
URL:https://www.theclassicslibrary.com/event/unmythable-at-hurstpierpoint-college/
LOCATION:Hurstpierpoint College\, College Lane\, Hurstpierpoint\, Hassocks\, West Sussex\, BN6 9JS\, United Kingdom
CATEGORIES:events
ATTACH;FMTTYPE=image/jpeg:https://www.theclassicslibrary.com/wp-content/uploads/2019/09/unmythable.jpg
ORGANIZER;CN="Katherine Barker":MAILTO:katherine.barker@hppc.co.uk
END:VEVENT
END:VCALENDAR