BEGIN:VCALENDAR
VERSION:2.0
PRODID:-//The Classics Library - ECPv6.15.20//NONSGML v1.0//EN
CALSCALE:GREGORIAN
METHOD:PUBLISH
X-ORIGINAL-URL:https://www.theclassicslibrary.com
X-WR-CALDESC:Events for The Classics Library
REFRESH-INTERVAL;VALUE=DURATION:PT1H
X-Robots-Tag:noindex
X-PUBLISHED-TTL:PT1H
BEGIN:VTIMEZONE
TZID:Europe/London
BEGIN:DAYLIGHT
TZOFFSETFROM:+0000
TZOFFSETTO:+0100
TZNAME:BST
DTSTART:20250330T010000
END:DAYLIGHT
BEGIN:STANDARD
TZOFFSETFROM:+0100
TZOFFSETTO:+0000
TZNAME:GMT
DTSTART:20251026T010000
END:STANDARD
BEGIN:DAYLIGHT
TZOFFSETFROM:+0000
TZOFFSETTO:+0100
TZNAME:BST
DTSTART:20260329T010000
END:DAYLIGHT
BEGIN:STANDARD
TZOFFSETFROM:+0100
TZOFFSETTO:+0000
TZNAME:GMT
DTSTART:20261025T010000
END:STANDARD
BEGIN:DAYLIGHT
TZOFFSETFROM:+0000
TZOFFSETTO:+0100
TZNAME:BST
DTSTART:20270328T010000
END:DAYLIGHT
BEGIN:STANDARD
TZOFFSETFROM:+0100
TZOFFSETTO:+0000
TZNAME:GMT
DTSTART:20271031T010000
END:STANDARD
END:VTIMEZONE
BEGIN:VEVENT
DTSTART;VALUE=DATE:20260131
DTEND;VALUE=DATE:20260223
DTSTAMP:20260423T171043
CREATED:20260131T151240Z
LAST-MODIFIED:20260131T151240Z
UID:62035-1769817600-1771804799@www.theclassicslibrary.com
SUMMARY:The Ophiolite
DESCRIPTION:Theatro Technis and London Play Productions\n\n \n\nRun ends 22nd February\n\n \nMore information\n \n\nA new play by Philip de Voni set in Cyprus and England.\nDirected by Kerry Kyriacos Michael MBE\n\n \n\nWhen her beloved father dies\, young Penelope clings to the past while his widow pushes to move on. Like the Greek heroines defending sacred traditions of old\, she must decide where the battle lines are drawn. As the bereaved gather\, grief ignites a territorial war over the deceased\, which then engulfs the soul of the family itself. Ancient grudges fume\, primal bonds are torched and\, like molten rock surging through fault lines in the Earth’s crust\, the deepest injuries are finally forced into the open. Will conflict separate the family from its history and alienate bloodlines forever? In a house divided\, will love survive — and will anyone survive love?\n\n \n\nThis is a new contemporary play by Philip de Voni set in Cyprus and England. Directed by Kerry Kyriacos Michael MBE\, the Creative Director of London’s Theatro Technis\, and Olivier and UK Theatre Award-winner.\n\n \n\nThere will be a post-show discussion with members of the cast and creative teams on February 12.
URL:https://www.theclassicslibrary.com/event/the-ophiolite/
CATEGORIES:events
ATTACH;FMTTYPE=image/png:https://www.theclassicslibrary.com/wp-content/uploads/2026/01/Screenshot-2026-01-31-at-15.09.43.png
END:VEVENT
END:VCALENDAR