BEGIN:VCALENDAR
VERSION:2.0
PRODID:-//The Classics Library - ECPv6.15.20//NONSGML v1.0//EN
CALSCALE:GREGORIAN
METHOD:PUBLISH
X-ORIGINAL-URL:https://www.theclassicslibrary.com
X-WR-CALDESC:Events for The Classics Library
REFRESH-INTERVAL;VALUE=DURATION:PT1H
X-Robots-Tag:noindex
X-PUBLISHED-TTL:PT1H
BEGIN:VTIMEZONE
TZID:Europe/London
BEGIN:DAYLIGHT
TZOFFSETFROM:+0000
TZOFFSETTO:+0100
TZNAME:BST
DTSTART:20180325T010000
END:DAYLIGHT
BEGIN:STANDARD
TZOFFSETFROM:+0100
TZOFFSETTO:+0000
TZNAME:GMT
DTSTART:20181028T010000
END:STANDARD
BEGIN:DAYLIGHT
TZOFFSETFROM:+0000
TZOFFSETTO:+0100
TZNAME:BST
DTSTART:20190331T010000
END:DAYLIGHT
BEGIN:STANDARD
TZOFFSETFROM:+0100
TZOFFSETTO:+0000
TZNAME:GMT
DTSTART:20191027T010000
END:STANDARD
BEGIN:DAYLIGHT
TZOFFSETFROM:+0000
TZOFFSETTO:+0100
TZNAME:BST
DTSTART:20200329T010000
END:DAYLIGHT
BEGIN:STANDARD
TZOFFSETFROM:+0100
TZOFFSETTO:+0000
TZNAME:GMT
DTSTART:20201025T010000
END:STANDARD
END:VTIMEZONE
BEGIN:VEVENT
DTSTART;TZID=Europe/London:20190530T130000
DTEND;TZID=Europe/London:20190530T140000
DTSTAMP:20260423T215543
CREATED:20181125T152104Z
LAST-MODIFIED:20181125T152104Z
UID:44719-1559221200-1559224800@www.theclassicslibrary.com
SUMMARY:Aristotle’s Lyceum
DESCRIPTION:Thursday 30 May 2019\, 1 pm at Barnard’s Inn Hall\, London \nAristotle’s Lyceum https://www.gresham.ac.uk/lectures-and-events/aristotle-lyceum \nIn the 330s BCE\, the great philosopher and scientist\, Aristotle of Stagira in northern Greece\, returned to Athens and founded his Lyceum. The first institution in world history to encompass teaching\, research and the collection of a vast library\, the Lyceum immediately began to revive even Plato’s Academy in international reputation. This lecture looks at the archaeological site of the Lyceum\, discovered accidentally in 1996\, and asks how the remains can illuminate Aristotle’s life\, work\, and incomparable contribution across academic disciplines\, from Political Theory and Aesthetics to Zoology\, Physics and Astronomy.
URL:https://www.theclassicslibrary.com/event/aristotles-lyceum/
LOCATION:Gresham College\, Barnard's Inn Hall\, London\, EC1N 2HH\, United Kingdom
CATEGORIES:events
ATTACH;FMTTYPE=image/jpeg:https://www.theclassicslibrary.com/wp-content/uploads/2017/09/gresham-college-big.jpg
END:VEVENT
END:VCALENDAR