BEGIN:VCALENDAR
VERSION:2.0
PRODID:-//The Classics Library - ECPv6.15.20//NONSGML v1.0//EN
CALSCALE:GREGORIAN
METHOD:PUBLISH
X-WR-CALNAME:The Classics Library
X-ORIGINAL-URL:https://www.theclassicslibrary.com
X-WR-CALDESC:Events for The Classics Library
REFRESH-INTERVAL;VALUE=DURATION:PT1H
X-Robots-Tag:noindex
X-PUBLISHED-TTL:PT1H
BEGIN:VTIMEZONE
TZID:Europe/London
BEGIN:DAYLIGHT
TZOFFSETFROM:+0000
TZOFFSETTO:+0100
TZNAME:BST
DTSTART:20180325T010000
END:DAYLIGHT
BEGIN:STANDARD
TZOFFSETFROM:+0100
TZOFFSETTO:+0000
TZNAME:GMT
DTSTART:20181028T010000
END:STANDARD
BEGIN:DAYLIGHT
TZOFFSETFROM:+0000
TZOFFSETTO:+0100
TZNAME:BST
DTSTART:20190331T010000
END:DAYLIGHT
BEGIN:STANDARD
TZOFFSETFROM:+0100
TZOFFSETTO:+0000
TZNAME:GMT
DTSTART:20191027T010000
END:STANDARD
BEGIN:DAYLIGHT
TZOFFSETFROM:+0000
TZOFFSETTO:+0100
TZNAME:BST
DTSTART:20200329T010000
END:DAYLIGHT
BEGIN:STANDARD
TZOFFSETFROM:+0100
TZOFFSETTO:+0000
TZNAME:GMT
DTSTART:20201025T010000
END:STANDARD
END:VTIMEZONE
BEGIN:VEVENT
DTSTART;TZID=Europe/London:20190605T163000
DTEND;TZID=Europe/London:20190605T173000
DTSTAMP:20260423T215450
CREATED:20190525T114741Z
LAST-MODIFIED:20190525T114741Z
UID:45512-1559752200-1559755800@www.theclassicslibrary.com
SUMMARY:Unsung heroines of classical history: Natalie Haynes in Conversation
DESCRIPTION:Star of the BBC Radio 4 series\, Natalie Haynes Stands Up for the Classics\, Natalie brings her unique combination of ancient history and stand-up comedy to UCL for the UCL Festival of Culture.\n\n \n\nNatalie Haynes is a classicist\, comedian\, writer and broadcaster. Her BBC Radio 4 show\, Natalie Haynes Stands Up for the Classics\, is about to record its fifth series. She is the author of five books: her most recent novel\, A Thousand Ships\, was published in May.\n\n \nUnsung heroines of classical history: Natalie Haynes in Conversation\n \n\n4:30pm To 5:30pm\, 5 June 2019\n\n \n\nIn her latest novel\, A Thousand Ships\, broadcaster and classicist Natalie retells the story of the Trojan War from an all-female perspective. Ahead of her performance of Troy Story at the Bloomsbury Theatre later in the day\, she will join Dr Antony Makrinos\, Senior Teaching Fellow in Classics at UCL\, for a conversation about the women who’ve been previously confined to the shadows and who now should take centre stage.
URL:https://www.theclassicslibrary.com/event/unsung-heroines-of-classical-history-natalie-haynes-in-conversation/
LOCATION:UCL\, London
CATEGORIES:events
ATTACH;FMTTYPE=image/jpeg:https://www.theclassicslibrary.com/wp-content/uploads/2016/06/ucl-big.jpg
END:VEVENT
BEGIN:VEVENT
DTSTART;TZID=Europe/London:20190605T193000
DTEND;TZID=Europe/London:20190605T203000
DTSTAMP:20260423T215450
CREATED:20190525T114604Z
LAST-MODIFIED:20190525T114621Z
UID:45509-1559763000-1559766600@www.theclassicslibrary.com
SUMMARY:Natalie Haynes: Troy Story
DESCRIPTION:Star of the BBC Radio 4 series\, Natalie Haynes Stands Up for the Classics\, Natalie brings her unique combination of ancient history and stand-up comedy to UCL for the UCL Festival of Culture. \n\n\n\nNatalie Haynes is a classicist\, comedian\, writer and broadcaster. Her BBC Radio 4 show\, Natalie Haynes Stands Up for the Classics\, is about to record its fifth series. She is the author of five books: her most recent novel\, A Thousand Ships\, was published in May. \n\n\n\nNatalie Haynes: Troy Story\n\n\n\n7:30pm To 8:30pm\, 5 June 2019 Tickets: £5.00 \n\n\n\nNatalie spent 12 years as a stand-up comedian\, before returning to her first love with her book\, The Ancient Guide to Modern Life. To coincide with her latest novel\, A Thousand Ships\, she will take audiences on a tour around Trojan War\, the greatest conflict in ancient literature\, perhaps in literature full stop. From the causes of the war (divine displeasure) to its complex aftermath\, this show encompasses some of the greatest poetry ever written: The Iliad\, The Odyssey\, The Oresteia\, The Trojan Women and much more. The stories of the women whose lives the war affected have been largely untold\, from the Amazon warrior\, Penthesilea\, to the priestess who saw the whole thing coming\, Cassandra. Continuing a project she began with her novel\, The Children of Jocasta\, Natalie takes the women out of the shadows and puts them back where they belong: in the middle of the story.
URL:https://www.theclassicslibrary.com/event/45509/
LOCATION:UCL\, London
CATEGORIES:events
ATTACH;FMTTYPE=image/jpeg:https://www.theclassicslibrary.com/wp-content/uploads/2016/06/ucl-big.jpg
END:VEVENT
BEGIN:VEVENT
DTSTART;TZID=Europe/London:20190606T120000
DTEND;TZID=Europe/London:20190606T133000
DTSTAMP:20260423T215450
CREATED:20190525T120304Z
LAST-MODIFIED:20190525T120304Z
UID:45524-1559822400-1559827800@www.theclassicslibrary.com
SUMMARY:All for an Empty Tunic\, All for a Helen
DESCRIPTION:12:00 pm to 1:30 pm\, 06 June 2019\n\n \n\nThe film All for an Empty Tunic\, All for a Helen (dir. Dr. Antony Makrinos\, UCL Greek & Latin) explores the values and ideas of Homer’s Helen in the works of various other authors (Euripides\, Ovid\, WWI poetry and Yiannis Ritsos) but also their significance for the lives of modern women and the challenges they face in the modern world. It also invites the audience to reflect on topics that have been important in the story of Helen but also in the lives of modern women.\n\n \n\nFurther information: https://www.ucl.ac.uk/festival-of-culture/events/2019/jun/all-empty-tunic-all-helen
URL:https://www.theclassicslibrary.com/event/all-for-an-empty-tunic-all-for-a-helen/
LOCATION:UCL\, London
CATEGORIES:events
ATTACH;FMTTYPE=image/jpeg:https://www.theclassicslibrary.com/wp-content/uploads/2016/06/ucl-big.jpg
END:VEVENT
BEGIN:VEVENT
DTSTART;TZID=Europe/London:20190607T133000
DTEND;TZID=Europe/London:20190607T143000
DTSTAMP:20260423T215450
CREATED:20190525T120617Z
LAST-MODIFIED:20190525T120617Z
UID:45528-1559914200-1559917800@www.theclassicslibrary.com
SUMMARY:Cultural interaction in Europe in the period of classical antiquity
DESCRIPTION:1:30 pm to 2:30 pm\, 07 June 2019\n\n \n\nLinked to the anniversary of the introduction of the Euro\, which symbolizes a further stage in the ‘European project’\, this talk will discuss cultural interactions in ancient Europe\, especially between Greece and Rome in the classical period.\n\n \n\nIt will explore the situation that the first ‘Roman’ poets\, who were not Roman nationals\, adopted elements of Greek literature and transformed them into something that was comprehensible\, relevant and interesting to a Roman audience\, and then consider how Roman literature and culture was spread over most of Europe with the expansion of the Roman empire. This will provide the basis for some reflection on the extent to which these developments in the ancient world can be illuminating for the present when the concept of ‘Europe’ is much discussed.\n\n \n\nGesine Manuwald is Professor of Latin and currently Head of UCL’s Department of Greek and Latin. Teaching of Classics began at UCL in 1828\, and the department offers a variety of interdisciplinary Undergraduate and Graduate degree programmes in classical literature\, culture and history.\n\n \n\nFurther information: https://www.ucl.ac.uk/festival-of-culture/events/2019/jun/cultural-interaction-europe-period-classical-antiquity
URL:https://www.theclassicslibrary.com/event/cultural-interaction-in-europe-in-the-period-of-classical-antiquity/
LOCATION:UCL\, London
CATEGORIES:events
ATTACH;FMTTYPE=image/jpeg:https://www.theclassicslibrary.com/wp-content/uploads/2016/06/ucl-big.jpg
END:VEVENT
BEGIN:VEVENT
DTSTART;VALUE=DATE:20190608
DTEND;VALUE=DATE:20190615
DTSTAMP:20260423T215450
CREATED:20190524T162222Z
LAST-MODIFIED:20190524T162222Z
UID:45505-1559952000-1560556799@www.theclassicslibrary.com
SUMMARY:The Classical Association of Scotland Greek and Latin Summer School: 8th July - Sunday 14th July 2019
DESCRIPTION:1st Annual CAS Summer School Monday 8th July – Sunday 14th July 2019 George Watson’s College\, Edinburgh The Classical Association of Scotland is proud to host its inaugural Summer School in Greek and Latin (https://cassummerschool.weebly.com/) this year in Edinburgh.\n\n \n\nThe Summer School will offer a range of classes in Ancient Greek and Latin from beginners to advanced level\, giving learners an exciting opportunity to explore language and engage with a range of ancient classical texts and resources. Beyond our core language teaching\, there will be a range of extra-curricular taster sessions\, some of which will focus on classroom pedagogy\, while others will cover a range of subjects including (but not limited to): introductions to text and culture\, Egyptology and Reception Studies. Our Summer School is open to all. We have a small number of bursaries that will be awarded following application to the school. These have been generously supported by Classics for All and the Society for the Promotion of Roman Studies.)\n\n \n\nFurther information: Email: cassummerschool@mail.com
URL:https://www.theclassicslibrary.com/event/the-classical-association-of-scotland-greek-and-latin-summer-school-8th-july-sunday-14th-july-2019/
LOCATION:CAS SUMMER SCHOOL George Watson’s College\, Colinton Road\, Edinburhg\, EH10 5EG\, United Kingdom
CATEGORIES:events
ATTACH;FMTTYPE=image/jpeg:https://www.theclassicslibrary.com/wp-content/uploads/2019/05/classical-association-scotland.jpg
END:VEVENT
BEGIN:VEVENT
DTSTART;TZID=Europe/London:20190615T100000
DTEND;TZID=Europe/London:20190615T160000
DTSTAMP:20260423T215450
CREATED:20190404T103639Z
LAST-MODIFIED:20190404T103639Z
UID:45280-1560592800-1560614400@www.theclassicslibrary.com
SUMMARY:Hands Up Summer Conference
DESCRIPTION:  We are pleased to invite teachers to the Museum of London on Saturday 15th June for our annual one-day conference. \n\n\n\nThe conference will run from 10 a.m. to 4 p.m. and cost £49 (£25 for PGCE students). Fifteen optional sessions will include ideas on best practice for teaching GCSE Latin\, a visit to the London Mithraeum\, the latest thinking from experts at the museums of Bath and Colchester\, and exploring our new Suburani Latin course. \n\n\n\nFor more information\, including the full day’s programme\, and to reserve your place now\, head to our Conference page.
URL:https://www.theclassicslibrary.com/event/hands-up-summer-conference/
LOCATION:Museum of London\, 150 London Wall\, London\, EC2Y 5HN\, United Kingdom
CATEGORIES:events
ATTACH;FMTTYPE=image/png:https://www.theclassicslibrary.com/wp-content/uploads/2019/04/conference-header.png
END:VEVENT
BEGIN:VEVENT
DTSTART;TZID=Europe/London:20190615T190000
DTEND;TZID=Europe/London:20190615T203000
DTSTAMP:20260423T215450
CREATED:20190404T112943Z
LAST-MODIFIED:20190404T112943Z
UID:45298-1560625200-1560630600@www.theclassicslibrary.com
SUMMARY:'The Song of Arms and a Man'\, the Reading of an Adaptation of Virgil's Aeneid.
DESCRIPTION:The LATIN QVARTER’s George Sharpley has adapted the Aeneid into this Collection of Latin readings with English narration.\n\n \n\nThe recital is taking place at 7pm on 15th June at Lady Margaret Hall\, Oxford\, with readings from Emma Kirkby\, Matthew Hargreaves\, Elizabeth Donnelly and Llewelyn Morgan.\n\n \nFurther Information
URL:https://www.theclassicslibrary.com/event/the-song-of-arms-and-a-man-the-reading-of-an-adaptation-of-virgils-aeneid/
LOCATION:Lady Margaret Hall\, Oxford\, United Kingdom
CATEGORIES:events
ATTACH;FMTTYPE=image/jpeg:https://www.theclassicslibrary.com/wp-content/uploads/2016/05/latin-qvarter-big.jpg
END:VEVENT
BEGIN:VEVENT
DTSTART;VALUE=DATE:20190618
DTEND;VALUE=DATE:20190619
DTSTAMP:20260423T215450
CREATED:20190501T112146Z
LAST-MODIFIED:20190501T112146Z
UID:45404-1560816000-1560902399@www.theclassicslibrary.com
SUMMARY:World of the Hero: A Workshop for Classical Civilisation A Level School Teachers
DESCRIPTION:World of the Hero: A Workshop for Classical Civilisation A Level School Teachers\n\n \n\nTuesday\, June 18\, 2019\n10:30 am – 5:00 pm\nKing’s College London – Strand Campus\nAnatomy Lecture Theatre\n\n \n\nJoin us for the Department of Classics’ annual teacher’s workshop\, this year focussing on the epics for the ‘World of the Hero’ element of the Classical Civilisation A level.\n\n \n\nThis one-day event consists of three lectures from King’s academics\, each devoted to one of the epic poems included in the A level specification. A roundtable discussion at the end of the day will offer a chance for participants to workshop challenges and strategies in teaching this component successfully. Lunch is complimentary and will include the opportunity to meet the graduating cohort of King’s PGCE students (Latin with Classics).\n\n \nProgramme\n \n\n10.30-11.00: Registration\n\n \n\n11.00-12.00: Dr Pavlos Avlamis: Homer\, Odyssey\n\n \n\n12.00-13.30: Lunch and coffee/tea\n\n \n\n13.30-14.30: Professor Edith Hall: Homer\, Iliad\n\n \n\n14:30-14:45 Break\n\n \n\n14.45-15.45: Dr Emily Pillinger: Virgil\, Aeneid \n\n \n\n15:45-16:00 Break\n\n \n\n16.00-17.00: Roundtable discussion\n\n \n\nPlease register for the event here: https://www.eventbrite.co.uk/e/world-of-the-hero-a-workshop-for-classical-civilisation-a-level-school-teachers-tickets-59532406029
URL:https://www.theclassicslibrary.com/event/world-of-the-hero-a-workshop-for-classical-civilisation-a-level-school-teachers/
LOCATION:King’s College\, London\, Strand\, London\, London\, WC2B 5RL \, United Kingdom
CATEGORIES:events
ATTACH;FMTTYPE=image/jpeg:https://www.theclassicslibrary.com/wp-content/uploads/2016/04/kcl-big.jpg
END:VEVENT
BEGIN:VEVENT
DTSTART;VALUE=DATE:20190622
DTEND;VALUE=DATE:20190627
DTSTAMP:20260423T215450
CREATED:20190326T130046Z
LAST-MODIFIED:20190326T130046Z
UID:45245-1561161600-1561593599@www.theclassicslibrary.com
SUMMARY:Alcestis\, the Bradfield Play 2019
DESCRIPTION:In the words of Polly Caffrey\, Head of Classics at Bradfield…\n\n \n\n“We are bringing our Greek play back into line with the Oxford –Bradfield- Cambridge triennial and putting on “Alcestis” in June 2019\, a mere two years on from Persae 2017.\n\n \n\nAs you would expect from Euripides there will be something for everyone (laughter\, tears\, ott masks\, etc) but a special highlight will be the solo songs and the Kommos reconstructed by Prof Armand D’Angour especially for the production\, with Barnaby Brown playing the reconstructed ancient double aulos (alongside splendid Victorian choral music from the 1887 Oxford “Alcestis” by C H Lloyd\, a pupil of Parry).”
URL:https://www.theclassicslibrary.com/event/alcestis-the-bradfield-play-2019/
LOCATION:Bradfield College\, Reading\, Berkshire\, RG7 6AU\, United Kingdom
CATEGORIES:events
ATTACH;FMTTYPE=image/jpeg:https://www.theclassicslibrary.com/wp-content/uploads/2019/03/Alcestis-Bradfield-College-Greek-Play-2019-scaled.jpg
END:VEVENT
BEGIN:VEVENT
DTSTART;TZID=Europe/London:20190626T123000
DTEND;TZID=Europe/London:20190626T170000
DTSTAMP:20260423T215450
CREATED:20190516T103036Z
LAST-MODIFIED:20190516T103036Z
UID:45443-1561552200-1561568400@www.theclassicslibrary.com
SUMMARY:FREE Latin Training for Teachers\, with Classics for All
DESCRIPTION:Wednesday 26th June 2019\, 12:30 – 5pm\nPutney High School\n35 Putney Hill\, Putney\, London\, SW15 6BH\n\nClassics for All is delighted to be working with Putney High School\, who will be hosting our Latin Training afternoon this year.\n\n \n\nThere will be 3 Levels of sessions catered for: Beginner\, Intermediate and GCSE.  The focus for Beginner and Intermediate levels is subject knowledge\, although I am sure there will be some discussion of pedagogy as needed.  The GCSE level will cover the teaching of Language and Literature.  If there is enough interest\, we could consider adding an A Level Latin group too.\nIf you would like to attend this training afternoon or have any questions\, please email anna@classicsforall.org.uk\, letting me know what level you would like to be in.  Please also let me know what you would like to get out of the afternoon and what you would like to learn\, so that I can pass this information on to the trainers.  It then makes the afternoon more beneficial to you\, and helps the trainers prepare for the sessions.\n\n \n\nIf you are unsure of your level\, please get in touch and let me know what experience and knowledge you have and I would be happy to advise you on which level might be best.\n\n \n\nAn optional sandwich lunch will be provided on arrival\, and sessions will start around 1:15.  There will be a chance for a general teach-meet at the end of the afternoon until 5pm\, with refreshments provided.
URL:https://www.theclassicslibrary.com/event/free-latin-training-for-teachers-with-classics-for-all/
LOCATION:Putney High School\, 35 Putney Hill\, London\, SW15 6BH\, United Kingdom
CATEGORIES:events
ATTACH;FMTTYPE=image/jpeg:https://www.theclassicslibrary.com/wp-content/uploads/2016/03/putney-high.jpg
ORGANIZER;CN="Anna Bell":MAILTO:anna@classicsforall.org.uk
END:VEVENT
BEGIN:VEVENT
DTSTART;VALUE=DATE:20190629
DTEND;VALUE=DATE:20190630
DTSTAMP:20260423T215450
CREATED:20190501T112645Z
LAST-MODIFIED:20190501T112645Z
UID:45408-1561766400-1561852799@www.theclassicslibrary.com
SUMMARY:Teaching Scholarship: a CATB training day for teachers of A-level Class Civ
DESCRIPTION:From the Classical Association…\n\nSaturday 29th June\n\n \n\nThe requirement that pre-Universiy students engage with modern scholarship on aspects of the classical world is a feature of the current OCR A-Level Classical Civilisation specifications in the United Kingdom. This training session intends to support teachers as they plan and deliver this new and frequently challenging element.\n\n \n\nThe event will include sessions delivered by leading academics on each of the A Level module choices. Attendees will be able to choose a pathway through the day that is entirely relevant to their own school context. There will also be workshops led by schoolteachers\, focusing on ways to deliver scholarship to students\, and how to train them to make use of it in their own work.\n\nConfirmed speakers:\n\nWorld of the Hero (Aeneid) – Sharon Marshall\nImperial Image – Shushma Malik\nInvention of the Barbarian – Lynette Mitchell\nGreek Art – Robin Osborne\nGreek Theatre – Edith Hall\nDemocracy and the Athenians – Robin Osborne\nLove and Relationships -Liz Gloyn\nGreek Religion – Esther Eidinow\nPolitics and the Late Republic – Kathryn Tempest\n\n \n\nFurther information and to book tickets.
URL:https://www.theclassicslibrary.com/event/teaching-scholarship-a-catb-training-day-for-teachers-of-a-level-class-civ/
LOCATION:Senate House\, Malet Street\, London\, WC1E 7HU\, United Kingdom
CATEGORIES:events
ATTACH;FMTTYPE=image/jpeg:https://www.theclassicslibrary.com/wp-content/uploads/2018/08/Classical-Association.jpg
END:VEVENT
END:VCALENDAR