BEGIN:VCALENDAR
VERSION:2.0
PRODID:-//The Classics Library - ECPv6.15.20//NONSGML v1.0//EN
CALSCALE:GREGORIAN
METHOD:PUBLISH
X-WR-CALNAME:The Classics Library
X-ORIGINAL-URL:https://www.theclassicslibrary.com
X-WR-CALDESC:Events for The Classics Library
REFRESH-INTERVAL;VALUE=DURATION:PT1H
X-Robots-Tag:noindex
X-PUBLISHED-TTL:PT1H
BEGIN:VTIMEZONE
TZID:Europe/London
BEGIN:DAYLIGHT
TZOFFSETFROM:+0000
TZOFFSETTO:+0100
TZNAME:BST
DTSTART:20190331T010000
END:DAYLIGHT
BEGIN:STANDARD
TZOFFSETFROM:+0100
TZOFFSETTO:+0000
TZNAME:GMT
DTSTART:20191027T010000
END:STANDARD
BEGIN:DAYLIGHT
TZOFFSETFROM:+0000
TZOFFSETTO:+0100
TZNAME:BST
DTSTART:20200329T010000
END:DAYLIGHT
BEGIN:STANDARD
TZOFFSETFROM:+0100
TZOFFSETTO:+0000
TZNAME:GMT
DTSTART:20201025T010000
END:STANDARD
BEGIN:DAYLIGHT
TZOFFSETFROM:+0000
TZOFFSETTO:+0100
TZNAME:BST
DTSTART:20210328T010000
END:DAYLIGHT
BEGIN:STANDARD
TZOFFSETFROM:+0100
TZOFFSETTO:+0000
TZNAME:GMT
DTSTART:20211031T010000
END:STANDARD
END:VTIMEZONE
BEGIN:VEVENT
DTSTART;VALUE=DATE:20200201
DTEND;VALUE=DATE:20200202
DTSTAMP:20260424T111207
CREATED:20191011T133442Z
LAST-MODIFIED:20191011T133648Z
UID:45910-1580515200-1580601599@www.theclassicslibrary.com
SUMMARY:The Birmingham and Midlands Classical Association
DESCRIPTION:The Birmingham and Midlands Classical Association \n\n\n\nThe BMCA would like to invite everyone to their events this year. All events take place in the Arts Building at the University of Birmingham. \n\n\n\n  \n\n\n\nSaturday 1 February 2020: The BMCA Teachers’ Day \n\n\n\nThe Birmingham and Midlands Classical Association would like to invite all teachers to their annual Teachers’ Day\, which will be held in the Arts Building at the University of Birmingham. Please see the programme for the day below. \n\n\n\n9.30-9.45:            Arrival\, coffee and welcome \n\n\n\n9.45-10.45:        OCR – feedback from Year 1 of A Level and GCSE Classical Civilisation and Ancient History \n\n\n\n10.45-11.45:     A: Eduqas – GCSE Latin: compulsory set texts \n\n\n\nB: Workshop – GCSE Greek set texts \n\n\n\nC: A Level Latin Authors: Tacitus \n\n\n\n11.45-12.00:       Coffee \n\n\n\n12.00-1.00:        A: Greek Theatre: Sophocles \n\n\n\nB: Invention of the Barbarian \n\n\n\nC: The Julio-Claudian Emperors and Imperial Image \n\n\n\n1.00-1.45:            Lunch \n\n\n\n1.45-2.45:           A: GCSE Ancient History Specification \n\n\n\nB: GCSE Classical Civilisation: Roman City Life \n\n\n\nC: Democracy and the Athenians \n\n\n\n2.45-3.00:            Coffee \n\n\n\n3.00-4.00:           Homer \n\n\n\n4.00-4.30:            Tea\, final questions and departure \n\n\n\nPlease contact Joanna Johnson at Solihull School (Johnsonj@solsch.org.uk) to register your interest and book a place on the day. \n\n\n\nThe cost of the event is £45 per attendee which can be paid on the day. Receipts can be supplied after the event. Schools do not need to be a member of the Birmingham and Midlands Classical Association to attend. \n\n\n\n  \n\n\n\nThe BMCA will also be hosting the Annual texts and Topics Conference – more details to follow shortly! \n\n\n\nFor any further information about any of our events\, to register your interest in the lectures\, or to book a place on the Teachers’ Day\, please contact either Joanna Johnson (johnsonj@solsch.org.uk) or Polly Stoker (P.Stoker@bham.ac.uk). \n\n\n\nLooking forward to seeing lots of you at our events! \n\n\n\nThe BMCA
URL:https://www.theclassicslibrary.com/event/the-birmingham-and-midlands-classical-association-2/
LOCATION:University of Birmingham\, Birmingham\, United Kingdom
CATEGORIES:events
END:VEVENT
BEGIN:VEVENT
DTSTART;TZID=Europe/London:20200204T093000
DTEND;TZID=Europe/London:20200204T130000
DTSTAMP:20260424T111207
CREATED:20200204T110647Z
LAST-MODIFIED:20200204T110647Z
UID:46941-1580808600-1580821200@www.theclassicslibrary.com
SUMMARY:Conference In GCSE Latin and Greek & Essay Prize Supported by the Classical Association
DESCRIPTION:Conference In GCSE Latin and Greek & Essay Prize Supported by the Classical Association\n  \n\nWestminster School\n  \n\nThursday\, 13th February 2020 9.40am -1.00pm\n \n\nThis conference offers pupils in years 10 and 11 the chance to attend a series of appropriately pitched lectures on their Latin and Greek set texts and on topics of wider interest.\n\n \n\nThe conference lectures will tie into the Classical Association GCSE Essay Prize: each speaker will provide further reading at the end of the lecture and an essay title (1000 words maximum).  Pupils who choose to write one of these essays can enter the Classical Association GCSE Essay prize: the winner will receive £100 in book tokens\, and their essay will be posted on the Classical Association website.\n\n \n\nA voluntary £5 contribution per pupil attending is suggested: for more information and to reserve places please contact andy.mylne@westminster.org.uk\n\n \n\nProgramme for the day:\n\n \n\n9.15-9.40: Arrive at Westminster School & gather in the School Hall (‘Up School’)\n\n \n\nSession 1: 9.45 – 10.25 – Dr Elton Barker on Herodotus: ‘Fake news\, fish-eaters and a divinely conceived bull: Herodotus and the meaning of history’.\n\n \n\nDr. Elton Barker is a Reader in Classical Studies at the Open University. His first book\, Entering the Agon (OUP 2009) analyses debate in Homer\, historiography and Greek tragedy. He is heavily involved in multimedia projects. The Hestia project uses ‘X-ray’ maps to show how Herodotus constructs space in his Histories. The Pelagios project connects texts\, inscriptions\, archaeological finds\, museum objects and photographs to broaden the context in which to study ancient places.\n\n \n\nSession 2: 10.30-11.10 – Dr John Taylor on The Iliad (bk.3): ‘Greeks and Trojans at war’\n\n \n\nDr. John Taylor is a Lecturer in Classics at Manchester University. He is an experienced teacher and examiner of Greek and Latin and the author of the Bloomsbury textbooks Essential GCSE Latin\, Latin to GCSE (with Henry Cullen)\, Latin Beyond GCSE\, Greek to GCSE and Greek Beyond GCSE. He is currently editing books for the Reading Greek and New Surveys series\, planning new student texts\, and working on a book on Pausanias.\n\n \n\nBreak: 11.15-11.30\n\n \n\nSession 3: 11.30-12.10 – Dr Katherine Clarke on Tacitus: ‘Germanicus and Piso: two of a kind?’\n\n \n\nDr. Katherine Clarke is Associate Professor in Ancient History at Oxford University and Fellow of St. Hilda’s College. She has published extensively on historians such as Tacitus\, Polybius and Herodotus. In Making Time for the Past (OUP 2008)\, she discussed how the identity of Greek city states was shaped by their different attitudes to time. Shaping the Geography of Empire (OUP 2018) examines the role of landscape in Herodotus.\n\n \n\nSession 4: 12.15-12.55 – Dr Llewelyn Morgan on The Aeneid (bk.2): ‘Layers of meaning in Virgil.’\n\n \n\nDr Llewellyn Morgan is University Lecturer in Classics at Oxford University and Fellow of Brasenose College. He has published on Virgil\, Ovid\, Horace\, satire and historiography. In Patterns of redemption in Virgil’s Georgics (Cambridge\, 1999)\, he explores themes including the civil wars\, blood sacrifice and Romulus’s fratricide of Remus. He writes regular reviews for the Times Literary Supplement and he is currently completing a book on the expressive power of metrical form.\n\n \n\n1.00 – End
URL:https://www.theclassicslibrary.com/event/conference-in-gcse-latin-and-greek-essay-prize-supported-by-the-classical-association-2/
LOCATION:Westminster School\, Little Smith Street\, London\, SW1P 3PF\, United Kingdom
CATEGORIES:events
ATTACH;FMTTYPE=image/jpeg:https://www.theclassicslibrary.com/wp-content/uploads/2019/02/westminster-big-scaled.jpg
END:VEVENT
BEGIN:VEVENT
DTSTART;VALUE=DATE:20200205
DTEND;VALUE=DATE:20200206
DTSTAMP:20260424T111207
CREATED:20200109T134718Z
LAST-MODIFIED:20200109T134718Z
UID:46566-1580860800-1580947199@www.theclassicslibrary.com
SUMMARY:EMACT VIth Form Classics Day
DESCRIPTION:An exciting opportunity for VIth Form pupils to attend lectures and seminars given by university lecturers.\n\n \n\nWednesday February 5th 2020\, Leicester University\n\n \n\nPupils: £8\n\n \n\nStaff (including lunch): £15\n\n \n\nBook online at:\n\n \n\nhttps://www.eventbrite.co.uk/e/emact-vith-form-classics-day-tickets-88806096425\n\n \n\nBookings will close 31st January 2020 at 16:00.
URL:https://www.theclassicslibrary.com/event/emact-vith-form-classics-day/
LOCATION:University of Leicester\, University Road\, Leicester\, LE1 7RH\, United Kingdom
CATEGORIES:events
ATTACH;FMTTYPE=image/jpeg:https://www.theclassicslibrary.com/wp-content/uploads/2018/12/emact.jpg
END:VEVENT
BEGIN:VEVENT
DTSTART;TZID=Europe/London:20200207T100000
DTEND;TZID=Europe/London:20200207T170000
DTSTAMP:20260424T111207
CREATED:20191217T160351Z
LAST-MODIFIED:20191217T160351Z
UID:46197-1581069600-1581094800@www.theclassicslibrary.com
SUMMARY:Egyptology and Assyriology Study Day at Christ's College
DESCRIPTION:Egyptology and Assyriology Study Day at Christ’s College – 7 February 2020\nFor Year 12 students\, parents\, teachers\, HE advisers and mature students. \nEgypt and Mesopotamia (modern Iraq; ancient Sumer\, Assyria and Babylon) bequeathed to posterity some of the most fascinating remains from all of the ancient world. \nAt Cambridge\, Egyptology and Assyriology are based in the Department of Archaeology where you can study the archaeology\, cultures and languages of one or both of these fascinating ancient civilisations in all three years as an undergraduate student. \nJoin us for our Egyptology and Assyriology Study Day for prospective undergraduates\, kindly hosted by Christ’s College\, on Friday 7 February 2020 to discover more about these subjects at Cambridge through lectures\, language and practical sessions. \nPlease book via the following link:  \n  \nAttendance is free\, but booking is required. Spaces are limited and priority will be given to applicants who meet the following criteria\, though this is not a prerequisite to applying: \n\nfrom the state maintained sector\, particularly where they attend schools or colleges with a low overall A-level\, Higher/Advanced Higher (or equivalent) point score and/or schools or colleges with low progression to higher education\nthe first generation in their family to attend university\neligible for free school meals and/or pupil premium\nwho are (or have been) looked after\, accommodated or in care who will only need to meet the study year and academic requirements.\n\n**Booking closes 31 January\, 2020.** \nIn some cases travel bursaries may be available. Please contact outreach@arch.cam.ac.uk for further details. \nProgramme TBC \n\n\n\n10:00-10:15\nRegistration\n\n\n10:15-11:15\nEgyptology Sample Lecture\n\n\n11:15-12:30\nBabylonian Language Session\n\n\n12:30-13:45\nLunch and tour of Christ’s College\n\n\n13:45-14:45\nEgyptian Language Session\n\n\n14:45-15:00\nWalk to Department of Archaeology\n\n\n15:00-16:00\nPractical session/artefact-handling session\n\n\n16:00-16:45\nMaking a competitive application / Q&A session
URL:https://www.theclassicslibrary.com/event/egyptology-and-assyriology-study-day-at-christs-college/
LOCATION:Christ’s College\, Cambridge\, St Andrew's Street\, Cambridge\, CB2 3BU\, United Kingdom
CATEGORIES:events
ATTACH;FMTTYPE=image/png:https://www.theclassicslibrary.com/wp-content/uploads/2019/12/Christs-Eg-Mes-2020-flyer.png
ORGANIZER;CN="Laure Bonner":MAILTO:lmb97@cam.ac.uk
END:VEVENT
BEGIN:VEVENT
DTSTART;VALUE=DATE:20200212
DTEND;VALUE=DATE:20200215
DTSTAMP:20260424T111207
CREATED:20191107T125753Z
LAST-MODIFIED:20191107T125753Z
UID:46022-1581465600-1581724799@www.theclassicslibrary.com
SUMMARY:UCL Classics Play 2020: Aristophanes' Frogs
DESCRIPTION:12th-14th February 2020 \n \n\nIdealistic thoughts of good peace terms? General critiques of political policy? Citizens rejecting the leadership to whom it now follows? Nearly 2\,500 years later and still the political themes present in Aristophanes’ Frogs are of great pertinence to us today. Yet\, with our millennial majority rapidly transforming society\, is the ‘new’ directing us towards a Utopia of tomorrow\, or once again leading us astray from a clear and direct path to success?\n\n \n\nSet within the backdrop of the artistic and social movement of Futurism\, UCL’s 2020 Dionysus and Xanthius will be endeavouring to save their empty and artless world with the retrieval of a newer and younger rap artist Eu-RIP-ides. Yet after the parties\, obscenities and confusion of identities\, is it the new or old ways that are left for terminal decline?\n\n \n\nThere will be a series of pre-performance lectures ahead of all evening performances. Please note\, these will take place at E28 Harrie Massey Lecture theatre\, 25 Gordon Street\, and not at the Bloomsbury Theatre. Lectures are free but booking is essential. Please book via the link below.\n\n \n\nFurther information and to book.
URL:https://www.theclassicslibrary.com/event/ucl-classics-play-2020-aristophanes-frogs/
LOCATION:Harrie Massey Lecture Theatre\, 25 Gordon Street\, London\, WC1H 0AY\, United Kingdom
CATEGORIES:events
ATTACH;FMTTYPE=image/jpeg:https://www.theclassicslibrary.com/wp-content/uploads/2019/11/aristophanes-frogs-2020.jpg
END:VEVENT
BEGIN:VEVENT
DTSTART;TZID=Europe/London:20200213T190000
DTEND;TZID=Europe/London:20200213T203000
DTSTAMP:20260424T111207
CREATED:20190621T103458Z
LAST-MODIFIED:20190621T103458Z
UID:45609-1581620400-1581625800@www.theclassicslibrary.com
SUMMARY:‘Virtual Rome: A Digital Model of the Ancient City’
DESCRIPTION: \n\n \nThursday 13th February\, 7pm – Professor Matthew Nicholls\n  \n\n‘Virtual Rome: A Digital Model of the Ancient City’\n \n\nMatthew has spent several years creating a large-scale digital model of ancient Rome\, for use in his teaching and research at Reading and Oxford universities. He has also worked with broadcasters and computer games companies\, and produced a five-week free online course (‘MOOC’) based on the model which over 30\,000 people have now taken. This talk will look at how Matthew made this model\, what evidence it is based on\, and some of the uses to which it has been put.\n\n \n\n \n\nAll talks will be held at Badminton School\, Peace Memorial Hall. Please email Barbara Bell (bmbellmini@aol.com) to register your interest. There are no tickets\, and talks are free for Bristol Classical Association members\, students\, and school pupils. There will be a cost of £5 for visitors. Refreshments available from 6.30pm.\n\n \n\nThe Bristol Classical Association AGM will be on November 12\, 2019\, 12.30-2.00pm.
URL:https://www.theclassicslibrary.com/event/virtual-rome-a-digital-model-of-the-ancient-city/
LOCATION:Badmington School\, Westbury Road\, Bristol\, BS9 3BA\, United Kingdom
CATEGORIES:events
ATTACH;FMTTYPE=image/jpeg:https://www.theclassicslibrary.com/wp-content/uploads/2018/08/Classical-Association.jpg
END:VEVENT
BEGIN:VEVENT
DTSTART;TZID=Europe/London:20200220T190000
DTEND;TZID=Europe/London:20200220T200000
DTSTAMP:20260424T111207
CREATED:20190903T134118Z
LAST-MODIFIED:20191230T134734Z
UID:45754-1582225200-1582228800@www.theclassicslibrary.com
SUMMARY:Walking With The Gods: The Religious Lives of the Ancient Greeks
DESCRIPTION:Thursday 9th January 7pmWalking With The Gods: The Religious Lives of the Ancient GreeksProfessor Michael Scott\, Historian\, Author\, Broadcaster Professor of Classics and Ancient History\, University of Warwick \nAKS\, Main Entrance\, Clifton Drive South\, Lytham St Annes FY8 1DT \nLectures 7 – 8pm Doors open at 6.15pm \nMEMBERS ONLY. You can join anytime. https://lsaclassics.com/ \nFLIER FOR THE PROGRAMME
URL:https://www.theclassicslibrary.com/event/walking-with-the-gods-the-religious-lives-of-the-ancient-greeks/
LOCATION:AKS\, Clifton Drive South\, Lytham\, Sta Anne's\, Lancashire\, FY8 1DT\, United Kingdom
CATEGORIES:events
ATTACH;FMTTYPE=image/jpeg:https://www.theclassicslibrary.com/wp-content/uploads/2019/09/lsa-2019.jpg
END:VEVENT
BEGIN:VEVENT
DTSTART;VALUE=DATE:20200224
DTEND;VALUE=DATE:20200225
DTSTAMP:20260424T111207
CREATED:20191203T125014Z
LAST-MODIFIED:20191203T125014Z
UID:46159-1582502400-1582588799@www.theclassicslibrary.com
SUMMARY:OCR Classics in 20 British Museum Objects
DESCRIPTION:This programme of lectures is designed to support students and teachers taking GCSE and A level Classics Civilisation and Ancient History qualifications\, and is coordinated by Advocating Classical Education and the British Museum.\n\nFor all further information and to book go to: https://www.britishmuseum.org/school-lecture-classical-civilisation-and-ancient-history\n\nTroy: the World of the Hero\n\nFor Teachers \n\nThe British Museum’s exhibition on the ancient city of Troy reveals thrilling new dimensions on several components of the OCR qualification in both Classical Civilisation and Ancient History\, especially World of the Hero\, The Homeric World\, War and Warfare\, and Foundations of Rome. Teachers are invited to an event run by the Museum in partnership with the ACE Advocating Classics Education initiative at King’s College London. This combines a lecture by Professor Edith Hall on Homeric and Vergillian ideas of the hero with a free visit to the exhibition.\n\nMonday 13 January 2020            14.30 — 15.30\n\n\n\n\n\nOCR Classics in 20 British Museum Objects\n\nFor students and teachers\n\nThe British Museum houses a spectacular range of the objects prescribed in many of the components of the OCR qualifications in Classical Civilisation and Ancient History\, including the Parthenon sculptures\, the Cyrus Cylinder\, and images of Cleopatra. This event\, run in partnership by the Museum and the ACE Advocating Classics Education initiative at King’s College London\, provides teachers and their students with an exciting opportunity to look at\, learn about these objects—along with others relevant to the components—in the company of academic experts with rich experience of the OCR specifications.\n\nMonday 24 February 2020\n\n\n 	Session 1  GCSE Classical Civilisations              10.30 – 11.30\n 	Session 2  GCSE Ancient History                        11.30 – 12.30\n 	Session 3  A level Classical Civilisations             13.00 – 14.00\n 	Session 4  A level Ancient History                       14.00 – 15.00\n\n\n\n\n\n\nRoman Britain\n\nFor students and teachers\n\nThe Roman province of Britannia existed for nearly 400 years from the initial Roman invasion in AD 43 to the end of Roman control in the British Isles around AD 411. What impact did Roman rule have on the province? Using objects on display in the British Museum as primary evidence\, this presentation will consider examples of change and continuity during this period of British history and the picture of life in Roman Britain built up by archaeological finds and sites. Just how Roman was Roman Britain?\n\nMonday 16 March 2020            11.00— 12.00\n\nMonday 3 July 2020                 11.00— 12.00
URL:https://www.theclassicslibrary.com/event/ocr-classics-in-20-british-museum-objects/
LOCATION:British Museum\, Great Russell Street\, London\, WC1B 3DG\, United Kingdom
CATEGORIES:events
ATTACH;FMTTYPE=image/jpeg:https://www.theclassicslibrary.com/wp-content/uploads/2019/12/ACE.jpg
END:VEVENT
BEGIN:VEVENT
DTSTART;VALUE=DATE:20200226
DTEND;VALUE=DATE:20200229
DTSTAMP:20260424T111207
CREATED:20191105T150606Z
LAST-MODIFIED:20191105T150606Z
UID:45997-1582675200-1582934399@www.theclassicslibrary.com
SUMMARY:Dionysus in the Underworld (Bacchae & Frogs - King's Greek Play 2020)
DESCRIPTION:The 2020 KCL play is based on Euripides’ Bacchae and Aristophanes’ Frogs. \nIt will run 26-28th February. \nFurther information is available here… \nhttps://estore.kcl.ac.uk/conferences-and-events/academic-faculties/faculty-of-arts-humanities/department-of-classics/dionysus-in-the-underworld-bacchae-frogs-kings-greek-play-2020?sfns=mo \n 
URL:https://www.theclassicslibrary.com/event/dionysus-in-the-underworld-bacchae-frogs-kings-greek-play-2020/
LOCATION:King’s College\, London\, Strand\, London\, London\, WC2B 5RL \, United Kingdom
CATEGORIES:events
ATTACH;FMTTYPE=image/jpeg:https://www.theclassicslibrary.com/wp-content/uploads/2019/11/450FCC9F-1736-4733-AF56-497EEFED3FC7.jpeg
END:VEVENT
BEGIN:VEVENT
DTSTART;TZID=Europe/London:20200229T130000
DTEND;TZID=Europe/London:20200229T173000
DTSTAMP:20260424T111207
CREATED:20200122T122503Z
LAST-MODIFIED:20200122T122503Z
UID:46749-1582981200-1582997400@www.theclassicslibrary.com
SUMMARY:A Level and GCSE Ancient History Training
DESCRIPTION:A Level and GCSE Ancient History Training (also suitable for those teaching Democracy and the Athenians\, and Politics of the Late Republic from the A Level Classical Civilisation)\n\n \nSaturday 29th February\, 1:15 – 5:30pm\nPimlico Academy\, Lupus Street\, Pimlico\, SW1V 3AT\n \n\n\n\n\nClassics for All and Pimlico Academy would like to invite you to a FREE afternoon training session for Ancient History A Level and GCSE.  The information and topics covered are also suited for those teaching the Democracy and the Athenians and Politics of the Late Republic units in the Classical Civilisation A Level.\n\nThe exact structure of the afternoon is still to be confirmed\, but sessions will be led by two very experienced Ancient History teachers\, Peter Wright and Steve Mastin.\n\nRefreshments will be available during the afternoon\, and there will be an opportunity at the end to talk to each other more informally over a glass of wine.\n\nIf you would like to attend please register your interest here\, and I will confirm details of the event and sessions on offer soon.  Please spread the word to others you know of who might be interested – all are welcome.  If you have any questions\, please email Anna Bell (anna@classicsforall.org.uk).
URL:https://www.theclassicslibrary.com/event/a-level-and-gcse-ancient-history-training/
LOCATION:Pimlico Academy\, Lupus Street\, London\, SW1V 3AT\, United Kingdom
CATEGORIES:events
ATTACH;FMTTYPE=image/jpeg:https://www.theclassicslibrary.com/wp-content/uploads/2020/01/cfa.jpg
ORGANIZER;CN="Anna Bell":MAILTO:anna@classicsforall.org.uk
END:VEVENT
END:VCALENDAR