BEGIN:VCALENDAR
VERSION:2.0
PRODID:-//The Classics Library - ECPv6.15.20//NONSGML v1.0//EN
CALSCALE:GREGORIAN
METHOD:PUBLISH
X-WR-CALNAME:The Classics Library
X-ORIGINAL-URL:https://www.theclassicslibrary.com
X-WR-CALDESC:Events for The Classics Library
REFRESH-INTERVAL;VALUE=DURATION:PT1H
X-Robots-Tag:noindex
X-PUBLISHED-TTL:PT1H
BEGIN:VTIMEZONE
TZID:Europe/London
BEGIN:DAYLIGHT
TZOFFSETFROM:+0000
TZOFFSETTO:+0100
TZNAME:BST
DTSTART:20190331T010000
END:DAYLIGHT
BEGIN:STANDARD
TZOFFSETFROM:+0100
TZOFFSETTO:+0000
TZNAME:GMT
DTSTART:20191027T010000
END:STANDARD
BEGIN:DAYLIGHT
TZOFFSETFROM:+0000
TZOFFSETTO:+0100
TZNAME:BST
DTSTART:20200329T010000
END:DAYLIGHT
BEGIN:STANDARD
TZOFFSETFROM:+0100
TZOFFSETTO:+0000
TZNAME:GMT
DTSTART:20201025T010000
END:STANDARD
BEGIN:DAYLIGHT
TZOFFSETFROM:+0000
TZOFFSETTO:+0100
TZNAME:BST
DTSTART:20210328T010000
END:DAYLIGHT
BEGIN:STANDARD
TZOFFSETFROM:+0100
TZOFFSETTO:+0000
TZNAME:GMT
DTSTART:20211031T010000
END:STANDARD
END:VTIMEZONE
BEGIN:VEVENT
DTSTART;TZID=Europe/London:20200506T080000
DTEND;TZID=Europe/London:20200506T170000
DTSTAMP:20260424T235654
CREATED:20190621T103619Z
LAST-MODIFIED:20190621T103619Z
UID:45611-1588752000-1588784400@www.theclassicslibrary.com
SUMMARY:‘Women in the Trojan War’
DESCRIPTION:Wednesday 6th May\, 7pm – Dr Emily Hauser\n  \n\n‘Women in the Trojan War’\n \n\nIn this talk\, Emily will return to one of the oldest stories of Greek myth – the Trojan War – and ask what happens when we look at the story from the point of view of the women. What did Helen really look like? Did the Amazons really cut off one of their breasts to fight in battle at Troy? And who was the Amazon queen with whom Achilles fell in love – and\, according to some sources\, had a child? Bringing myth and history together\, Emily will explore what historical fiction can do for us in re-imagining the stories and the voices of the women of ancient Greek myth. Emily is an award-winning classicist\, Lecturer at the University of Exeter\, and the author of the acclaimed Golden Apple trilogy that retells the stories of the women of Greek myth. She has been featured on BBC Radio 4 Woman’s Hour and in The Guardian alongside Colm Tóibín and Natalie Haynes\, and her debut novel For the Most Beautiful was listed among the ‘28 Best Books for Summer’ in The Telegraph.\n\n \n\n\n\n \n\nAll talks will be held at Badminton School\, Peace Memorial Hall. Please email Barbara Bell (bmbellmini@aol.com) to register your interest. There are no tickets\, and talks are free for Bristol Classical Association members\, students\, and school pupils. There will be a cost of £5 for visitors. Refreshments available from 6.30pm.\n\n \n\nThe Bristol Classical Association AGM will be on November 12\, 2019\, 12.30-2.00pm.
URL:https://www.theclassicslibrary.com/event/women-in-the-trojan-war/
LOCATION:Badmington School\, Westbury Road\, Bristol\, BS9 3BA\, United Kingdom
CATEGORIES:events
ATTACH;FMTTYPE=image/jpeg:https://www.theclassicslibrary.com/wp-content/uploads/2018/08/Classical-Association.jpg
END:VEVENT
BEGIN:VEVENT
DTSTART;TZID=Europe/London:20200520T140000
DTEND;TZID=Europe/London:20200520T150000
DTSTAMP:20260424T235654
CREATED:20200424T122220Z
LAST-MODIFIED:20200424T122220Z
UID:47629-1589983200-1589986800@www.theclassicslibrary.com
SUMMARY:UCL Ancient World and Classics Virtual Taster Day
DESCRIPTION:From the organiser…\n\n \n\nDear Students and Teachers\,\n\nthe UCL Greek and Latin department invites you to the upcoming  UCL Ancient World and Classics Virtual Taster Day\, to be held virtually on Wednesday 20th May\, 2:00-3:30 pm. \n\n \n\n\nWhat can we learn from a Greek play? How does learning Latin help us to understand the modern languages of Europe and beyond? What can archaeological objects found in the Near East tell us about how people lived in the ancient world? At the upcoming UCL Ancient World and Classics taster day our lecturers will study closely these and related questions. They will give you a sense of what it is like to study Classics and the Ancient World at the undergraduate level at UCL.\n\n \n\nDuring the taster day\, you will learn about the degree-structure and the many exciting pathways you can follow. You will also learn about the departmental Greek play\, organised and run by students and performed at UCL’s Bloomsbury Theatre every year. You will listen to one 30 min long taster lecture by one of our departmental lecturers\, Dr. Rosie Harman\, providing you with a real flavour of what studying the Ancient World and Classics at the university level is like. You will also have the chance to meet (virtually) current undergraduates and ask them questions about their experience at UCL.\n\n \n\nTo register\, please follow this link: https://www.eventbrite.co.uk/e/ucl-classics-and-ancient-world-taster-day-iii-2020-tickets-103417071244\n\nIn addition to the taster day\, our lecturers continue to offer taster lectures on demand via video link. If you are interested in organising one of these in your school\, please get in touch with Elena Cagnoli Fiecconi (Outreach Officer and Lecturer in Ancient Philosophy) at e.fiecconi@ucl.ac.uk\n\n \n\nFinally\, if you are curious to learn more about some ancient readings that may help us to make sense of these difficult times\, see here some suggestions from our lecturers.\n\nLooking forward to meeting many of you at the taster day!\n\nall best Dr. Elena Cagnoli Fiecconi
URL:https://www.theclassicslibrary.com/event/ucl-ancient-world-and-classics-virtual-taster-day/
CATEGORIES:events
ATTACH;FMTTYPE=image/jpeg:https://www.theclassicslibrary.com/wp-content/uploads/2016/06/ucl-big.jpg
ORGANIZER;CN="Elena Fiecconi":MAILTO:e.fiecconi@ucl.ac.uk
END:VEVENT
BEGIN:VEVENT
DTSTART;TZID=Europe/London:20200528T130000
DTEND;TZID=Europe/London:20200528T140000
DTSTAMP:20260424T235654
CREATED:20191107T133621Z
LAST-MODIFIED:20191107T133621Z
UID:46051-1590670800-1590674400@www.theclassicslibrary.com
SUMMARY:Edith Hall Lectures at Gresham
DESCRIPTION:From Gresham….\n\n\n\nI thought your network would be interested in a series of three lectures about science in Ancient Greece by the classicist Professor Edith Hall\, who’s a visiting Professor at Gresham again this year. Hall is a superb lecturer. The lectures are first-come\, first-served\, but I should say that for anyone with schools links\, we can book some seats for school parties in the main hall.\n\n\n\nAll of our lectures are live-streamed online so you can watch them at a time and place to suit you.\n\n\n\nWith best wishes\n\n\n\nLucia Graves\n\n\n\nScience in Ancient Greece Edith Hall\, Visiting Professor of Classics https://www.gresham.ac.uk/series/science-in-ancient-greece/\n\n\n\nThursday 28 November 2019\, 1pm\, Barnard’s Inn Hall\n\n\n\nPhysics: its Birth in Greek Ionia \n\n\n\nThe study of the natural and physical world from a scientific viewpoint began in Greek cities on the western coast of Turkey around Miletus in about 600 BCE. The first scientists were known as physiologoi\, or men who discoursed about nature (physis). Each tried to put his various observations together in a way that constituted a coherent\, unified model. This lecture discusses the pioneering physical theories of Thales\, Anaximander\, Anaximenes\, Anaxagoras and Democritus.\n\n\n\nhttps://www.gresham.ac.uk/lectures-and-events/birth-of-physics\n\n\n\nThursday 5 March 2020\, 1pm\, Barnard’s Inn Hall\n\n\n\nEngineering: Archimedes of Syracuse\n\n\n\nIn the 3rd century BCE\, the Sicilian polymath Archimedes advanced significantly human understanding of mathematics\, geometry and astronomy. By applying his discoveries to practical problems and physical phenomena\, he became the founder of statics and hydrostatics\, demonstrating how levers work and in turn creating unprecedented war machines such as ‘Archimedes’ claw’ and ‘heat-ray’.\n\n\n\nhttps://www.gresham.ac.uk/lectures-and-events/archimedes\n\n\n\nThursday 28 May 2020\, 1pm\, Barnard’s Inn Hall\n\n\n\nHippocrates and Ancient Greek Medicine\n\n\n\nThe birth of rational medicine contributed to the scientific revolution which occurred amongst eastern Greek communities in the 7th-to-5th centuries BCE. Medical professionals still take the oath of the ancient Greek doctor Hippocrates of Kos\, preserved along with his medical treatises. They are a consummation of many decades of medical practice and empirical observation\, showing methods similar to the eastern Aegean natural scientists in seeking physical causes rather than supernatural explanations for natural phenomena\, whether related to geology\, weather\, disease or injury.   https://www.gresham.ac.uk/lectures-and-events/ancient-greek-medicine
URL:https://www.theclassicslibrary.com/event/edith-hall-lectures-at-gresham-3/
LOCATION:Barnard’s Inn Hall\, Holborn\, London\, EC1N 2HH\, United Kingdom
CATEGORIES:events
ATTACH;FMTTYPE=image/jpeg:https://www.theclassicslibrary.com/wp-content/uploads/2017/09/gresham-college-big.jpg
END:VEVENT
END:VCALENDAR