BEGIN:VCALENDAR
VERSION:2.0
PRODID:-//The Classics Library - ECPv6.15.20//NONSGML v1.0//EN
CALSCALE:GREGORIAN
METHOD:PUBLISH
X-ORIGINAL-URL:https://www.theclassicslibrary.com
X-WR-CALDESC:Events for The Classics Library
REFRESH-INTERVAL;VALUE=DURATION:PT1H
X-Robots-Tag:noindex
X-PUBLISHED-TTL:PT1H
BEGIN:VTIMEZONE
TZID:Europe/London
BEGIN:DAYLIGHT
TZOFFSETFROM:+0000
TZOFFSETTO:+0100
TZNAME:BST
DTSTART:20190331T010000
END:DAYLIGHT
BEGIN:STANDARD
TZOFFSETFROM:+0100
TZOFFSETTO:+0000
TZNAME:GMT
DTSTART:20191027T010000
END:STANDARD
BEGIN:DAYLIGHT
TZOFFSETFROM:+0000
TZOFFSETTO:+0100
TZNAME:BST
DTSTART:20200329T010000
END:DAYLIGHT
BEGIN:STANDARD
TZOFFSETFROM:+0100
TZOFFSETTO:+0000
TZNAME:GMT
DTSTART:20201025T010000
END:STANDARD
BEGIN:DAYLIGHT
TZOFFSETFROM:+0000
TZOFFSETTO:+0100
TZNAME:BST
DTSTART:20210328T010000
END:DAYLIGHT
BEGIN:STANDARD
TZOFFSETFROM:+0100
TZOFFSETTO:+0000
TZNAME:GMT
DTSTART:20211031T010000
END:STANDARD
END:VTIMEZONE
BEGIN:VEVENT
DTSTART;TZID=Europe/London:20200614T190000
DTEND;TZID=Europe/London:20200614T210000
DTSTAMP:20260425T035634
CREATED:20200612T133013Z
LAST-MODIFIED:20200612T133013Z
UID:47985-1592161200-1592168400@www.theclassicslibrary.com
SUMMARY:'Medea' Live (Wendy Haines)
DESCRIPTION:https://youtu.be/LehJ8TP1vAM\n  \nBy Jove Theatre presents Medea by Wendy Haines in a live broadcast at 7PM BST\, on 14 June 2020.\n  \nThe cast of Medea features SJ Brady\, Sinead Costelloe\, and Rosa Whicker. It is directed by David Bullen. Publicity and technical coordination by Nicole Savin.
URL:https://www.theclassicslibrary.com/event/medea-live-wendy-haines/
CATEGORIES:events
ATTACH;FMTTYPE=image/jpeg:https://www.theclassicslibrary.com/wp-content/uploads/2020/06/medea-live.jpg
END:VEVENT
BEGIN:VEVENT
DTSTART;VALUE=DATE:20200615
DTEND;VALUE=DATE:20200725
DTSTAMP:20260425T035634
CREATED:20191105T144757Z
LAST-MODIFIED:20191105T144757Z
UID:45994-1592179200-1595635199@www.theclassicslibrary.com
SUMMARY:American Academy in Rome: Classical Summer School
DESCRIPTION:Applications are now open for the AAR Classical Summer School. It runs from 15th June to 24th July. \nFurther information is available here… \nhttps://www.aarome.org/apply/summer-programs/classical-summer-schoolhttps://www.aarome.org/apply/summer-programs/classical-summer-school
URL:https://www.theclassicslibrary.com/event/american-academy-in-rome-classical-summer-school/
LOCATION:American Academy in Rome\, Via Angelo Masina 5\, 00153\, Rome\, Italy
CATEGORIES:events
ATTACH;FMTTYPE=image/jpeg:https://www.theclassicslibrary.com/wp-content/uploads/2019/11/1759950A-3B8A-460F-AEC4-214233E1FAB5.jpeg
END:VEVENT
BEGIN:VEVENT
DTSTART;TZID=Europe/London:20200617T070000
DTEND;TZID=Europe/London:20200617T193500
DTSTAMP:20260425T035634
CREATED:20200602T145005Z
LAST-MODIFIED:20200602T145005Z
UID:47897-1592377200-1592422500@www.theclassicslibrary.com
SUMMARY:‘Skeins and Skins: Weaving and Revealing with Ovid in Renaissance Painting’\, The Latin Programme Symposium
DESCRIPTION:From The Latin Programme…\n\n\n\n\n\nJoin us on the 17th June for a lecture by Dr Tim Smith-Laing entitled ‘Skeins and Skins: Weaving and Revealing with Ovid in Renaissance Painting’.\n\n\n\n\n\nDate: 17th June\nTime: 7 – 7.35pm\nVenue: this is an online event. Details for a Zoom meeting will be sent via email on the morning of the 17th of June.\n\n\n\n\n\n\n\n\n\nFurther details: https://www.thelatinprogramme.co.uk/symposium2020
URL:https://www.theclassicslibrary.com/event/skeins-and-skins-weaving-and-revealing-with-ovid-in-renaissance-painting-the-latin-programme-symposium/
CATEGORIES:events
ATTACH;FMTTYPE=image/jpeg:https://www.theclassicslibrary.com/wp-content/uploads/2020/06/13479A9C-FA6D-4B8D-8703-CCFEBA6AB8D0.jpeg
END:VEVENT
END:VCALENDAR